Workbook
Name _Toc102114: Sumarizácia!$C$34

Sheet Úvod
A6: Príloha pre výpočet TCO a čistej súčasnej hodnoty z projektu
A7: Pre projekty zamerané na služby agendových informačných systémov
A8: Metodický pokyn k vypracovaniu finančnej analýzy projektu, analýzy nákladov a prínosov projektu a finančnej analýzy žiadateľa o NFP v programovom období 2014 – 2020.
A19: Názov riešenia | C19: Manažment údajov Mesta Liptovský Mikuláš
A20: Číslo projektu ITMS
A21: Kód ISVS z MetaIS
A22: Organizácia | C22: Mesto Liptovský Mikuláš
A23: Ulica | C23: Štúrova 1989/41
A24: PSČ | C24: 031 42 Liptovský Mikuláš
A25: Web | C25: www.mikulas.sk
A26: IČO | C26: 315524
A27: Spracovateľ | C27: Ing. Dušan Močarník
A28: Kontakt na spracovateľa | C28: dusan.mocarnik@mikulas.sk, tel. : +421 44 5565 169
A30: Jednotlivé informácie sú farebne odlíšené nasledovne:
A31: Hlavička tabuľky | C31: Popisná informácia | E31: Automaticky vypočitavané hodnoty | G31: Miesto na vpisovanie vlastných hodnôt | I31: Preddefinované konštanty

Sheet Zoznam hárkov
A1: Zoznam hárkov s vysvetlením a pokynmi
A2: Hárok | B2: Účel hárku | C2: Vstupy od zhotoviteľa (žlté polia)
A3: Sumarizácia | B3: Sumarizácia výsledkov CBA podľa prínosov a modulov | C3: Vymenovanie a popísanie nevyčíslených spoločenských prínosov
A4: CBA | B4: Výsledky CBA na agregátnej úrovni, výpočet BCR | C4: irelevantné
A5: Analyza citlivosti | B5: Automatický výpočet citlivosti výsledkov CBA na zmeny parametrov | C5: irelevantné
A6: Prínosy | B6: Výpočet prínosov projektu na základe vstupných parametrov | C6: irelevantné
A7: Výdavky | B7: Výpočet výdavkov projektu na základe vstupných parametrov | C7: spracované
A8: Parametre | B8: Vstupné parametre pre jednotlivé moduly/životné situácie: počty podaní, trvania času | C8: nespracovávané
A9: TCO | B9: Zhrnutie celkových nákladov na vlastníctvo oboch alternatív projektu | C9: spracované
A10: TCO AS IS - SW | B10: Náklady na vlastníctvo softvéru alternatívy 1 (AS IS) | C10: irelevantné
A11: TCO AS IS - HW | B11: Náklady na vlastníctvo hardvéru alternatívy 1 (AS IS) | C11: irelevantné
A12: TCO TO BE - SW | B12: Náklady na vlastníctvo softvéru alternatívy 2 (TO BE) | C12: spracované
A13: TCO TO BE - HW | B13: Náklady na vlastníctvo hardvéru alternatívy 2 (TO BE) | C13: spracované
... A23: Sadzby | B23: Zdroj dát pre odhad časovej náročnosti budúcich procesov. | C23: spracované

Sheet Sumarizácia
A1: TO BE - AS IS (€, NPV) | R1: TO BE - AS IS (€, SUM)
D2: CG ISS | E2: CG DISS | F2: CG eGOV | G2: Konsolidácia údajov mesta | H2: Personalizované dáta občanov | I2: Napojenia na externé IS | J2: CG GISam | K2: Open data mesta | L2: Systémový SW (DLP,PKI a iné) | M2: Integrácie a migrácie (modulov) + súlad so zákonom 69/2018 | N2: Spolu | U2: CG ISS | V2: CG DISS | W2: CG eGOV | X2: Konsolidácia údajov mesta | Y2: Personalizované dáta občanov | Z2: Napojenia na externé IS | AA2: CG GISam | AB2: Open data mesta | AC2: Systémový SW (DLP,PKI a iné) | AD2: Integrácie a migrácie (modulov) + súlad so zákonom 69/2018 | AE2: Spolu
A3: Náklady s DPH | D3: =D4+D5+D9+D13+D14 -> 80000 | E3: =E4+E5+E9+E13+E14 -> 106862.57 | F3: =F4+F5+F9+F13+F14 -> 0 | G3: =G4+G5+G9+G13+G14 -> 70539.108 | H3: =H5+H9+H13+H14 -> 42107.822 | I3: =I4+I5+I9+I13+I14 -> 215293.86 | J3: =J4+J5+J9+J13+J14 -> 0 | K3: =K4+K5+K9+K13+K14 -> 60539.108 | L3: =L4+L5+L9+L13+L14 -> 578850.51 | M3: =M4+M5+M9+M13+M14 -> 325524.31 | N3: =SUM(D3:M3) -> 1479717.3 | R3: Náklady s DPH | U3: =U4+U5+U9+U13+U14 -> 80000 | V3: =V4+V5+V9+V13+V14 -> 122000 | W3: =W4+W5+W9+W13+W14 -> 0 | X3: =X4+X5+X9+X13+X14 -> 80000 | Y3: =Y5+Y9+Y13+Y14 -> 44000 | Z3: =Z4+Z5+Z9+Z13+Z14 -> 238000 | AA3: =AA4+AA5+AA9+AA13+AA14 -> 0 | AB3: =AB4+AB5+AB9+AB13+AB14 -> 70000 | AC3: =AC4+AC5+AC9+AC13+AC14 -> 638000 | AD3: =AD5+AD9+AD13+AD14 -> 343500 | AE3: =SUM(U3:AD3) -> 1615500
B4: Všeobecný materiál | D4: 0 | E4: 0 | F4: 0 | G4: 0 | H4: 0 | I4: 0 | J4: 0 | K4: 0 | L4: 0 | M4: 0 | N4: =SUM(D4:H4) -> 0 | S4: Všeobecný materiál | U4: =SUM('Parametre - Agendové IS'!I107:I116) -> 0 | V4: =SUM('Parametre - Agendové IS'!L107:L116) -> 0 | W4: =SUM('Parametre - Agendové IS'!O107:O116) -> 0 | Y4: 0 | Z4: =SUM('Parametre - Agendové IS'!N107:N116) -> 0 | AA4: =SUM('Parametre - Agendové IS'!Q107:Q116) -> 0 | AB4: =SUM('Parametre - Agendové IS'!T107:T116) -> 0 | AC4: 0 | AD4: 0 | AE4: 0
B5: IT - CAPEX | D5: =SUM(D6:D8) -> 80000 | E5: =SUM(E6:E8) -> 50000 | F5: =SUM(F6:F8) -> 0 | G5: =SUM(G6:G8) -> 35000 | H5: =SUM(H6:H8) -> 35000 | I5: =SUM(I6:I8) -> 130000 | J5: =SUM(J6:J8) -> 0 | K5: =SUM(K6:K8) -> 25000 | L5: =SUM(L6:L8) -> 356660 | M5: =SUM(M6:M8)+M13 -> 249000 | N5: =SUM(D5:M5) -> 960660 | S5: IT - CAPEX | U5: =SUM(U6:U8) -> 80000 | V5: =SUM(V6:V8) -> 50000 | W5: =SUM(W6:W8) -> 0 | X5: =SUM(X6:X8) -> 35000 | Y5: =SUM(Y6:Y8) -> 35000 | Z5: =SUM(Z6:Z8) -> 130000 | AA5: =SUM(AA6:AA8) -> 0 | AB5: =SUM(AB6:AB8) -> 25000 | AC5: =SUM(AC6:AC8) -> 356660 | AD5: =SUM(AD6:AD8)+AD13 -> 249000 | AE5: =SUM(U5:AD5) -> 960660
C6: Služby | D6: ='TCO TO BE - SW'!F15+NPV(Faktory!$D$5,'TCO TO BE - SW'!F16:F24) -> 80000 | E6: ='TCO TO BE - SW'!G15+NPV(Faktory!$D$5,'TCO TO BE - SW'!G16:G24) -> 50000 | F6: ='TCO TO BE - SW'!H15+NPV(Faktory!$D$5,'TCO TO BE - SW'!H16:H24) -> 0 | G6: ='TCO TO BE - SW'!I15+NPV(Faktory!$D$5,'TCO TO BE - SW'!I16:I24) -> 15000 | H6: ='TCO TO BE - SW'!J15+NPV(Faktory!$D$5,'TCO TO BE - SW'!J16:J24) -> 30000 | I6: ='TCO TO BE - SW'!K15+NPV(Faktory!$D$5,'TCO TO BE - SW'!K16:K24) -> 105000 | J6: ='TCO TO BE - SW'!L15+NPV(Faktory!$D$5,'TCO TO BE - SW'!L16:L24) -> 0 | K6: ='TCO TO BE - SW'!M15+NPV(Faktory!$D$5,'TCO TO BE - SW'!M16:M24) -> 20000 | ... M6: ='TCO TO BE - SW'!O15+NPV(Faktory!$D$5,'TCO TO BE - SW'!O16:O24) -> 180000 | N6: =SUM(D6:M6) -> 768000 | T6: Služby | U6: ='TCO TO BE - SW'!F15 -> 80000 | V6: ='TCO TO BE - SW'!G15 -> 50000 | W6: ='TCO TO BE - SW'!H15 -> 0 | X6: ='TCO TO BE - SW'!I15 -> 15000 | Y6: ='TCO TO BE - SW'!J15 -> 30000 | Z6: ='TCO TO BE - SW'!K15 -> 105000 | AA6: ='TCO TO BE - SW'!L15 -> 0 | AB6: ='TCO TO BE - SW'!M15 -> 20000 | ... AD6: ='TCO TO BE - SW'!O15 -> 180000 | AE6: =SUM(U6:AD6) -> 768000
C7: SW | D7: ='TCO TO BE - SW'!F5+NPV(Faktory!$D$5,'TCO TO BE - SW'!F6:F14) -> 0 | E7: ='TCO TO BE - SW'!G5+NPV(Faktory!$D$5,'TCO TO BE - SW'!G6:G14) -> 0 | F7: ='TCO TO BE - SW'!H5+NPV(Faktory!$D$5,'TCO TO BE - SW'!H6:H14) -> 0 | G7: ='TCO TO BE - SW'!I5+NPV(Faktory!$D$5,'TCO TO BE - SW'!I6:I14) -> 20000 | H7: ='TCO TO BE - SW'!J5+NPV(Faktory!$D$5,'TCO TO BE - SW'!J6:J14) -> 5000 | I7: ='TCO TO BE - SW'!K5+NPV(Faktory!$D$5,'TCO TO BE - SW'!K6:K14) -> 25000 | J7: ='TCO TO BE - SW'!L5+NPV(Faktory!$D$5,'TCO TO BE - SW'!L6:L14) -> 0 | K7: ='TCO TO BE - SW'!M5+NPV(Faktory!$D$5,'TCO TO BE - SW'!M6:M14) -> 5000 | ... M7: ='TCO TO BE - SW'!O5+NPV(Faktory!$D$5,'TCO TO BE - SW'!O6:O14) -> 0 | N7: =SUM(D7:M7) -> 123660 | T7: SW | U7: ='TCO TO BE - SW'!F5 -> 0 | V7: ='TCO TO BE - SW'!G5 -> 0 | W7: ='TCO TO BE - SW'!H15 -> 0 | X7: ='TCO TO BE - SW'!I5 -> 20000 | Y7: ='TCO TO BE - SW'!J5 -> 5000 | Z7: ='TCO TO BE - SW'!K5 -> 25000 | AA7: ='TCO TO BE - SW'!L5 -> 0 | AB7: ='TCO TO BE - SW'!M5 -> 5000 | AC7: ='TCO TO BE - SW'!N5 -> 68660 | AD7: ='TCO TO BE - SW'!O5 -> 0 | AE7: =SUM(U7:AD7) -> 123660
C8: HW | D8: =('TCO TO BE - HW'!F4+NPV(Faktory!$D$5,'TCO TO BE - HW'!F5:F13)+'TCO TO BE - HW'!F14+NPV(Faktory!$D$5,'TCO TO BE - HW'!F15:F23)+'TCO TO BE - HW'!F24+NPV(Faktory!$D$5,'TCO TO BE - HW'!F25:F33)) -> 0 | E8: =('TCO TO BE - HW'!G4+NPV(Faktory!$D$5,'TCO TO BE - HW'!G5:G13)+'TCO TO BE - HW'!G14+NPV(Faktory!$D$5,'TCO TO BE - HW'!G15:G23)+'TCO TO BE - HW'!G24+NPV(Faktory!$D$5,'TCO TO BE - HW'!G25:G33)) -> 0 | F8: =('TCO TO BE - HW'!H4+NPV(Faktory!$D$5,'TCO TO BE - HW'!H5:H13)+'TCO TO BE - HW'!H14+NPV(Faktory!$D$5,'TCO TO BE - HW'!H15:H23)+'TCO TO BE - HW'!H24+NPV(Faktory!$D$5,'TCO TO BE - HW'!H25:H33)) -> 0 | G8: =('TCO TO BE - HW'!I4+NPV(Faktory!$D$5,'TCO TO BE - HW'!I5:I13)+'TCO TO BE - HW'!I14+NPV(Faktory!$D$5,'TCO TO BE - HW'!I15:I23)+'TCO TO BE - HW'!I24+NPV(Faktory!$D$5,'TCO TO BE - HW'!I25:I33)) -> 0 | H8: =('TCO TO BE - HW'!J4+NPV(Faktory!$D$5,'TCO TO BE - HW'!J5:J13)+'TCO TO BE - HW'!J14+NPV(Faktory!$D$5,'TCO TO BE - HW'!J15:J23)+'TCO TO BE - HW'!J24+NPV(Faktory!$D$5,'TCO TO BE - HW'!J25:J33)) -> 0 | I8: =('TCO TO BE - HW'!K5+NPV(Faktory!$D$5,'TCO TO BE - HW'!K5:K13)+'TCO TO BE - HW'!K14+NPV(Faktory!$D$5,'TCO TO BE - HW'!K15:K23)+'TCO TO BE - HW'!K24+NPV(Faktory!$D$5,'TCO TO BE - HW'!K25:K33)) -> 0 | J8: =('TCO TO BE - HW'!L4+NPV(Faktory!$D$5,'TCO TO BE - HW'!L5:L13)+'TCO TO BE - HW'!L14+NPV(Faktory!$D$5,'TCO TO BE - HW'!L15:L23)+'TCO TO BE - HW'!L24+NPV(Faktory!$D$5,'TCO TO BE - HW'!L25:L33)) -> 0 | K8: =('TCO TO BE - HW'!M4+NPV(Faktory!$D$5,'TCO TO BE - HW'!M5:M13)+'TCO TO BE - HW'!M14+NPV(Faktory!$D$5,'TCO TO BE - HW'!M15:M23)+'TCO TO BE - HW'!M24+NPV(Faktory!$D$5,'TCO TO BE - HW'!M25:M33)) -> 0 | L8: =('TCO TO BE - HW'!N4+NPV(Faktory!$D$5,'TCO TO BE - HW'!N5:N13)+'TCO TO BE - HW'!N14+NPV(Faktory!$D$5,'TCO TO BE - HW'!N15:N23)+'TCO TO BE - HW'!N24+NPV(Faktory!$D$5,'TCO TO BE - HW'!N25:N33)) -> 0 | M8: ='TCO TO BE - HW'!K4+NPV(Faktory!$D$5,'TCO TO BE - HW'!K5:K13) -> 60000 | N8: =SUM(D8:M8) -> 60000 | T8: HW | U8: ='TCO TO BE - HW'!F3 -> 0 | V8: ='TCO TO BE - HW'!G3 -> 0 | W8: ='TCO TO BE - HW'!H3 -> 0 | X8: ='TCO TO BE - HW'!I3 -> 0 | Y8: 0 | Z8: 0 | AA8: 0 | AB8: ='TCO TO BE - HW'!M3 -> 0 | AC8: ='TCO TO BE - HW'!N3 -> 0 | AD8: ='TCO TO BE - HW'!K4 -> 60000 | AE8: =SUM(U8:AD8) -> 60000
B9: IT - OPEX | D9: =SUM(D10:D12) -> 0 | E9: =SUM(E10:E12) -> 56862.573 | F9: =SUM(F10:F12) -> 0 | G9: =SUM(G10:G12) -> 35539.108 | H9: =SUM(H10:H12) -> 7107.8217 | I9: =SUM(I10:I12) -> 85293.86 | J9: =SUM(J10:J12) -> 0 | K9: =SUM(K10:K12) -> 35539.108 | ... M9: =SUM(M10:M12) -> 67524.306 | N9: =SUM(D9:M9) -> 510057.28 | S9: IT - OPEX | U9: =SUM(U10:U12) -> 0 | V9: =SUM(V10:V12) -> 72000 | W9: =SUM(W10:W12) -> 0 | X9: =SUM(X10:X12) -> 45000 | Y9: =SUM(Y10+Y11) -> 9000 | Z9: =SUM(Z10:Z12) -> 108000 | AA9: =SUM(AA10:AA12) -> 0 | AB9: =SUM(AB10:AB12) -> 45000 | AC9: =SUM(AC10:AC12) -> 281340 | AD9: =SUM(AD10+AD11) -> 85500 | AE9: =SUM(U9:AD9) -> 645840
C10: Služby | D10: ='TCO TO BE - SW'!F58+NPV(Faktory!$D$5,'TCO TO BE - SW'!F59:F67) -> 0 | E10: ='TCO TO BE - SW'!G58+NPV(Faktory!$D$5,'TCO TO BE - SW'!G59:G67) -> 56862.573 | F10: ='TCO TO BE - SW'!H58+NPV(Faktory!$D$5,'TCO TO BE - SW'!H59:H67) -> 0 | G10: ='TCO TO BE - SW'!I58+NPV(Faktory!$D$5,'TCO TO BE - SW'!I59:I67) -> 35539.108 | H10: ='TCO TO BE - SW'!J58+NPV(Faktory!$D$5,'TCO TO BE - SW'!J59:J67) -> 7107.8217 | I10: ='TCO TO BE - SW'!K58+NPV(Faktory!$D$5,'TCO TO BE - SW'!K59:K67) -> 85293.86 | J10: ='TCO TO BE - SW'!L58+NPV(Faktory!$D$5,'TCO TO BE - SW'!L59:L67) -> 0 | K10: ='TCO TO BE - SW'!M58+NPV(Faktory!$D$5,'TCO TO BE - SW'!M59:M67) -> 35539.108 | L10: ='TCO TO BE - SW'!N58+NPV(Faktory!$D$5,'TCO TO BE - SW'!N59:N67) -> 174852.41 | M10: ='TCO TO BE - SW'!O58+NPV(Faktory!$D$5,'TCO TO BE - SW'!O59:O67)+'TCO TO BE - SW'!O109+NPV(Faktory!$D$5,'TCO TO BE - SW'!O110:O118) -> 67524.306 | N10: =SUM(D10:M10) -> 462719.19 | T10: Služby | U10: ='TCO TO BE - SW'!F69 -> 0 | V10: ='TCO TO BE - SW'!G59*9 -> 72000 | W10: ='TCO TO BE - SW'!H59 -> 0 | X10: ='TCO TO BE - SW'!I59*9 -> 45000 | Y10: ='TCO TO BE - SW'!J57 -> 9000 | Z10: ='TCO TO BE - SW'!K59*9 -> 108000 | AA10: ='TCO TO BE - SW'!L59 -> 0 | AB10: ='TCO TO BE - SW'!M59*9 -> 45000 | AC10: ='TCO TO BE - SW'!N59*9 -> 221400 | AD10: ='TCO TO BE - SW'!O59*9+'TCO TO BE - SW'!O110*9 -> 85500 | AE10: =SUM(U10:AD10) -> 585900
C11: SW | D11: ='TCO TO BE - SW'!F68+NPV(Faktory!$D$5,'TCO TO BE - SW'!F69:F77) -> 0 | E11: ='TCO TO BE - SW'!G68+NPV(Faktory!$D$5,'TCO TO BE - SW'!G69:G77) -> 0 | F11: ='TCO TO BE - SW'!H68+NPV(Faktory!$D$5,'TCO TO BE - SW'!H69:H77) -> 0 | G11: ='TCO TO BE - SW'!I68+NPV(Faktory!$D$5,'TCO TO BE - SW'!I69:I77) -> 0 | H11: ='TCO TO BE - SW'!J68+NPV(Faktory!$D$5,'TCO TO BE - SW'!J69:J77) -> 0 | I11: ='TCO TO BE - SW'!K68+NPV(Faktory!$D$5,'TCO TO BE - SW'!K69:K77) -> 0 | J11: ='TCO TO BE - SW'!L68+NPV(Faktory!$D$5,'TCO TO BE - SW'!L69:L77) -> 0 | K11: ='TCO TO BE - SW'!M68+NPV(Faktory!$D$5,'TCO TO BE - SW'!M69:M77) -> 0 | ... M11: ='TCO TO BE - SW'!O68+NPV(Faktory!$D$5,'TCO TO BE - SW'!O69:O77) -> 0 | N11: =SUM(D11:M11) -> 47338.092 | T11: SW | U11: ='TCO TO BE - SW'!F69 -> 0 | V11: ='TCO TO BE - SW'!G69 -> 0 | W11: ='TCO TO BE - SW'!H69 -> 0 | X11: ='TCO TO BE - SW'!I69 -> 0 | Y11: ='TCO TO BE - SW'!J6*9 -> 0 | Z11: ='TCO TO BE - SW'!J69 -> 0 | AA11: ='TCO TO BE - SW'!L69 -> 0 | AB11: ='TCO TO BE - SW'!M69 -> 0 | AC11: ='TCO TO BE - SW'!N69*9 -> 59940 | AD11: ='TCO TO BE - SW'!O6*9 -> 0 | AE11: =SUM(U11:AD11) -> 59940
C12: HW | D12: 0 | E12: 0 | F12: 0 | G12: 0 | H12: 0 | I12: 0 | J12: 0 | K12: 0 | L12: 0 | M12: 0 | N12: 0 | T12: HW | U12: ='TCO TO BE - HW'!F34 -> 0 | V12: ='TCO TO BE - HW'!G34 -> 0 | W12: ='TCO TO BE - HW'!H34 -> 0 | X12: ='TCO TO BE - HW'!I34 -> 0 | Y12: 0 | Z12: ='TCO TO BE - HW'!K34 -> 0 | AA12: ='TCO TO BE - HW'!L34 -> 0 | AB12: ='TCO TO BE - HW'!M34 -> 0 | AC12: ='TCO TO BE - HW'!N34 -> 0 | AD12: 0 | AE12: =SUM(U12:AD12) -> 0
B13: Riadenie projektu | D13: 0 | E13: 0 | F13: 0 | G13: 0 | H13: 0 | I13: 0 | J13: 0 | K13: 0 | L13: 0 | M13: ='TCO TO BE - SW'!O130+NPV(Faktory!$D$5,'TCO TO BE - SW'!O131:O140) -> 9000 | N13: =SUM(D13:M13) -> 9000 | S13: Riadenie projektu | U13: 0 | V13: 0 | W13: 0 | X13: 0 | Y13: 0 | Z13: 0 | AA13: 0 | AB13: 0 | AC13: 0 | AD13: ='TCO TO BE - SW'!O130 -> 9000 | AE13: =SUM(U13:AD13) -> 9000
B14: Výstupné náklady | D14: 0 | E14: 0 | F14: 0 | G14: 0 | H14: 0 | I14: 0 | J14: 0 | K14: 0 | L14: 0 | M14: 0 | N14: =SUM(D14:M14) -> 0 | S14: Výstupné náklady | U14: 0 | V14: 0 | W14: 0 | X14: 0 | Y14: 0 | Z14: 0 | AA14: 0 | AB14: 0 | AC14: 0 | AD14: 0 | AE14: =SUM(U14:AD14) -> 0
A15: Prínosy | D15: =D16+D19 -> 0 | E15: =E16+E19 -> 0 | F15: =F16+F19 -> 0 | G15: =G16+G19 -> 0 | I15: =I16+I19 -> 0 | J15: =J16+J19 -> 0 | K15: =K16+K19 -> 0 | L15: =L16+L19 -> 0 | M15: =M16+M19 -> 0 | N15: =SUM(D15:G15) -> 0 | R15: Prínosy | U15: N/A | V15: N/A | W15: N/A | X15: N/A | Y15: N/A | Z15: N/A | AA15: N/A | AB15: N/A | AC15: N/A | AD15: N/A | AE15: N/A
B16: Finančné prínosy | D16: =D17+D18 -> 0 | E16: =E17+E18 -> 0 | F16: =F17+F18 -> 0 | G16: =G17+G18 -> 0 | H16: =H17+H18 -> 0 | I16: =I17+I18 -> 0 | J16: =J17+J18 -> 0 | K16: =K17+K18 -> 0 | ... M16: =M17+M18 -> 0 | N16: =SUM(D16:G16) -> 0 | S16: Finančné prínosy | U16: N/A | V16: N/A | W16: N/A | X16: N/A | Y16: N/A | Z16: N/A | AA16: N/A | AB16: N/A | AC16: N/A | AD16: N/A | AE16: N/A
C17: Administratívne poplatky | D17: ='Parametre - Agendové IS'!I117+NPV(Faktory!$D$3,'Parametre - Agendové IS'!I118:I126) -> 0 | E17: ='Parametre - Agendové IS'!L117+NPV(Faktory!$D$3,'Parametre - Agendové IS'!L118:L126) -> 0 | F17: ='Parametre - Agendové IS'!O117+NPV(Faktory!$D$3,'Parametre - Agendové IS'!O118:O126) -> 0 | G17: 0 | H17: 0 | I17: ='Parametre - Agendové IS'!N117+NPV(Faktory!$D$3,'Parametre - Agendové IS'!N118:N126) -> 0 | J17: ='Parametre - Agendové IS'!Q117+NPV(Faktory!$D$3,'Parametre - Agendové IS'!Q118:Q126) -> 0 | K17: ='Parametre - Agendové IS'!T117+NPV(Faktory!$D$3,'Parametre - Agendové IS'!T118:T126) -> 0 | L17: 0 | M17: ='Parametre - Agendové IS'!V117+NPV(Faktory!$D$3,'Parametre - Agendové IS'!V118:V126) -> 0 | N17: =SUM(D17:G17) -> 0 | T17: Administratívne poplatky | U17: N/A | V17: N/A | W17: N/A | X17: N/A | Y17: N/A | Z17: N/A | AA17: N/A | AB17: N/A | AC17: N/A | AD17: N/A | AE17: N/A
C18: Ostatné daňové a nedaňové príjmy | D18: 0 | E18: 0 | F18: 0 | G18: 0 | H18: 0 | I18: 0 | J18: 0 | K18: 0 | L18: 0 | M18: 0 | N18: ='Prínosy - Agendové IS'!G15 -> 0 | T18: Ostatné daňové a nedaňové príjmy | U18: N/A | V18: N/A | W18: N/A | X18: N/A | Y18: N/A | Z18: N/A | AA18: N/A | AB18: N/A | AC18: N/A | AD18: N/A | AE18: N/A
B19: Ekonomické prínosy | D19: =D20+D21+D23 -> 0 | E19: =E20+E21+E23 -> 0 | F19: =F20+F21+F23 -> 0 | G19: =G20+G21+G23 -> 0 | H19: =H20+H21+H23 -> 0 | I19: =I20+I21+I23 -> 0 | J19: =J20+J21+J23 -> 0 | K19: =K20+K21+K23 -> 0 | ... M19: =M20+M21+M23 -> 0 | N19: =SUM(D19:G19) -> 0 | S19: Ekonomické prínosy | U19: N/A | V19: N/A | W19: N/A | X19: N/A | Y19: N/A | Z19: N/A | AA19: N/A | AB19: N/A | AC19: N/A | AD19: N/A | AE19: N/A
C20: Občania (€) | D20: ='Parametre - Agendové IS'!I97+NPV(Faktory!$D$5,'Parametre - Agendové IS'!I98:I106) -> 0 | E20: ='Parametre - Agendové IS'!L97+NPV(Faktory!$D$5,'Parametre - Agendové IS'!L98:L106) -> 0 | F20: ='Parametre - Agendové IS'!O97+NPV(Faktory!$D$5,'Parametre - Agendové IS'!O98:O106) -> 0 | G20: 0 | H20: 0 | I20: ='Parametre - Agendové IS'!N97+NPV(Faktory!$D$5,'Parametre - Agendové IS'!N98:N106) -> 0 | J20: ='Parametre - Agendové IS'!Q97+NPV(Faktory!$D$5,'Parametre - Agendové IS'!Q98:Q106) -> 0 | K20: ='Parametre - Agendové IS'!T97+NPV(Faktory!$D$5,'Parametre - Agendové IS'!T98:T106) -> 0 | L20: 0 | M20: ='Parametre - Agendové IS'!V97+NPV(Faktory!$D$5,'Parametre - Agendové IS'!V98:V106) -> 0 | N20: =SUM(D20:G20) -> 0 | T20: Občania (€) | U20: N/A | V20: N/A | W20: N/A | X20: N/A | Y20: N/A | Z20: N/A | AA20: N/A | AB20: N/A | AC20: N/A | AD20: N/A | AE20: N/A
C21: Úradníci (€) | D21: =-('Parametre - Agendové IS'!I77+NPV(Faktory!$D$5,'Parametre - Agendové IS'!I78:I86)) -> 0 | E21: =-('Parametre - Agendové IS'!L77+NPV(Faktory!$D$5,'Parametre - Agendové IS'!L78:L86)) -> 0 | F21: =-('Parametre - Agendové IS'!O77+NPV(Faktory!$D$5,'Parametre - Agendové IS'!O78:O86)) -> 0 | G21: 0 | H21: 0 | I21: =-('Parametre - Agendové IS'!N77+NPV(Faktory!$D$5,'Parametre - Agendové IS'!N78:N86)) -> 0 | J21: =-('Parametre - Agendové IS'!Q77+NPV(Faktory!$D$5,'Parametre - Agendové IS'!Q78:Q86)) -> 0 | K21: =-('Parametre - Agendové IS'!T77+NPV(Faktory!$D$5,'Parametre - Agendové IS'!T78:T86)) -> 0 | L21: 0 | M21: =-('Parametre - Agendové IS'!V77+NPV(Faktory!$D$5,'Parametre - Agendové IS'!V78:V86)) -> 0 | N21: =SUM(D21:G21) -> 0 | T21: Úradníci (€) | U21: N/A | V21: N/A | W21: N/A | X21: N/A | Y21: N/A | Z21: N/A | AA21: N/A | AB21: N/A | AC21: N/A | AD21: N/A | AE21: N/A
C22: Úradníci (FTE) | D22: 0 | E22: 0 | F22: 0 | G22: 0 | H22: 0 | I22: 0 | J22: 0 | K22: 0 | L22: 0 | M22: 0 | N22: 0 | T22: Úradníci (FTE) | U22: N/A | V22: N/A | W22: N/A | X22: N/A | Y22: N/A | Z22: N/A | AA22: N/A | AB22: N/A | AC22: N/A | AD22: N/A | AE22: N/A
C23: Kvalitatívne prínosy | D23: ='Parametre - Agendové IS'!I127+NPV(Faktory!$D$5,'Parametre - Agendové IS'!I128:I136) -> 0 | E23: ='Parametre - Agendové IS'!L127+NPV(Faktory!$D$5,'Parametre - Agendové IS'!L128:L136) -> 0 | F23: ='Parametre - Agendové IS'!O127+NPV(Faktory!$D$5,'Parametre - Agendové IS'!O128:O136) -> 0 | G23: 0 | H23: 0 | I23: ='Parametre - Agendové IS'!N127+NPV(Faktory!$D$5,'Parametre - Agendové IS'!N128:N136) -> 0 | J23: ='Parametre - Agendové IS'!Q127+NPV(Faktory!$D$5,'Parametre - Agendové IS'!Q128:Q136) -> 0 | K23: ='Parametre - Agendové IS'!T127+NPV(Faktory!$D$5,'Parametre - Agendové IS'!T128:T136) -> 0 | L23: 0 | M23: ='Parametre - Agendové IS'!V127+NPV(Faktory!$D$5,'Parametre - Agendové IS'!V128:V136) -> 0 | N23: =SUM(D23:G23) -> 0 | T23: Kvalitatívne prínosy | U23: N/A | V23: N/A | W23: N/A | X23: N/A | Y23: N/A | Z23: N/A | AA23: N/A | AB23: N/A | AC23: N/A | AD23: N/A | AE23: N/A
B24: Nevyčíslené spoločenské prínosy | S24: Nevyčíslené spoločenské prínosy
C25: Kvalitnejšie údaje pre občanov a podnikateľov | T25: Kvalitnejšie údaje pre občanov a podnikateľov
C26: Zdieľanie údajov medzi orgánmi verejnej moci (OVM) (integrovať dáta medzi jednotlivými systémami verejnej správy) | T26: Zdieľanie údajov medzi orgánmi verejnej moci (OVM) (integrovať dáta medzi jednotlivými systémami verejnej správy)
C27: Zdieľanie údajov s občanmi a podnikateľmi (poskytovať dáta vo forme osobných a/alebo otvorených údajov) | T27: Zdieľanie údajov s občanmi a podnikateľmi (poskytovať dáta vo forme osobných a/alebo otvorených údajov)
C28: Zabezpečenie väčšej spokojnosti pre jednotlivé subjekty, ktoré vstupujú do procesu práce s dátami (zabezpečiť pravidelnú replikáciu kvalitných a konsolidovaných dát pre analytické účely) | T28: Zabezpečenie väčšej spokojnosti pre jednotlivé subjekty, ktoré vstupujú do procesu práce s dátami (zabezpečiť pravidelnú replikáciu kvalitných a konsolidovaných dát pre analytické účely)

Sheet CBA-Agendové IS
B1: Cashflow projektu | H1: Čistá súčasná hodnota z projektu
B2: Finančný cashflow (s DPH) | E2: Ekonomický cashflow (bez DPH) | H2: koeficient obdobia | I2: Finančná (FNPV) | J2: Ekonomická (ENPV) | K2: Kumulovaná diskont. návratnosť ENPV
A3: Obdobie | B3: AS IS | C3: TO BE | D3: rozdiel | E3: AS IS | F3: TO BE | G3: rozdiel
A4: t1 | B4: ='Prínosy - Agendové IS'!Q4-'Výdavky - Agendové IS'!T4 -> 0 | C4: ='Prínosy - Agendové IS'!R4-'Výdavky - Agendové IS'!U4 -> -960660 | D4: =C4-B4 -> -960660 | E4: ='Prínosy - Agendové IS'!T4-('Výdavky - Agendové IS'!T4/1.2) -> 0 | F4: ='Prínosy - Agendové IS'!U4-('Výdavky - Agendové IS'!U4/1.2) -> -800550 | G4: =F4-E4 -> -800550 | H4: 0 | I4: =D4*(1/(1+Faktory!$D$3)^H4) -> -960660 | J4: =G4*(1/(1+Faktory!$D$5)^H4) -> -800550 | K4: =J4 -> -800550 | L4: =IF(K4>0,"Rok návratu investície","<") -> <
A5: t2 | B5: ='Prínosy - Agendové IS'!Q5-'Výdavky - Agendové IS'!T5 -> 0 | C5: ='Prínosy - Agendové IS'!R5-'Výdavky - Agendové IS'!U5 -> -71760 | D5: =C5-B5 -> -71760 | E5: ='Prínosy - Agendové IS'!T5-('Výdavky - Agendové IS'!T5/1.2) -> 0 | F5: ='Prínosy - Agendové IS'!U5-('Výdavky - Agendové IS'!U5/1.2) -> -59800 | G5: =F5-E5 -> -59800 | H5: 1 | I5: =D5*(1/(1+Faktory!$D$3)^H5) -> -69000 | J5: =G5*(1/(1+Faktory!$D$5)^H5) -> -56952.381 | K5: =J5+K4 -> -857502.38 | L5: =IF(L4="<",IF(K5>0,"Rok návratu investície","<"),">") -> <
A6: t3 | B6: ='Prínosy - Agendové IS'!Q6-'Výdavky - Agendové IS'!T6 -> 0 | C6: ='Prínosy - Agendové IS'!R6-'Výdavky - Agendové IS'!U6 -> -71760 | D6: =C6-B6 -> -71760 | E6: ='Prínosy - Agendové IS'!T6-('Výdavky - Agendové IS'!T6/1.2) -> 0 | F6: ='Prínosy - Agendové IS'!U6-('Výdavky - Agendové IS'!U6/1.2) -> -59800 | G6: =F6-E6 -> -59800 | H6: 2 | I6: =D6*(1/(1+Faktory!$D$3)^H6) -> -66346.154 | J6: =G6*(1/(1+Faktory!$D$5)^H6) -> -54240.363 | K6: =J6+K5 -> -911742.74 | L6: =IF(L5="<",IF(K6>0,"Rok návratu investície","<"),">") -> <
A7: t4 | B7: ='Prínosy - Agendové IS'!Q7-'Výdavky - Agendové IS'!T7 -> 0 | C7: ='Prínosy - Agendové IS'!R7-'Výdavky - Agendové IS'!U7 -> -71760 | D7: =C7-B7 -> -71760 | E7: ='Prínosy - Agendové IS'!T7-('Výdavky - Agendové IS'!T7/1.2) -> 0 | F7: ='Prínosy - Agendové IS'!U7-('Výdavky - Agendové IS'!U7/1.2) -> -59800 | G7: =F7-E7 -> -59800 | H7: 3 | I7: =D7*(1/(1+Faktory!$D$3)^H7) -> -63794.379 | J7: =G7*(1/(1+Faktory!$D$5)^H7) -> -51657.488 | K7: =J7+K6 -> -963400.23 | L7: =IF(L6="<",IF(K7>0,"Rok návratu investície","<"),">") -> <
A8: t5 | B8: ='Prínosy - Agendové IS'!Q8-'Výdavky - Agendové IS'!T8 -> 0 | C8: ='Prínosy - Agendové IS'!R8-'Výdavky - Agendové IS'!U8 -> -71760 | D8: =C8-B8 -> -71760 | E8: ='Prínosy - Agendové IS'!T8-('Výdavky - Agendové IS'!T8/1.2) -> 0 | F8: ='Prínosy - Agendové IS'!U8-('Výdavky - Agendové IS'!U8/1.2) -> -59800 | G8: =F8-E8 -> -59800 | H8: 4 | I8: =D8*(1/(1+Faktory!$D$3)^H8) -> -61340.749 | J8: =G8*(1/(1+Faktory!$D$5)^H8) -> -49197.608 | K8: =J8+K7 -> -1012597.8 | L8: =IF(L7="<",IF(K8>0,"Rok návratu investície","<"),">") -> <
A9: t6 | B9: ='Prínosy - Agendové IS'!Q9-'Výdavky - Agendové IS'!T9 -> 0 | C9: ='Prínosy - Agendové IS'!R9-'Výdavky - Agendové IS'!U9 -> -71760 | D9: =C9-B9 -> -71760 | E9: ='Prínosy - Agendové IS'!T9-('Výdavky - Agendové IS'!T9/1.2) -> 0 | F9: ='Prínosy - Agendové IS'!U9-('Výdavky - Agendové IS'!U9/1.2) -> -59800 | G9: =F9-E9 -> -59800 | H9: 5 | I9: =D9*(1/(1+Faktory!$D$3)^H9) -> -58981.489 | J9: =G9*(1/(1+Faktory!$D$5)^H9) -> -46854.865 | K9: =J9+K8 -> -1059452.7 | L9: =IF(L8="<",IF(K9>0,"Rok návratu investície","<"),">") -> <
A10: t7 | B10: ='Prínosy - Agendové IS'!Q10-'Výdavky - Agendové IS'!T10 -> 0 | C10: ='Prínosy - Agendové IS'!R10-'Výdavky - Agendové IS'!U10 -> -71760 | D10: =C10-B10 -> -71760 | E10: ='Prínosy - Agendové IS'!T10-('Výdavky - Agendové IS'!T10/1.2) -> 0 | F10: ='Prínosy - Agendové IS'!U10-('Výdavky - Agendové IS'!U10/1.2) -> -59800 | G10: =F10-E10 -> -59800 | H10: 6 | I10: =D10*(1/(1+Faktory!$D$3)^H10) -> -56712.97 | J10: =G10*(1/(1+Faktory!$D$5)^H10) -> -44623.681 | K10: =J10+K9 -> -1104076.4 | L10: =IF(L9="<",IF(K10>0,"Rok návratu investície","<"),">") -> <
A11: t8 | B11: ='Prínosy - Agendové IS'!Q11-'Výdavky - Agendové IS'!T11 -> 0 | C11: ='Prínosy - Agendové IS'!R11-'Výdavky - Agendové IS'!U11 -> -71760 | D11: =C11-B11 -> -71760 | E11: ='Prínosy - Agendové IS'!T11-('Výdavky - Agendové IS'!T11/1.2) -> 0 | F11: ='Prínosy - Agendové IS'!U11-('Výdavky - Agendové IS'!U11/1.2) -> -59800 | G11: =F11-E11 -> -59800 | H11: 7 | I11: =D11*(1/(1+Faktory!$D$3)^H11) -> -54531.702 | J11: =G11*(1/(1+Faktory!$D$5)^H11) -> -42498.744 | K11: =J11+K10 -> -1146575.1 | L11: =IF(L10="<",IF(K11>0,"Rok návratu investície","<"),">") -> <
A12: t9 | B12: ='Prínosy - Agendové IS'!Q12-'Výdavky - Agendové IS'!T12 -> 0 | C12: ='Prínosy - Agendové IS'!R12-'Výdavky - Agendové IS'!U12 -> -71760 | D12: =C12-B12 -> -71760 | E12: ='Prínosy - Agendové IS'!T12-('Výdavky - Agendové IS'!T12/1.2) -> 0 | F12: ='Prínosy - Agendové IS'!U12-('Výdavky - Agendové IS'!U12/1.2) -> -59800 | G12: =F12-E12 -> -59800 | H12: 8 | I12: =D12*(1/(1+Faktory!$D$3)^H12) -> -52434.329 | J12: =G12*(1/(1+Faktory!$D$5)^H12) -> -40474.994 | K12: =J12+K11 -> -1187050.1 | L12: =IF(L11="<",IF(K12>0,"Rok návratu investície","<"),">") -> <
A13: t10 | B13: ='Prínosy - Agendové IS'!Q13-'Výdavky - Agendové IS'!T13 -> 0 | C13: ='Prínosy - Agendové IS'!R13-'Výdavky - Agendové IS'!U13 -> -71760 | D13: =C13-B13 -> -71760 | E13: ='Prínosy - Agendové IS'!T13-('Výdavky - Agendové IS'!T13/1.2) -> 0 | F13: ='Prínosy - Agendové IS'!U13-('Výdavky - Agendové IS'!U13/1.2) -> -59800 | G13: =F13-E13 -> -59800 | H13: 9 | I13: =D13*(1/(1+Faktory!$D$3)^H13) -> -50417.624 | J13: =G13*(1/(1+Faktory!$D$5)^H13) -> -38547.613 | K13: =J13+K12 -> -1225597.7 | L13: =IF(L12="<",IF(K13>0,"Rok návratu investície","<"),">") -> <
A14: SPOLU | B14: =SUM(B4:B13) -> 0 | C14: =SUM(C4:C13) -> -1606500 | D14: =SUM(D4:D13) -> -1606500 | E14: =SUM(E4:E13) -> 0 | F14: =SUM(F4:F13) -> -1338750 | G14: =SUM(G4:G13) -> -1338750 | H14: SPOLU | I14: =SUM(I4:I13) -> -1494219.4 | J14: =SUM(J4:J13) -> -1225597.7
H16: Výsledok CBA | J16: Výsledná hodnota | K16: Minimálna hodnota
H17: BCR | I17: pomer prínosov a nákladov | J17: ='Prínosy - Agendové IS'!V15/('Výdavky - Agendové IS'!V15/1.2) -> 0 | K17: 1
H18: FIRR | I18: finančná vnútorná výnosová miera (%) | J18: Aho | K18: -
H19: EIRR | I19: ekonomická vnútorná výnosová miera (%) | J19: =IRR($G$4:$G$13,0.01) -> #NUM! | K19: 0.05
H21: FNPV | I21: finančná čistá súčasná hodnota (eur s DPH) | J21: =I14 -> -1494219.4 | K21: -
H22: ENPV | I22: ekonomická čistá súčasná hodnota (eur bez DPH) | J22: =J14 -> -1225597.7 | K22: 0

Sheet Analýza citlivosti - AgendovéIS
A2: BCR | B2: =#REF! -> 0
B5: Zvýšenie nákladov - TCO celkovo | E5: Zvýšenie CAPEX | H5: Zníženie kvalitatívnych prínosov | K5: Zníženie počtu podaní v budúcom stave | N5: Zníženie očakávaného ušetreného času úradníka | Q5: Zníženie očakávaného ušetreného času používateľa
B6: % | C6: BCR | E6: % | F6: BCR | H6: % | I6: BCR | K6: % | L6: BCR | N6: % | O6: BCR | Q6: % | R6: BCR
B7: 0 | C7: =B2 -> 0 | E7: 0 | F7: =B2 -> 0 | H7: 0 | I7: =B2 -> 0 | K7: 0 | L7: =B2 -> 0 | N7: 0 | O7: =B2 -> 0 | Q7: 0 | R7: =B2 -> 0
B8: 0.1 | C8: 0 | E8: 0.1 | F8: 0 | H8: -0.1 | I8: 0 | K8: -0.1 | L8: 0 | N8: -0.1 | O8: 0 | Q8: -0.1 | R8: 0
B9: 0.2 | C9: 0 | E9: 0.2 | F9: 0 | H9: -0.2 | I9: 0 | K9: -0.2 | L9: 0 | N9: -0.2 | O9: 0 | Q9: -0.2 | R9: 0
B10: 0.3 | C10: 0 | E10: 0.3 | F10: 0 | H10: -0.3 | I10: 0 | K10: -0.3 | L10: 0 | N10: -0.3 | O10: 0 | Q10: -0.3 | R10: 0
B11: 0.4 | C11: 0 | E11: 0.4 | F11: 0 | H11: -0.4 | I11: 0 | K11: -0.4 | L11: 0 | N11: -0.4 | O11: 0 | Q11: -0.4 | R11: 0
B12: 0.5 | C12: 0 | E12: 0.5 | F12: 0 | H12: -0.5 | I12: 0 | K12: -0.5 | L12: 0 | N12: -0.5 | O12: 0 | Q12: -0.5 | R12: 0
B13: 0.6 | C13: 0 | E13: 0.6 | F13: 0 | H13: -0.6 | I13: 0 | K13: -0.6 | L13: 0 | N13: -0.6 | O13: 0 | Q13: -0.6 | R13: 0
B14: 0.7 | C14: 0 | E14: 0.7 | F14: 0 | H14: -0.7 | I14: 0 | K14: -0.7 | L14: 0 | N14: -0.7 | O14: 0 | Q14: -0.7 | R14: 0
B15: 0.8 | C15: 0 | E15: 0.8 | F15: 0 | H15: -0.8 | I15: 0 | K15: -0.8 | L15: 0 | N15: -0.8 | O15: 0 | Q15: -0.8 | R15: 0
B16: 0.9 | C16: 0 | E16: 0.9 | F16: 0 | H16: -0.9 | I16: 0 | K16: -0.9 | L16: 0 | N16: -0.9 | O16: 0 | Q16: -0.9 | R16: 0
B17: 1 | C17: 0 | E17: 1 | F17: 0 | H17: -1 | I17: 0 | K17: -1 | L17: 0 | N17: -1 | O17: 0 | Q17: -1 | R17: 0
D25: Zníženie očakávaného ušetreného času používateľa
C26: =B2 -> 0 | D26: 0 | E26: -0.1 | F26: -0.2 | G26: -0.3 | H26: -0.4 | I26: -0.5 | J26: -0.6 | K26: -0.7 | L26: -0.8 | M26: -0.9 | N26: -1
B27: Zníženie očakávaného ušetreného času úradníka | C27: 0 | D27: 0 | E27: 0 | F27: 0 | G27: 0 | H27: 0 | I27: 0 | J27: 0 | K27: 0 | L27: 0 | M27: 0 | N27: 0
C28: -0.1 | D28: 0 | E28: 0 | F28: 0 | G28: 0 | H28: 0 | I28: 0 | J28: 0 | K28: 0 | L28: 0 | M28: 0 | N28: 0
C29: -0.2 | D29: 0 | E29: 0 | F29: 0 | G29: 0 | H29: 0 | I29: 0 | J29: 0 | K29: 0 | L29: 0 | M29: 0 | N29: 0
C30: -0.3 | D30: 0 | E30: 0 | F30: 0 | G30: 0 | H30: 0 | I30: 0 | J30: 0 | K30: 0 | L30: 0 | M30: 0 | N30: 0
C31: -0.4 | D31: 0 | E31: 0 | F31: 0 | G31: 0 | H31: 0 | I31: 0 | J31: 0 | K31: 0 | L31: 0 | M31: 0 | N31: 0
C32: -0.5 | D32: 0 | E32: 0 | F32: 0 | G32: 0 | H32: 0 | I32: 0 | J32: 0 | K32: 0 | L32: 0 | M32: 0 | N32: 0
C33: -0.6 | D33: 0 | E33: 0 | F33: 0 | G33: 0 | H33: 0 | I33: 0 | J33: 0 | K33: 0 | L33: 0 | M33: 0 | N33: 0
C34: -0.7 | D34: 0 | E34: 0 | F34: 0 | G34: 0 | H34: 0 | I34: 0 | J34: 0 | K34: 0 | L34: 0 | M34: 0 | N34: 0
C35: -0.8 | D35: 0 | E35: 0 | F35: 0 | G35: 0 | H35: 0 | I35: 0 | J35: 0 | K35: 0 | L35: 0 | M35: 0 | N35: 0
C36: -0.9 | D36: 0 | E36: 0 | F36: 0 | G36: 0 | H36: 0 | I36: 0 | J36: 0 | K36: 0 | L36: 0 | M36: 0 | N36: 0
C37: -1 | D37: 0 | E37: 0 | F37: 0 | G37: 0 | H37: 0 | I37: 0 | J37: 0 | K37: 0 | L37: 0 | M37: 0 | N37: 0
D41: Zníženie počtu podaní v budúcom stave
C42: =B2 -> 0 | D42: 0 | E42: -0.1 | F42: -0.2 | G42: -0.3 | H42: -0.4 | I42: -0.5 | J42: -0.6 | K42: -0.7 | L42: -0.8 | M42: -0.9 | N42: -1
B43: Zvýšenie CAPEX | C43: 0 | D43: 0 | E43: 0 | F43: 0 | G43: 0 | H43: 0 | I43: 0 | J43: 0 | K43: 0 | L43: 0 | M43: 0 | N43: 0
C44: 0.1 | D44: 0 | E44: 0 | F44: 0 | G44: 0 | H44: 0 | I44: 0 | J44: 0 | K44: 0 | L44: 0 | M44: 0 | N44: 0
C45: 0.2 | D45: 0 | E45: 0 | F45: 0 | G45: 0 | H45: 0 | I45: 0 | J45: 0 | K45: 0 | L45: 0 | M45: 0 | N45: 0
C46: 0.3 | D46: 0 | E46: 0 | F46: 0 | G46: 0 | H46: 0 | I46: 0 | J46: 0 | K46: 0 | L46: 0 | M46: 0 | N46: 0
C47: 0.4 | D47: 0 | E47: 0 | F47: 0 | G47: 0 | H47: 0 | I47: 0 | J47: 0 | K47: 0 | L47: 0 | M47: 0 | N47: 0
C48: 0.5 | D48: 0 | E48: 0 | F48: 0 | G48: 0 | H48: 0 | I48: 0 | J48: 0 | K48: 0 | L48: 0 | M48: 0 | N48: 0
C49: 0.6 | D49: 0 | E49: 0 | F49: 0 | G49: 0 | H49: 0 | I49: 0 | J49: 0 | K49: 0 | L49: 0 | M49: 0 | N49: 0
C50: 0.7 | D50: 0 | E50: 0 | F50: 0 | G50: 0 | H50: 0 | I50: 0 | J50: 0 | K50: 0 | L50: 0 | M50: 0 | N50: 0
C51: 0.8 | D51: 0 | E51: 0 | F51: 0 | G51: 0 | H51: 0 | I51: 0 | J51: 0 | K51: 0 | L51: 0 | M51: 0 | N51: 0
C52: 0.9 | D52: 0 | E52: 0 | F52: 0 | G52: 0 | H52: 0 | I52: 0 | J52: 0 | K52: 0 | L52: 0 | M52: 0 | N52: 0
C53: 1 | D53: 0 | E53: 0 | F53: 0 | G53: 0 | H53: 0 | I53: 0 | J53: 0 | K53: 0 | L53: 0 | M53: 0 | N53: 0

Sheet Prínosy - Agendové IS
B1: Priame prínosy | E1: Nepriame prínosy | Q1: Prínosy spolu
B2: Administratívne poplatky | E2: Ostatné daňové a nedaňové príjmy | H2: Cena ušetreného času používateľa | K2: Kvalitatívne prínosy vo finančnom vyjadrení | N2: Cena ušetreného času úradníka | Q2: Finančné prínosy | T2: Ekonomické prínosy
A3: Obdobie | B3: AS IS | C3: TO BE | D3: rozdiel | E3: AS IS | F3: TO BE | G3: rozdiel | H3: AS IS | I3: TO BE | J3: rozdiel | K3: AS IS | L3: TO BE | M3: rozdiel | N3: AS IS | O3: TO BE | P3: rozdiel | Q3: AS IS | R3: TO BE | S3: rozdiel | T3: AS IS | U3: TO BE | V3: rozdiel
A4: t1 | B4: ='Parametre - Agendové IS'!D117 -> 0 | C4: ='Parametre - Agendové IS'!E117 -> 0 | D4: =IF(ISERR(C4-B4),"-",C4-B4) -> 0 | G4: =IF(ISERR(F4-E4),"-",F4-E4) -> 0 | H4: 0 | I4: ='Parametre - Agendové IS'!E97 -> 0 | J4: =IF(ISERR(I4-H4),"-",I4-H4) -> 0 | K4: ='Parametre - Agendové IS'!D127 -> 0 | L4: ='Parametre - Agendové IS'!E127 -> 0 | M4: =IF(ISERR(L4-K4),"-",L4-K4) -> 0 | N4: =-'Parametre - Agendové IS'!D77 -> 0 | O4: =-'Parametre - Agendové IS'!E77 -> 0 | P4: =IF(ISERR(O4-N4),"-",O4-N4) -> 0 | Q4: =SUM(B4,E4) -> 0 | R4: =SUM(C4,F4) -> 0 | S4: =R4-Q4 -> 0 | T4: =SUM(H4,K4,N4) -> 0 | U4: =SUM(I4,L4,O4) -> 0 | V4: =U4-T4 -> 0
A5: t2 | B5: ='Parametre - Agendové IS'!D118 -> 0 | C5: ='Parametre - Agendové IS'!E118 -> 0 | D5: =IF(ISERR(C5-B5),"-",C5-B5) -> 0 | G5: =IF(ISERR(F5-E5),"-",F5-E5) -> 0 | H5: 0 | I5: ='Parametre - Agendové IS'!E98 -> 0 | J5: =IF(ISERR(I5-H5),"-",I5-H5) -> 0 | K5: ='Parametre - Agendové IS'!D128 -> 0 | L5: ='Parametre - Agendové IS'!E128 -> 0 | M5: =IF(ISERR(L5-K5),"-",L5-K5) -> 0 | N5: =-'Parametre - Agendové IS'!D78 -> 0 | O5: =-'Parametre - Agendové IS'!E78 -> 0 | P5: =IF(ISERR(O5-N5),"-",O5-N5) -> 0 | Q5: =SUM(B5,E5) -> 0 | R5: =SUM(C5,F5) -> 0 | S5: =R5-Q5 -> 0 | T5: =SUM(H5,K5,N5) -> 0 | U5: =SUM(I5,L5,O5) -> 0 | V5: =U5-T5 -> 0
A6: t3 | B6: ='Parametre - Agendové IS'!D119 -> 0 | C6: ='Parametre - Agendové IS'!E119 -> 0 | D6: =IF(ISERR(C6-B6),"-",C6-B6) -> 0 | G6: =IF(ISERR(F6-E6),"-",F6-E6) -> 0 | H6: 0 | I6: ='Parametre - Agendové IS'!E99 -> 0 | J6: =IF(ISERR(I6-H6),"-",I6-H6) -> 0 | K6: ='Parametre - Agendové IS'!D129 -> 0 | L6: ='Parametre - Agendové IS'!E129 -> 0 | M6: =IF(ISERR(L6-K6),"-",L6-K6) -> 0 | N6: =-'Parametre - Agendové IS'!D79 -> 0 | O6: =-'Parametre - Agendové IS'!E79 -> 0 | P6: =IF(ISERR(O6-N6),"-",O6-N6) -> 0 | Q6: =SUM(B6,E6) -> 0 | R6: =SUM(C6,F6) -> 0 | S6: =R6-Q6 -> 0 | T6: =SUM(H6,K6,N6) -> 0 | U6: =SUM(I6,L6,O6) -> 0 | V6: =U6-T6 -> 0
A7: t4 | B7: ='Parametre - Agendové IS'!D120 -> 0 | C7: ='Parametre - Agendové IS'!E120 -> 0 | D7: =IF(ISERR(C7-B7),"-",C7-B7) -> 0 | G7: =IF(ISERR(F7-E7),"-",F7-E7) -> 0 | H7: 0 | I7: ='Parametre - Agendové IS'!E100 -> 0 | J7: =IF(ISERR(I7-H7),"-",I7-H7) -> 0 | K7: ='Parametre - Agendové IS'!D130 -> 0 | L7: ='Parametre - Agendové IS'!E130 -> 0 | M7: =IF(ISERR(L7-K7),"-",L7-K7) -> 0 | N7: =-'Parametre - Agendové IS'!D80 -> 0 | O7: =-'Parametre - Agendové IS'!E80 -> 0 | P7: =IF(ISERR(O7-N7),"-",O7-N7) -> 0 | Q7: =SUM(B7,E7) -> 0 | R7: =SUM(C7,F7) -> 0 | S7: =R7-Q7 -> 0 | T7: =SUM(H7,K7,N7) -> 0 | U7: =SUM(I7,L7,O7) -> 0 | V7: =U7-T7 -> 0
A8: t5 | B8: ='Parametre - Agendové IS'!D121 -> 0 | C8: ='Parametre - Agendové IS'!E121 -> 0 | D8: =IF(ISERR(C8-B8),"-",C8-B8) -> 0 | G8: =IF(ISERR(F8-E8),"-",F8-E8) -> 0 | H8: 0 | I8: ='Parametre - Agendové IS'!E101 -> 0 | J8: =IF(ISERR(I8-H8),"-",I8-H8) -> 0 | K8: ='Parametre - Agendové IS'!D131 -> 0 | L8: ='Parametre - Agendové IS'!E131 -> 0 | M8: =IF(ISERR(L8-K8),"-",L8-K8) -> 0 | N8: =-'Parametre - Agendové IS'!D81 -> 0 | O8: =-'Parametre - Agendové IS'!E81 -> 0 | P8: =IF(ISERR(O8-N8),"-",O8-N8) -> 0 | Q8: =SUM(B8,E8) -> 0 | R8: =SUM(C8,F8) -> 0 | S8: =R8-Q8 -> 0 | T8: =SUM(H8,K8,N8) -> 0 | U8: =SUM(I8,L8,O8) -> 0 | V8: =U8-T8 -> 0
A9: t6 | B9: ='Parametre - Agendové IS'!D122 -> 0 | C9: ='Parametre - Agendové IS'!E122 -> 0 | D9: =IF(ISERR(C9-B9),"-",C9-B9) -> 0 | G9: =IF(ISERR(F9-E9),"-",F9-E9) -> 0 | H9: 0 | I9: ='Parametre - Agendové IS'!E102 -> 0 | J9: =IF(ISERR(I9-H9),"-",I9-H9) -> 0 | K9: ='Parametre - Agendové IS'!D132 -> 0 | L9: ='Parametre - Agendové IS'!E132 -> 0 | M9: =IF(ISERR(L9-K9),"-",L9-K9) -> 0 | N9: =-'Parametre - Agendové IS'!D82 -> 0 | O9: =-'Parametre - Agendové IS'!E82 -> 0 | P9: =IF(ISERR(O9-N9),"-",O9-N9) -> 0 | Q9: =SUM(B9,E9) -> 0 | R9: =SUM(C9,F9) -> 0 | S9: =R9-Q9 -> 0 | T9: =SUM(H9,K9,N9) -> 0 | U9: =SUM(I9,L9,O9) -> 0 | V9: =U9-T9 -> 0
A10: t7 | B10: ='Parametre - Agendové IS'!D123 -> 0 | C10: ='Parametre - Agendové IS'!E123 -> 0 | D10: =IF(ISERR(C10-B10),"-",C10-B10) -> 0 | G10: =IF(ISERR(F10-E10),"-",F10-E10) -> 0 | H10: 0 | I10: ='Parametre - Agendové IS'!E103 -> 0 | J10: =IF(ISERR(I10-H10),"-",I10-H10) -> 0 | K10: ='Parametre - Agendové IS'!D133 -> 0 | L10: ='Parametre - Agendové IS'!E133 -> 0 | M10: =IF(ISERR(L10-K10),"-",L10-K10) -> 0 | N10: =-'Parametre - Agendové IS'!D83 -> 0 | O10: =-'Parametre - Agendové IS'!E83 -> 0 | P10: =IF(ISERR(O10-N10),"-",O10-N10) -> 0 | Q10: =SUM(B10,E10) -> 0 | R10: =SUM(C10,F10) -> 0 | S10: =R10-Q10 -> 0 | T10: =SUM(H10,K10,N10) -> 0 | U10: =SUM(I10,L10,O10) -> 0 | V10: =U10-T10 -> 0
A11: t8 | B11: ='Parametre - Agendové IS'!D124 -> 0 | C11: ='Parametre - Agendové IS'!E124 -> 0 | D11: =IF(ISERR(C11-B11),"-",C11-B11) -> 0 | G11: =IF(ISERR(F11-E11),"-",F11-E11) -> 0 | H11: 0 | I11: ='Parametre - Agendové IS'!E104 -> 0 | J11: =IF(ISERR(I11-H11),"-",I11-H11) -> 0 | K11: ='Parametre - Agendové IS'!D134 -> 0 | L11: ='Parametre - Agendové IS'!E134 -> 0 | M11: =IF(ISERR(L11-K11),"-",L11-K11) -> 0 | N11: =-'Parametre - Agendové IS'!D84 -> 0 | O11: =-'Parametre - Agendové IS'!E84 -> 0 | P11: =IF(ISERR(O11-N11),"-",O11-N11) -> 0 | Q11: =SUM(B11,E11) -> 0 | R11: =SUM(C11,F11) -> 0 | S11: =R11-Q11 -> 0 | T11: =SUM(H11,K11,N11) -> 0 | U11: =SUM(I11,L11,O11) -> 0 | V11: =U11-T11 -> 0
A12: t9 | B12: ='Parametre - Agendové IS'!D125 -> 0 | C12: ='Parametre - Agendové IS'!E125 -> 0 | D12: =IF(ISERR(C12-B12),"-",C12-B12) -> 0 | G12: =IF(ISERR(F12-E12),"-",F12-E12) -> 0 | H12: 0 | I12: ='Parametre - Agendové IS'!E105 -> 0 | J12: =IF(ISERR(I12-H12),"-",I12-H12) -> 0 | K12: ='Parametre - Agendové IS'!D135 -> 0 | L12: ='Parametre - Agendové IS'!E135 -> 0 | M12: =IF(ISERR(L12-K12),"-",L12-K12) -> 0 | N12: =-'Parametre - Agendové IS'!D85 -> 0 | O12: =-'Parametre - Agendové IS'!E85 -> 0 | P12: =IF(ISERR(O12-N12),"-",O12-N12) -> 0 | Q12: =SUM(B12,E12) -> 0 | R12: =SUM(C12,F12) -> 0 | S12: =R12-Q12 -> 0 | T12: =SUM(H12,K12,N12) -> 0 | U12: =SUM(I12,L12,O12) -> 0 | V12: =U12-T12 -> 0
A13: t10 | B13: ='Parametre - Agendové IS'!D126 -> 0 | C13: ='Parametre - Agendové IS'!E126 -> 0 | D13: =IF(ISERR(C13-B13),"-",C13-B13) -> 0 | G13: =IF(ISERR(F13-E13),"-",F13-E13) -> 0 | H13: 0 | I13: ='Parametre - Agendové IS'!E106 -> 0 | J13: =IF(ISERR(I13-H13),"-",I13-H13) -> 0 | K13: ='Parametre - Agendové IS'!D136 -> 0 | L13: ='Parametre - Agendové IS'!E136 -> 0 | M13: =IF(ISERR(L13-K13),"-",L13-K13) -> 0 | N13: =-'Parametre - Agendové IS'!D86 -> 0 | O13: =-'Parametre - Agendové IS'!E86 -> 0 | P13: =IF(ISERR(O13-N13),"-",O13-N13) -> 0 | Q13: =SUM(B13,E13) -> 0 | R13: =SUM(C13,F13) -> 0 | S13: =R13-Q13 -> 0 | T13: =SUM(H13,K13,N13) -> 0 | U13: =SUM(I13,L13,O13) -> 0 | V13: =U13-T13 -> 0
A14: Spolu | B14: =SUM(B4:B13) -> 0 | C14: =SUM(C4:C13) -> 0 | D14: =SUM(D4:D13) -> 0 | E14: =SUM(E4:E13) -> 0 | F14: =SUM(F4:F13) -> 0 | G14: =SUM(G4:G13) -> 0 | H14: =SUM(H4:H13) -> 0 | I14: =SUM(I4:I13) -> 0 | ... V14: =SUM(V4:V13) -> 0
A15: NPV | D15: =D4+NPV(Faktory!$D$5,'Prínosy - Agendové IS'!D5:D13) -> 0 | G15: =G4+NPV(Faktory!$D$3,'Prínosy - Agendové IS'!G5:G13) -> 0 | J15: =J4+NPV(Faktory!$D$5,'Prínosy - Agendové IS'!J5:J13) -> 0 | M15: =M4+NPV(Faktory!$D$5,'Prínosy - Agendové IS'!M5:M13) -> 0 | P15: =P4+NPV(Faktory!$D$5,'Prínosy - Agendové IS'!P5:P13) -> 0 | S15: =S4+NPV(Faktory!$D$5,'Prínosy - Agendové IS'!S5:S13) -> 0 | V15: =V4+NPV(Faktory!$D$5,'Prínosy - Agendové IS'!V5:V13) -> 0
B17: Všetky prínosové položky sú automaticky vypočítané na základe údajov uvedených v záložkách TCO, spotrebované cloudové služby a Parametre - Agendové IS

Sheet Výdavky - Agendové IS
B1: Náklady IT systém | N1: Riadenie projektu | Q1: Variabilné výdavky | T1: Výdavky spolu
B2: HW | E2: SW | H2: Aplikácie | K2: SW a Aplikácie - Výstupné náklady | Q2: Všeobecný materiál
A3: Obdobie | B3: AS IS | C3: TO BE | D3: rozdiel | E3: AS IS | F3: TO BE | G3: rozdiel | H3: AS IS | I3: TO BE | J3: rozdiel | K3: AS IS | L3: TO BE | M3: rozdiel | N3: AS IS | O3: TO BE | P3: rozdiel | Q3: AS IS | R3: TO BE | S3: rozdiel | T3: AS IS | U3: TO BE | V3: rozdiel
A4: t1 | B4: =TCO!D26+TCO!D27 -> 0 | C4: =(TCO!D$12*(1+$W$5))+TCO!D$13 -> 60000 | D4: =C4-B4 -> 60000 | E4: =TCO!D22+TCO!D23 -> 0 | F4: =(TCO!D$7*(1+$W$5))+TCO!D$8 -> 891660 | G4: =F4-E4 -> 891660 | H4: =TCO!D24+TCO!D25 -> 0 | I4: =(TCO!D$9*(1+$W$5))+TCO!D$10 -> 0 | J4: =I4-H4 -> 0 | K4: 0 | L4: =TCO!D11 -> 0 | M4: =L4-K4 -> 0 | N4: 0 | O4: =TCO!D14 -> 9000 | P4: =O4-N4 -> 9000 | Q4: ='Parametre - Agendové IS'!D107 -> 0 | R4: ='Parametre - Agendové IS'!E107 -> 0 | S4: =IF(ISERR(R4-Q4),"-",R4-Q4) -> 0 | T4: =SUM(B4,E4,H4,K4,N4,Q4) -> 0 | U4: =((C4+F4+L4+O4+I4)*(1+$W$4))+R4 -> 960660 | V4: =U4-T4 -> 960660 | W4: =#REF! -> 0
A5: t2 | B5: =TCO!E26+TCO!E27 -> 0 | C5: =(TCO!E$12*(1+$W$5))+TCO!E$13 -> 0 | D5: =C5-B5 -> 0 | E5: =TCO!E22+TCO!E23 -> 0 | F5: =(TCO!E$7*(1+$W$5))+TCO!E$8 -> 68260 | G5: =F5-E5 -> 68260 | H5: =TCO!E24+TCO!E25 -> 0 | I5: =(TCO!E$9*(1+$W$5))+TCO!E$10 -> 3500 | J5: =I5-H5 -> 3500 | K5: 0 | L5: =TCO!E11 -> 0 | M5: =L5-K5 -> 0 | N5: 0 | O5: =TCO!E14 -> 0 | P5: =O5-N5 -> 0 | Q5: ='Parametre - Agendové IS'!D108 -> 0 | R5: ='Parametre - Agendové IS'!E108 -> 0 | S5: =IF(ISERR(R5-Q5),"-",R5-Q5) -> 0 | T5: =SUM(B5,E5,H5,K5,N5,Q5) -> 0 | U5: =((C5+F5+L5+O5+I5)*(1+$W$4))+R5 -> 71760 | V5: =U5-T5 -> 71760 | W5: =#REF! -> 0
A6: t3 | B6: =TCO!F26+TCO!F27 -> 0 | C6: =(TCO!F$12*(1+$W$5))+TCO!F$13 -> 0 | D6: =C6-B6 -> 0 | E6: =TCO!F22+TCO!F23 -> 0 | F6: =(TCO!F$7*(1+$W$5))+TCO!F$8 -> 68260 | G6: =F6-E6 -> 68260 | H6: =TCO!F24+TCO!F25 -> 0 | I6: =(TCO!F$9*(1+$W$5))+TCO!F$10 -> 3500 | J6: =I6-H6 -> 3500 | K6: 0 | L6: =TCO!F11 -> 0 | M6: =L6-K6 -> 0 | N6: 0 | O6: =TCO!F14 -> 0 | P6: =O6-N6 -> 0 | Q6: ='Parametre - Agendové IS'!D109 -> 0 | R6: ='Parametre - Agendové IS'!E109 -> 0 | S6: =IF(ISERR(R6-Q6),"-",R6-Q6) -> 0 | T6: =SUM(B6,E6,H6,K6,N6,Q6) -> 0 | U6: =((C6+F6+L6+O6+I6)*(1+$W$4))+R6 -> 71760 | V6: =U6-T6 -> 71760
A7: t4 | B7: =TCO!G26+TCO!G27 -> 0 | C7: =(TCO!G$12*(1+$W$5))+TCO!G$13 -> 0 | D7: =C7-B7 -> 0 | E7: =TCO!G22+TCO!G23 -> 0 | F7: =(TCO!G$7*(1+$W$5))+TCO!G$8 -> 68260 | G7: =F7-E7 -> 68260 | H7: =TCO!G24+TCO!G25 -> 0 | I7: =(TCO!G$9*(1+$W$5))+TCO!G$10 -> 3500 | J7: =I7-H7 -> 3500 | K7: 0 | L7: =TCO!G11 -> 0 | M7: =L7-K7 -> 0 | N7: 0 | O7: =TCO!G14 -> 0 | P7: =O7-N7 -> 0 | Q7: ='Parametre - Agendové IS'!D110 -> 0 | R7: ='Parametre - Agendové IS'!E110 -> 0 | S7: =IF(ISERR(R7-Q7),"-",R7-Q7) -> 0 | T7: =SUM(B7,E7,H7,K7,N7,Q7) -> 0 | U7: =((C7+F7+L7+O7+I7)*(1+$W$4))+R7 -> 71760 | V7: =U7-T7 -> 71760
A8: t5 | B8: =TCO!H26+TCO!H27 -> 0 | C8: =(TCO!H$12*(1+$W$5))+TCO!H$13 -> 0 | D8: =C8-B8 -> 0 | E8: =TCO!H22+TCO!H23 -> 0 | F8: =(TCO!H$7*(1+$W$5))+TCO!H$8 -> 68260 | G8: =F8-E8 -> 68260 | H8: =TCO!H24+TCO!H25 -> 0 | I8: =(TCO!H$9*(1+$W$5))+TCO!H$10 -> 3500 | J8: =I8-H8 -> 3500 | K8: 0 | L8: =TCO!H11 -> 0 | M8: =L8-K8 -> 0 | N8: 0 | O8: =TCO!H14 -> 0 | P8: =O8-N8 -> 0 | Q8: ='Parametre - Agendové IS'!D111 -> 0 | R8: ='Parametre - Agendové IS'!E111 -> 0 | S8: =IF(ISERR(R8-Q8),"-",R8-Q8) -> 0 | T8: =SUM(B8,E8,H8,K8,N8,Q8) -> 0 | U8: =((C8+F8+L8+O8+I8)*(1+$W$4))+R8 -> 71760 | V8: =U8-T8 -> 71760
A9: t6 | B9: =TCO!I26+TCO!I27 -> 0 | C9: =(TCO!I$12*(1+$W$5))+TCO!I$13 -> 0 | D9: =C9-B9 -> 0 | E9: =TCO!I22+TCO!I23 -> 0 | F9: =(TCO!I$7*(1+$W$5))+TCO!I$8 -> 68260 | G9: =F9-E9 -> 68260 | H9: =TCO!I24+TCO!I25 -> 0 | I9: =(TCO!I$9*(1+$W$5))+TCO!I$10 -> 3500 | J9: =I9-H9 -> 3500 | K9: 0 | L9: =TCO!I11 -> 0 | M9: =L9-K9 -> 0 | N9: 0 | O9: =TCO!I14 -> 0 | P9: =O9-N9 -> 0 | Q9: ='Parametre - Agendové IS'!D112 -> 0 | R9: ='Parametre - Agendové IS'!E112 -> 0 | S9: =IF(ISERR(R9-Q9),"-",R9-Q9) -> 0 | T9: =SUM(B9,E9,H9,K9,N9,Q9) -> 0 | U9: =((C9+F9+L9+O9+I9)*(1+$W$4))+R9 -> 71760 | V9: =U9-T9 -> 71760
A10: t7 | B10: =TCO!J26+TCO!J27 -> 0 | C10: =(TCO!J$12*(1+$W$5))+TCO!J$13 -> 0 | D10: =C10-B10 -> 0 | E10: =TCO!J22+TCO!J23 -> 0 | F10: =(TCO!J$7*(1+$W$5))+TCO!J$8 -> 68260 | G10: =F10-E10 -> 68260 | H10: =TCO!J24+TCO!J25 -> 0 | I10: =(TCO!J$9*(1+$W$5))+TCO!J$10 -> 3500 | J10: =I10-H10 -> 3500 | K10: 0 | L10: =TCO!J11 -> 0 | M10: =L10-K10 -> 0 | N10: 0 | O10: =TCO!J14 -> 0 | P10: =O10-N10 -> 0 | Q10: ='Parametre - Agendové IS'!D113 -> 0 | R10: ='Parametre - Agendové IS'!E113 -> 0 | S10: =IF(ISERR(R10-Q10),"-",R10-Q10) -> 0 | T10: =SUM(B10,E10,H10,K10,N10,Q10) -> 0 | U10: =((C10+F10+L10+O10+I10)*(1+$W$4))+R10 -> 71760 | V10: =U10-T10 -> 71760
A11: t8 | B11: =TCO!K26+TCO!K27 -> 0 | C11: =(TCO!K$12*(1+$W$5))+TCO!K$13 -> 0 | D11: =C11-B11 -> 0 | E11: =TCO!K22+TCO!K23 -> 0 | F11: =(TCO!K$7*(1+$W$5))+TCO!K$8 -> 68260 | G11: =F11-E11 -> 68260 | H11: =TCO!K24+TCO!K25 -> 0 | I11: =(TCO!K$9*(1+$W$5))+TCO!K$10 -> 3500 | J11: =I11-H11 -> 3500 | K11: 0 | L11: =TCO!K11 -> 0 | M11: =L11-K11 -> 0 | N11: 0 | O11: =TCO!K14 -> 0 | P11: =O11-N11 -> 0 | Q11: ='Parametre - Agendové IS'!D114 -> 0 | R11: ='Parametre - Agendové IS'!E114 -> 0 | S11: =IF(ISERR(R11-Q11),"-",R11-Q11) -> 0 | T11: =SUM(B11,E11,H11,K11,N11,Q11) -> 0 | U11: =((C11+F11+L11+O11+I11)*(1+$W$4))+R11 -> 71760 | V11: =U11-T11 -> 71760
A12: t9 | B12: =TCO!L26+TCO!L27 -> 0 | C12: =(TCO!L$12*(1+$W$5))+TCO!L$13 -> 0 | D12: =C12-B12 -> 0 | E12: =TCO!L22+TCO!L23 -> 0 | F12: =(TCO!L$7*(1+$W$5))+TCO!L$8 -> 68260 | G12: =F12-E12 -> 68260 | H12: =TCO!L24+TCO!L25 -> 0 | I12: =(TCO!L$9*(1+$W$5))+TCO!L$10 -> 3500 | J12: =I12-H12 -> 3500 | K12: 0 | L12: =TCO!L11 -> 0 | M12: =L12-K12 -> 0 | N12: 0 | O12: =TCO!L14 -> 0 | P12: =O12-N12 -> 0 | Q12: ='Parametre - Agendové IS'!D115 -> 0 | R12: ='Parametre - Agendové IS'!E115 -> 0 | S12: =IF(ISERR(R12-Q12),"-",R12-Q12) -> 0 | T12: =SUM(B12,E12,H12,K12,N12,Q12) -> 0 | U12: =((C12+F12+L12+O12+I12)*(1+$W$4))+R12 -> 71760 | V12: =U12-T12 -> 71760
A13: t10 | B13: =TCO!M26+TCO!M27 -> 0 | C13: =(TCO!M$12*(1+$W$5))+TCO!M$13 -> 0 | D13: =C13-B13 -> 0 | E13: =TCO!M22+TCO!M23 -> 0 | F13: =(TCO!M$7*(1+$W$5))+TCO!M$8 -> 68260 | G13: =F13-E13 -> 68260 | H13: =TCO!M24+TCO!M25 -> 0 | I13: =(TCO!M$9*(1+$W$5))+TCO!M$10 -> 3500 | J13: =I13-H13 -> 3500 | K13: 0 | L13: =TCO!M11 -> 0 | M13: =L13-K13 -> 0 | N13: 0 | O13: =TCO!M14 -> 0 | P13: =O13-N13 -> 0 | Q13: ='Parametre - Agendové IS'!D116 -> 0 | R13: ='Parametre - Agendové IS'!E116 -> 0 | S13: =IF(ISERR(R13-Q13),"-",R13-Q13) -> 0 | T13: =SUM(B13,E13,H13,K13,N13,Q13) -> 0 | U13: =((C13+F13+L13+O13+I13)*(1+$W$4))+R13 -> 71760 | V13: =U13-T13 -> 71760
A14: Spolu | B14: =SUM(B4:B13) -> 0 | C14: =SUM(C4:C13) -> 60000 | D14: =SUM(D4:D13) -> 60000 | E14: =SUM(E4:E13) -> 0 | F14: =SUM(F4:F13) -> 1506000 | G14: =SUM(G4:G13) -> 1506000 | H14: =SUM(H4:H13) -> 0 | I14: =SUM(I4:I13) -> 31500 | ... V14: =SUM(V4:V13) -> 1606500
A15: NPV | D15: =D4+NPV(Faktory!$D$5,D5:D13) -> 60000 | G15: =G4+NPV(Faktory!$D$5,G5:G13) -> 1376839.9 | J15: =J4+NPV(Faktory!$D$5,J5:J13) -> 24877.376 | M15: =M4+NPV(Faktory!$D$5,M5:M13) -> 0 | P15: =P4+NPV(Faktory!$D$5,P5:P13) -> 9000 | S15: =S4+NPV(Faktory!$D$5,S5:S13) -> 0 | V15: =V4+NPV(Faktory!$D$5,V5:V13) -> 1470717.3
B17: Všetky výdavkové položky sú automaticky vypočítané na základe údajov uvedených v záložkách TCO a Parametre - Agendové IS

Sheet Parametre - Agendové IS
D1: Spolu | G1: Modul 1 | J1: Modul 2 | M1: Modul 3 | P1: Modul N
A2: Koncová služba | G2: Koncová služba 1 | J2: Koncová služba 2 | M2: Koncová služba 3, Koncová služba 4 | P2: Koncová služba N
A3: Aplikačný modul - SW a Aplikácie | G3: =#REF! -> Aplikačný modul 1 | J3: =#REF! -> Aplikačný modul 2 | M3: =#REF! -> Aplikačný modul 3 | P3: =#REF! -> Aplikačný modul 1
A4: Aplikačný modul - HW | G4: ='TCO TO BE - HW'!F1 -> Aplikačný modul 1 | J4: ='TCO TO BE - HW'!G1 -> Aplikačný modul 2 | M4: ='TCO TO BE - HW'!H1 -> Aplikačný modul 3 | P4: ='TCO TO BE - HW'!F1 -> Aplikačný modul 1
A5: Parameter | B5: Jednotka | C5: Obdobie | D5: AS IS | E5: TO BE | F5: Rozdiel | G5: AS IS | H5: TO BE | I5: Rozdiel | J5: AS IS | K5: TO BE | L5: Rozdiel | M5: AS IS | N5: TO BE | O5: Rozdiel | P5: AS IS | Q5: TO BE | R5: Rozdiel
A6: Počet podaní / volaní | B6: počet / rok | C6: t1 | D6: =G6+J6+M6+P6 -> 0 | E6: =H6+K6+N6+Q6 -> 0 | F6: =I6+L6+O6+R6 -> 0 | I6: =H6-G6 -> 0 | L6: =K6-J6 -> 0 | O6: =N6-M6 -> 0 | R6: =Q6-P6 -> 0 | S6: 0
C7: t2 | D7: =G7+J7+M7+P7 -> 0 | E7: =H7+K7+N7+Q7 -> 0 | F7: =I7+L7+O7+R7 -> 0 | I7: =H7-G7 -> 0 | L7: =K7-J7 -> 0 | O7: =N7-M7 -> 0 | R7: =Q7-P7 -> 0
C8: t3 | D8: =G8+J8+M8+P8 -> 0 | E8: =H8+K8+N8+Q8 -> 0 | F8: =I8+L8+O8+R8 -> 0 | I8: =H8-G8 -> 0 | L8: =K8-J8 -> 0 | O8: =N8-M8 -> 0 | R8: =Q8-P8 -> 0
C9: t4 | D9: =G9+J9+M9+P9 -> 0 | E9: =H9+K9+N9+Q9 -> 0 | F9: =I9+L9+O9+R9 -> 0 | I9: =H9-G9 -> 0 | L9: =K9-J9 -> 0 | O9: =N9-M9 -> 0 | R9: =Q9-P9 -> 0
C10: t5 | D10: =G10+J10+M10+P10 -> 0 | E10: =H10+K10+N10+Q10 -> 0 | F10: =I10+L10+O10+R10 -> 0 | I10: =H10-G10 -> 0 | L10: =K10-J10 -> 0 | O10: =N10-M10 -> 0 | R10: =Q10-P10 -> 0
C11: t6 | D11: =G11+J11+M11+P11 -> 0 | E11: =H11+K11+N11+Q11 -> 0 | F11: =I11+L11+O11+R11 -> 0 | I11: =H11-G11 -> 0 | L11: =K11-J11 -> 0 | O11: =N11-M11 -> 0 | R11: =Q11-P11 -> 0
C12: t7 | D12: =G12+J12+M12+P12 -> 0 | E12: =H12+K12+N12+Q12 -> 0 | F12: =I12+L12+O12+R12 -> 0 | I12: =H12-G12 -> 0 | L12: =K12-J12 -> 0 | O12: =N12-M12 -> 0 | R12: =Q12-P12 -> 0
C13: t8 | D13: =G13+J13+M13+P13 -> 0 | E13: =H13+K13+N13+Q13 -> 0 | F13: =I13+L13+O13+R13 -> 0 | I13: =H13-G13 -> 0 | L13: =K13-J13 -> 0 | O13: =N13-M13 -> 0 | R13: =Q13-P13 -> 0
C14: t9 | D14: =G14+J14+M14+P14 -> 0 | E14: =H14+K14+N14+Q14 -> 0 | F14: =I14+L14+O14+R14 -> 0 | I14: =H14-G14 -> 0 | L14: =K14-J14 -> 0 | O14: =N14-M14 -> 0 | R14: =Q14-P14 -> 0
C15: t10 | D15: =G15+J15+M15+P15 -> 0 | E15: =H15+K15+N15+Q15 -> 0 | F15: =I15+L15+O15+R15 -> 0 | I15: =H15-G15 -> 0 | L15: =K15-J15 -> 0 | O15: =N15-M15 -> 0 | R15: =Q15-P15 -> 0
A16: Materiálové náklady na 1 podanie (napr. Poštovné (1,25 EUR)+Tlač (0,02 EUR)+Papier (0,01 EUR)+Obálka (0,03 EUR). Zhotoviteľ štúdie doplní skutočné náklady) | B16: EUR | C16: t1 | D16: =G16+J16+M16+P16 -> 0 | E16: =H16+K16+N16+Q16 -> 0 | F16: =I16+L16+O16+R16 -> 0 | I16: =H16-G16 -> 0 | L16: =K16-J16 -> 0 | O16: =N16-M16 -> 0 | R16: =Q16-P16 -> 0
C17: t2 | D17: =G17+J17+M17+P17 -> 0 | E17: =H17+K17+N17+Q17 -> 0 | F17: =I17+L17+O17+R17 -> 0 | I17: =H17-G17 -> 0 | L17: =K17-J17 -> 0 | O17: =N17-M17 -> 0 | R17: =Q17-P17 -> 0
C18: t3 | D18: =G18+J18+M18+P18 -> 0 | E18: =H18+K18+N18+Q18 -> 0 | F18: =I18+L18+O18+R18 -> 0 | I18: =H18-G18 -> 0 | L18: =K18-J18 -> 0 | O18: =N18-M18 -> 0 | R18: =Q18-P18 -> 0
C19: t4 | D19: =G19+J19+M19+P19 -> 0 | E19: =H19+K19+N19+Q19 -> 0 | F19: =I19+L19+O19+R19 -> 0 | I19: =H19-G19 -> 0 | L19: =K19-J19 -> 0 | O19: =N19-M19 -> 0 | R19: =Q19-P19 -> 0
C20: t5 | D20: =G20+J20+M20+P20 -> 0 | E20: =H20+K20+N20+Q20 -> 0 | F20: =I20+L20+O20+R20 -> 0 | I20: =H20-G20 -> 0 | L20: =K20-J20 -> 0 | O20: =N20-M20 -> 0 | R20: =Q20-P20 -> 0
C21: t6 | D21: =G21+J21+M21+P21 -> 0 | E21: =H21+K21+N21+Q21 -> 0 | F21: =I21+L21+O21+R21 -> 0 | I21: =H21-G21 -> 0 | L21: =K21-J21 -> 0 | O21: =N21-M21 -> 0 | R21: =Q21-P21 -> 0
C22: t7 | D22: =G22+J22+M22+P22 -> 0 | E22: =H22+K22+N22+Q22 -> 0 | F22: =I22+L22+O22+R22 -> 0 | I22: =H22-G22 -> 0 | L22: =K22-J22 -> 0 | O22: =N22-M22 -> 0 | R22: =Q22-P22 -> 0
C23: t8 | D23: =G23+J23+M23+P23 -> 0 | E23: =H23+K23+N23+Q23 -> 0 | F23: =I23+L23+O23+R23 -> 0 | I23: =H23-G23 -> 0 | L23: =K23-J23 -> 0 | O23: =N23-M23 -> 0 | R23: =Q23-P23 -> 0
C24: t9 | D24: =G24+J24+M24+P24 -> 0 | E24: =H24+K24+N24+Q24 -> 0 | F24: =I24+L24+O24+R24 -> 0 | I24: =H24-G24 -> 0 | L24: =K24-J24 -> 0 | O24: =N24-M24 -> 0 | R24: =Q24-P24 -> 0
C25: t10 | D25: =G25+J25+M25+P25 -> 0 | E25: =H25+K25+N25+Q25 -> 0 | F25: =I25+L25+O25+R25 -> 0 | I25: =H25-G25 -> 0 | L25: =K25-J25 -> 0 | O25: =N25-M25 -> 0 | R25: =Q25-P25 -> 0
A26: Výška administratívneho poplatku | B26: EUR | C26: t1 | D26: =G26+J26+M26+P26 -> 0 | E26: =H26+K26+N26+Q26 -> 0 | F26: =I26+L26+O26+R26 -> 0 | I26: =H26-G26 -> 0 | L26: =K26-J26 -> 0 | O26: =N26-M26 -> 0 | R26: =Q26-P26 -> 0
C27: t2 | D27: =G27+J27+M27+P27 -> 0 | E27: =H27+K27+N27+Q27 -> 0 | F27: =I27+L27+O27+R27 -> 0 | I27: =H27-G27 -> 0 | L27: =K27-J27 -> 0 | O27: =N27-M27 -> 0 | R27: =Q27-P27 -> 0
C28: t3 | D28: =G28+J28+M28+P28 -> 0 | E28: =H28+K28+N28+Q28 -> 0 | F28: =I28+L28+O28+R28 -> 0 | I28: =H28-G28 -> 0 | L28: =K28-J28 -> 0 | O28: =N28-M28 -> 0 | R28: =Q28-P28 -> 0
C29: t4 | D29: =G29+J29+M29+P29 -> 0 | E29: =H29+K29+N29+Q29 -> 0 | F29: =I29+L29+O29+R29 -> 0 | I29: =H29-G29 -> 0 | L29: =K29-J29 -> 0 | O29: =N29-M29 -> 0 | R29: =Q29-P29 -> 0
C30: t5 | D30: =G30+J30+M30+P30 -> 0 | E30: =H30+K30+N30+Q30 -> 0 | F30: =I30+L30+O30+R30 -> 0 | I30: =H30-G30 -> 0 | L30: =K30-J30 -> 0 | O30: =N30-M30 -> 0 | R30: =Q30-P30 -> 0
C31: t6 | D31: =G31+J31+M31+P31 -> 0 | E31: =H31+K31+N31+Q31 -> 0 | F31: =I31+L31+O31+R31 -> 0 | I31: =H31-G31 -> 0 | L31: =K31-J31 -> 0 | O31: =N31-M31 -> 0 | R31: =Q31-P31 -> 0
C32: t7 | D32: =G32+J32+M32+P32 -> 0 | E32: =H32+K32+N32+Q32 -> 0 | F32: =I32+L32+O32+R32 -> 0 | I32: =H32-G32 -> 0 | L32: =K32-J32 -> 0 | O32: =N32-M32 -> 0 | R32: =Q32-P32 -> 0
C33: t8 | D33: =G33+J33+M33+P33 -> 0 | E33: =H33+K33+N33+Q33 -> 0 | F33: =I33+L33+O33+R33 -> 0 | I33: =H33-G33 -> 0 | L33: =K33-J33 -> 0 | O33: =N33-M33 -> 0 | R33: =Q33-P33 -> 0
C34: t9 | D34: =G34+J34+M34+P34 -> 0 | E34: =H34+K34+N34+Q34 -> 0 | F34: =I34+L34+O34+R34 -> 0 | I34: =H34-G34 -> 0 | L34: =K34-J34 -> 0 | O34: =N34-M34 -> 0 | R34: =Q34-P34 -> 0
C35: t10 | D35: =G35+J35+M35+P35 -> 0 | E35: =H35+K35+N35+Q35 -> 0 | F35: =I35+L35+O35+R35 -> 0 | I35: =H35-G35 -> 0 | L35: =K35-J35 -> 0 | O35: =N35-M35 -> 0 | R35: =Q35-P35 -> 0
A36: Trvanie spracovania podania (ušetrený čas úradníka) | B36: človeko-hod. | C36: t1 | D36: =G36+J36+M36+P36 -> 0 | E36: =H36+K36+N36+Q36 -> 0 | F36: =I36+L36+O36+R36 -> 0 | H36: 0 | I36: =H36-G36 -> 0 | K36: 0 | L36: =K36-J36 -> 0 | N36: 0 | O36: =N36-M36 -> 0 | Q36: 0 | R36: =Q36-P36 -> 0 | S36: =#REF! -> 0
C37: t2 | D37: =G37+J37+M37+P37 -> 0 | E37: =H37+K37+N37+Q37 -> 0 | F37: =I37+L37+O37+R37 -> 0 | H37: 0 | I37: =H37-G37 -> 0 | K37: 0 | L37: =K37-J37 -> 0 | N37: 0 | O37: =N37-M37 -> 0 | Q37: 0 | R37: =Q37-P37 -> 0
C38: t3 | D38: =G38+J38+M38+P38 -> 0 | E38: =H38+K38+N38+Q38 -> 0 | F38: =I38+L38+O38+R38 -> 0 | H38: 0 | I38: =H38-G38 -> 0 | K38: 0 | L38: =K38-J38 -> 0 | N38: 0 | O38: =N38-M38 -> 0 | Q38: 0 | R38: =Q38-P38 -> 0
C39: t4 | D39: =G39+J39+M39+P39 -> 0 | E39: =H39+K39+N39+Q39 -> 0 | F39: =I39+L39+O39+R39 -> 0 | H39: 0 | I39: =H39-G39 -> 0 | K39: 0 | L39: =K39-J39 -> 0 | N39: 0 | O39: =N39-M39 -> 0 | Q39: 0 | R39: =Q39-P39 -> 0
C40: t5 | D40: =G40+J40+M40+P40 -> 0 | E40: =H40+K40+N40+Q40 -> 0 | F40: =I40+L40+O40+R40 -> 0 | H40: 0 | I40: =H40-G40 -> 0 | K40: 0 | L40: =K40-J40 -> 0 | N40: 0 | O40: =N40-M40 -> 0 | Q40: 0 | R40: =Q40-P40 -> 0
...

Sheet TCO
A1: Celkové náklady na vlastníctvo (TCO)
A3: Náklady na budúce riešenie
D5: Rok
B6: TO BE | C6: Spolu | D6: t1 | E6: t2 | F6: t3 | G6: t4 | H6: t5 | I6: t6 | J6: t7 | K6: t8 | L6: t9 | M6: t10
B7: SW produkty - sumár obstaranie | C7: =SUM(D7:M7) -> 891660 | D7: ='TCO TO BE - SW'!$E5+'TCO TO BE - SW'!$E15 -> 891660 | E7: ='TCO TO BE - SW'!$E6+'TCO TO BE - SW'!$E16 -> 0 | F7: ='TCO TO BE - SW'!$E7+'TCO TO BE - SW'!$E17 -> 0 | G7: ='TCO TO BE - SW'!$E8+'TCO TO BE - SW'!$E18 -> 0 | H7: ='TCO TO BE - SW'!$E9+'TCO TO BE - SW'!$E19 -> 0 | I7: ='TCO TO BE - SW'!$E10+'TCO TO BE - SW'!$E20 -> 0 | J7: ='TCO TO BE - SW'!$E11+'TCO TO BE - SW'!$E21 -> 0 | K7: ='TCO TO BE - SW'!$E12+'TCO TO BE - SW'!$E22 -> 0 | L7: ='TCO TO BE - SW'!$E13+'TCO TO BE - SW'!$E23 -> 0 | M7: ='TCO TO BE - SW'!$E14+'TCO TO BE - SW'!$E24 -> 0
B8: SW produkty - sumár prevádzka | C8: =SUM(D8:M8) -> 614340 | D8: ='TCO TO BE - SW'!$E58+'TCO TO BE - SW'!$E68 -> 0 | E8: ='TCO TO BE - SW'!$E59+'TCO TO BE - SW'!$E69 -> 68260 | F8: ='TCO TO BE - SW'!$E60+'TCO TO BE - SW'!$E70 -> 68260 | G8: ='TCO TO BE - SW'!$E61+'TCO TO BE - SW'!$E71 -> 68260 | H8: ='TCO TO BE - SW'!$E62+'TCO TO BE - SW'!$E72 -> 68260 | I8: ='TCO TO BE - SW'!$E63+'TCO TO BE - SW'!$E73 -> 68260 | J8: ='TCO TO BE - SW'!$E64+'TCO TO BE - SW'!$E74 -> 68260 | K8: ='TCO TO BE - SW'!$E65+'TCO TO BE - SW'!$E75 -> 68260 | L8: ='TCO TO BE - SW'!$E66+'TCO TO BE - SW'!$E76 -> 68260 | M8: ='TCO TO BE - SW'!$E67+'TCO TO BE - SW'!$E77 -> 68260
B9: Aplikácie - sumár obstaranie | C9: =SUM(D9:M9) -> 0 | D9: ='TCO TO BE - SW'!$E26+'TCO TO BE - SW'!$E36+'TCO TO BE - SW'!$E46 -> 0 | E9: ='TCO TO BE - SW'!$E27+'TCO TO BE - SW'!$E37+'TCO TO BE - SW'!$E47 -> 0 | F9: ='TCO TO BE - SW'!$E28+'TCO TO BE - SW'!$E38+'TCO TO BE - SW'!$E48 -> 0 | G9: ='TCO TO BE - SW'!$E29+'TCO TO BE - SW'!$E39+'TCO TO BE - SW'!$E49 -> 0 | H9: ='TCO TO BE - SW'!$E30+'TCO TO BE - SW'!$E40+'TCO TO BE - SW'!$E50 -> 0 | I9: ='TCO TO BE - SW'!$E31+'TCO TO BE - SW'!$E41+'TCO TO BE - SW'!$E51 -> 0 | J9: ='TCO TO BE - SW'!$E32+'TCO TO BE - SW'!$E42+'TCO TO BE - SW'!$E52 -> 0 | K9: ='TCO TO BE - SW'!$E33+'TCO TO BE - SW'!$E43+'TCO TO BE - SW'!$E53 -> 0 | L9: ='TCO TO BE - SW'!$E34+'TCO TO BE - SW'!$E44+'TCO TO BE - SW'!$E54 -> 0 | M9: ='TCO TO BE - SW'!$E35+'TCO TO BE - SW'!$E45+'TCO TO BE - SW'!$E55 -> 0
B10: Aplikácie - sumár prevádzka | C10: =SUM(D10:M10) -> 31500 | D10: ='TCO TO BE - SW'!E79+'TCO TO BE - SW'!E89+'TCO TO BE - SW'!E99+'TCO TO BE - SW'!E109+'TCO TO BE - SW'!E119 -> 0 | E10: ='TCO TO BE - SW'!E80+'TCO TO BE - SW'!E90+'TCO TO BE - SW'!E100+'TCO TO BE - SW'!E110+'TCO TO BE - SW'!E120 -> 3500 | F10: ='TCO TO BE - SW'!E81+'TCO TO BE - SW'!E91+'TCO TO BE - SW'!E101+'TCO TO BE - SW'!E111+'TCO TO BE - SW'!E121 -> 3500 | G10: ='TCO TO BE - SW'!E82+'TCO TO BE - SW'!E92+'TCO TO BE - SW'!E102+'TCO TO BE - SW'!E112+'TCO TO BE - SW'!E122 -> 3500 | H10: ='TCO TO BE - SW'!E83+'TCO TO BE - SW'!E93+'TCO TO BE - SW'!E103+'TCO TO BE - SW'!E113+'TCO TO BE - SW'!E123 -> 3500 | I10: ='TCO TO BE - SW'!E84+'TCO TO BE - SW'!E94+'TCO TO BE - SW'!E104+'TCO TO BE - SW'!E114+'TCO TO BE - SW'!E124 -> 3500 | J10: ='TCO TO BE - SW'!E85+'TCO TO BE - SW'!E95+'TCO TO BE - SW'!E105+'TCO TO BE - SW'!E115+'TCO TO BE - SW'!E125 -> 3500 | K10: ='TCO TO BE - SW'!E86+'TCO TO BE - SW'!E96+'TCO TO BE - SW'!E106+'TCO TO BE - SW'!E116+'TCO TO BE - SW'!E126 -> 3500 | L10: ='TCO TO BE - SW'!E87+'TCO TO BE - SW'!E97+'TCO TO BE - SW'!E107+'TCO TO BE - SW'!E117+'TCO TO BE - SW'!E127 -> 3500 | M10: ='TCO TO BE - SW'!E88+'TCO TO BE - SW'!E98+'TCO TO BE - SW'!E108+'TCO TO BE - SW'!E118+'TCO TO BE - SW'!E128 -> 3500
B11: SW a Aplikácie - výstupné náklady | C11: =SUM(D11:M11) -> 0 | D11: ='TCO TO BE - SW'!$E151+'TCO TO BE - SW'!$E161 -> 0 | E11: ='TCO TO BE - SW'!$E152+'TCO TO BE - SW'!$E162 -> 0 | F11: ='TCO TO BE - SW'!$E153+'TCO TO BE - SW'!$E163 -> 0 | G11: ='TCO TO BE - SW'!$E154+'TCO TO BE - SW'!$E164 -> 0 | H11: ='TCO TO BE - SW'!$E155+'TCO TO BE - SW'!$E165 -> 0 | I11: ='TCO TO BE - SW'!$E156+'TCO TO BE - SW'!$E166 -> 0 | J11: ='TCO TO BE - SW'!$E157+'TCO TO BE - SW'!$E167 -> 0 | K11: ='TCO TO BE - SW'!$E158+'TCO TO BE - SW'!$E168 -> 0 | L11: ='TCO TO BE - SW'!$E159+'TCO TO BE - SW'!$E169 -> 0 | M11: ='TCO TO BE - SW'!$E160+'TCO TO BE - SW'!$E170 -> 0
B12: HW sumár obstaranie | C12: =SUM(D12:M12) -> 60000 | D12: ='TCO TO BE - HW'!E4+'TCO TO BE - HW'!E14+'TCO TO BE - HW'!E24 -> 60000 | E12: ='TCO TO BE - HW'!$E5+'TCO TO BE - HW'!$E15+'TCO TO BE - HW'!$E25 -> 0 | F12: ='TCO TO BE - HW'!$E6+'TCO TO BE - HW'!$E16+'TCO TO BE - HW'!$E26 -> 0 | G12: ='TCO TO BE - HW'!$E7+'TCO TO BE - HW'!$E17+'TCO TO BE - HW'!$E27 -> 0 | H12: ='TCO TO BE - HW'!$E8+'TCO TO BE - HW'!$E18+'TCO TO BE - HW'!$E28 -> 0 | I12: ='TCO TO BE - HW'!$E9+'TCO TO BE - HW'!$E19+'TCO TO BE - HW'!$E29 -> 0 | J12: ='TCO TO BE - HW'!$E10+'TCO TO BE - HW'!$E20+'TCO TO BE - HW'!$E30 -> 0 | K12: ='TCO TO BE - HW'!$E11+'TCO TO BE - HW'!$E21+'TCO TO BE - HW'!$E31 -> 0 | L12: ='TCO TO BE - HW'!$E12+'TCO TO BE - HW'!$E22+'TCO TO BE - HW'!$E32 -> 0 | M12: ='TCO TO BE - HW'!$E13+'TCO TO BE - HW'!$E23+'TCO TO BE - HW'!$E33 -> 0
