Workbook
Name _Toc102114: Sumarizácia!$C$34

Sheet Úvod
A6: Príloha pre výpočet TCO a čistej súčasnej hodnoty z projektu
A7: Pre projekty zamerané na služby agendových informačných systémov
A8: Metodický pokyn k vypracovaniu finančnej analýzy projektu, analýzy nákladov a prínosov projektu a finančnej analýzy žiadateľa o NFP v programovom období 2014 – 2020.
A19: Názov riešenia | C19: Manažment údajov Mesta Liptovský Mikuláš
A20: Číslo projektu ITMS
A21: Kód ISVS z MetaIS
A22: Organizácia | C22: Mesto Liptovský Mikuláš
A23: Ulica | C23: Štúrova 1989/41
A24: PSČ | C24: 031 42 Liptovský Mikuláš
A25: Web | C25: www.mikulas.sk
A26: IČO | C26: 315524
A27: Spracovateľ | C27: Ing. Dušan Močarník
A28: Kontakt na spracovateľa | C28: dusan.mocarnik@mikulas.sk, tel. : +421 44 5565 169
A30: Jednotlivé informácie sú farebne odlíšené nasledovne:
A31: Hlavička tabuľky | C31: Popisná informácia | E31: Automaticky vypočitavané hodnoty | G31: Miesto na vpisovanie vlastných hodnôt | I31: Preddefinované konštanty

Sheet Zoznam hárkov
A1: Zoznam hárkov s vysvetlením a pokynmi
A2: Hárok | B2: Účel hárku | C2: Vstupy od zhotoviteľa (žlté polia)
A3: Sumarizácia | B3: Sumarizácia výsledkov CBA podľa prínosov a modulov | C3: Vymenovanie a popísanie nevyčíslených spoločenských prínosov
A4: CBA | B4: Výsledky CBA na agregátnej úrovni, výpočet BCR | C4: irelevantné
A5: Analyza citlivosti | B5: Automatický výpočet citlivosti výsledkov CBA na zmeny parametrov | C5: irelevantné
A6: Prínosy | B6: Výpočet prínosov projektu na základe vstupných parametrov | C6: irelevantné
A7: Výdavky | B7: Výpočet výdavkov projektu na základe vstupných parametrov | C7: spracované
A8: Parametre | B8: Vstupné parametre pre jednotlivé moduly/životné situácie: počty podaní, trvania času | C8: nespracovávané
A9: TCO | B9: Zhrnutie celkových nákladov na vlastníctvo oboch alternatív projektu | C9: spracované
A10: TCO AS IS - SW | B10: Náklady na vlastníctvo softvéru alternatívy 1 (AS IS) | C10: irelevantné
A11: TCO AS IS - HW | B11: Náklady na vlastníctvo hardvéru alternatívy 1 (AS IS) | C11: irelevantné
A12: TCO TO BE - SW | B12: Náklady na vlastníctvo softvéru alternatívy 2 (TO BE) | C12: spracované
A13: TCO TO BE - HW | B13: Náklady na vlastníctvo hardvéru alternatívy 2 (TO BE) | C13: spracované
... A23: Sadzby | B23: Zdroj dát pre odhad časovej náročnosti budúcich procesov. | C23: spracované

Sheet Sumarizácia
A1: TO BE - AS IS (€, NPV) | R1: TO BE - AS IS (€, SUM)
D2: CG ISS | E2: CG DISS | F2: CG eGOV | G2: Konsolidácia údajov mesta | H2: Personalizované dáta občanov | I2: Napojenia na externé IS | J2: CG GISam | K2: Open data mesta | L2: Systémový SW (DLP,PKI a iné) | M2: Integrácie a migrácie (modulov) + súlad so zákonom 69/2018 | N2: Spolu | U2: CG ISS | V2: CG DISS | W2: CG eGOV | X2: Konsolidácia údajov mesta | Y2: Personalizované dáta občanov | Z2: Napojenia na externé IS | AA2: CG GISam | AB2: Open data mesta | AC2: Systémový SW (DLP,PKI a iné) | AD2: Integrácie a migrácie (modulov) + súlad so zákonom 69/2018 | AE2: Spolu
A3: Náklady s DPH | D3: =D4+D5+D9+D13+D14 -> 80000 | E3: =E4+E5+E9+E13+E14 -> 106862.57 | F3: =F4+F5+F9+F13+F14 -> 0 | G3: =G4+G5+G9+G13+G14 -> 70539.108 | H3: =H5+H9+H13+H14 -> 42107.822 | I3: =I4+I5+I9+I13+I14 -> 215293.86 | J3: =J4+J5+J9+J13+J14 -> 0 | K3: =K4+K5+K9+K13+K14 -> 60539.108 | L3: =L4+L5+L9+L13+L14 -> 578850.51 | M3: =M4+M5+M9+M13+M14 -> 325524.31 | N3: =SUM(D3:M3) -> 1479717.3 | R3: Náklady s DPH | U3: =U4+U5+U9+U13+U14 -> 80000 | V3: =V4+V5+V9+V13+V14 -> 122000 | W3: =W4+W5+W9+W13+W14 -> 0 | X3: =X4+X5+X9+X13+X14 -> 80000 | Y3: =Y5+Y9+Y13+Y14 -> 44000 | Z3: =Z4+Z5+Z9+Z13+Z14 -> 238000 | AA3: =AA4+AA5+AA9+AA13+AA14 -> 0 | AB3: =AB4+AB5+AB9+AB13+AB14 -> 70000 | AC3: =AC4+AC5+AC9+AC13+AC14 -> 638000 | AD3: =AD5+AD9+AD13+AD14 -> 343500 | AE3: =SUM(U3:AD3) -> 1615500
B4: Všeobecný materiál | D4: 0 | E4: 0 | F4: 0 | G4: 0 | H4: 0 | I4: 0 | J4: 0 | K4: 0 | L4: 0 | M4: 0 | N4: =SUM(D4:H4) -> 0 | S4: Všeobecný materiál | U4: =SUM('Parametre - Agendové IS'!I107:I116) -> 0 | V4: =SUM('Parametre - Agendové IS'!L107:L116) -> 0 | W4: =SUM('Parametre - Agendové IS'!O107:O116) -> 0 | Y4: 0 | Z4: =SUM('Parametre - Agendové IS'!N107:N116) -> 0 | AA4: =SUM('Parametre - Agendové IS'!Q107:Q116) -> 0 | AB4: =SUM('Parametre - Agendové IS'!T107:T116) -> 0 | AC4: 0 | AD4: 0 | AE4: 0
B5: IT - CAPEX | D5: =SUM(D6:D8) -> 80000 | E5: =SUM(E6:E8) -> 50000 | F5: =SUM(F6:F8) -> 0 | G5: =SUM(G6:G8) -> 35000 | H5: =SUM(H6:H8) -> 35000 | I5: =SUM(I6:I8) -> 130000 | J5: =SUM(J6:J8) -> 0 | K5: =SUM(K6:K8) -> 25000 | L5: =SUM(L6:L8) -> 356660 | M5: =SUM(M6:M8)+M13 -> 249000 | N5: =SUM(D5:M5) -> 960660 | S5: IT - CAPEX | U5: =SUM(U6:U8) -> 80000 | V5: =SUM(V6:V8) -> 50000 | W5: =SUM(W6:W8) -> 0 | X5: =SUM(X6:X8) -> 35000 | Y5: =SUM(Y6:Y8) -> 35000 | Z5: =SUM(Z6:Z8) -> 130000 | AA5: =SUM(AA6:AA8) -> 0 | AB5: =SUM(AB6:AB8) -> 25000 | AC5: =SUM(AC6:AC8) -> 356660 | AD5: =SUM(AD6:AD8)+AD13 -> 249000 | AE5: =SUM(U5:AD5) -> 960660
C6: Služby | D6: ='TCO TO BE - SW'!F15+NPV(Faktory!$D$5,'TCO TO BE - SW'!F16:F24) -> 80000 | E6: ='TCO TO BE - SW'!G15+NPV(Faktory!$D$5,'TCO TO BE - SW'!G16:G24) -> 50000 | F6: ='TCO TO BE - SW'!H15+NPV(Faktory!$D$5,'TCO TO BE - SW'!H16:H24) -> 0 | G6: ='TCO TO BE - SW'!I15+NPV(Faktory!$D$5,'TCO TO BE - SW'!I16:I24) -> 15000 | H6: ='TCO TO BE - SW'!J15+NPV(Faktory!$D$5,'TCO TO BE - SW'!J16:J24) -> 30000 | I6: ='TCO TO BE - SW'!K15+NPV(Faktory!$D$5,'TCO TO BE - SW'!K16:K24) -> 105000 | J6: ='TCO TO BE - SW'!L15+NPV(Faktory!$D$5,'TCO TO BE - SW'!L16:L24) -> 0 | K6: ='TCO TO BE - SW'!M15+NPV(Faktory!$D$5,'TCO TO BE - SW'!M16:M24) -> 20000 | ... M6: ='TCO TO BE - SW'!O15+NPV(Faktory!$D$5,'TCO TO BE - SW'!O16:O24) -> 180000 | N6: =SUM(D6:M6) -> 768000 | T6: Služby | U6: ='TCO TO BE - SW'!F15 -> 80000 | V6: ='TCO TO BE - SW'!G15 -> 50000 | W6: ='TCO TO BE - SW'!H15 -> 0 | X6: ='TCO TO BE - SW'!I15 -> 15000 | Y6: ='TCO TO BE - SW'!J15 -> 30000 | Z6: ='TCO TO BE - SW'!K15 -> 105000 | AA6: ='TCO TO BE - SW'!L15 -> 0 | AB6: ='TCO TO BE - SW'!M15 -> 20000 | ... AD6: ='TCO TO BE - SW'!O15 -> 180000 | AE6: =SUM(U6:AD6) -> 768000
C7: SW | D7: ='TCO TO BE - SW'!F5+NPV(Faktory!$D$5,'TCO TO BE - SW'!F6:F14) -> 0 | E7: ='TCO TO BE - SW'!G5+NPV(Faktory!$D$5,'TCO TO BE - SW'!G6:G14) -> 0 | F7: ='TCO TO BE - SW'!H5+NPV(Faktory!$D$5,'TCO TO BE - SW'!H6:H14) -> 0 | G7: ='TCO TO BE - SW'!I5+NPV(Faktory!$D$5,'TCO TO BE - SW'!I6:I14) -> 20000 | H7: ='TCO TO BE - SW'!J5+NPV(Faktory!$D$5,'TCO TO BE - SW'!J6:J14) -> 5000 | I7: ='TCO TO BE - SW'!K5+NPV(Faktory!$D$5,'TCO TO BE - SW'!K6:K14) -> 25000 | J7: ='TCO TO BE - SW'!L5+NPV(Faktory!$D$5,'TCO TO BE - SW'!L6:L14) -> 0 | K7: ='TCO TO BE - SW'!M5+NPV(Faktory!$D$5,'TCO TO BE - SW'!M6:M14) -> 5000 | ... M7: ='TCO TO BE - SW'!O5+NPV(Faktory!$D$5,'TCO TO BE - SW'!O6:O14) -> 0 | N7: =SUM(D7:M7) -> 123660 | T7: SW | U7: ='TCO TO BE - SW'!F5 -> 0 | V7: ='TCO TO BE - SW'!G5 -> 0 | W7: ='TCO TO BE - SW'!H15 -> 0 | X7: ='TCO TO BE - SW'!I5 -> 20000 | Y7: ='TCO TO BE - SW'!J5 -> 5000 | Z7: ='TCO TO BE - SW'!K5 -> 25000 | AA7: ='TCO TO BE - SW'!L5 -> 0 | AB7: ='TCO TO BE - SW'!M5 -> 5000 | AC7: ='TCO TO BE - SW'!N5 -> 68660 | AD7: ='TCO TO BE - SW'!O5 -> 0 | AE7: =SUM(U7:AD7) -> 123660
C8: HW | D8: =('TCO TO BE - HW'!F4+NPV(Faktory!$D$5,'TCO TO BE - HW'!F5:F13)+'TCO TO BE - HW'!F14+NPV(Faktory!$D$5,'TCO TO BE - HW'!F15:F23)+'TCO TO BE - HW'!F24+NPV(Faktory!$D$5,'TCO TO BE - HW'!F25:F33)) -> 0 | E8: =('TCO TO BE - HW'!G4+NPV(Faktory!$D$5,'TCO TO BE - HW'!G5:G13)+'TCO TO BE - HW'!G14+NPV(Faktory!$D$5,'TCO TO BE - HW'!G15:G23)+'TCO TO BE - HW'!G24+NPV(Faktory!$D$5,'TCO TO BE - HW'!G25:G33)) -> 0 | F8: =('TCO TO BE - HW'!H4+NPV(Faktory!$D$5,'TCO TO BE - HW'!H5:H13)+'TCO TO BE - HW'!H14+NPV(Faktory!$D$5,'TCO TO BE - HW'!H15:H23)+'TCO TO BE - HW'!H24+NPV(Faktory!$D$5,'TCO TO BE - HW'!H25:H33)) -> 0 | G8: =('TCO TO BE - HW'!I4+NPV(Faktory!$D$5,'TCO TO BE - HW'!I5:I13)+'TCO TO BE - HW'!I14+NPV(Faktory!$D$5,'TCO TO BE - HW'!I15:I23)+'TCO TO BE - HW'!I24+NPV(Faktory!$D$5,'TCO TO BE - HW'!I25:I33)) -> 0 | H8: =('TCO TO BE - HW'!J4+NPV(Faktory!$D$5,'TCO TO BE - HW'!J5:J13)+'TCO TO BE - HW'!J14+NPV(Faktory!$D$5,'TCO TO BE - HW'!J15:J23)+'TCO TO BE - HW'!J24+NPV(Faktory!$D$5,'TCO TO BE - HW'!J25:J33)) -> 0 | I8: =('TCO TO BE - HW'!K5+NPV(Faktory!$D$5,'TCO TO BE - HW'!K5:K13)+'TCO TO BE - HW'!K14+NPV(Faktory!$D$5,'TCO TO BE - HW'!K15:K23)+'TCO TO BE - HW'!K24+NPV(Faktory!$D$5,'TCO TO BE - HW'!K25:K33)) -> 0 | J8: =('TCO TO BE - HW'!L4+NPV(Faktory!$D$5,'TCO TO BE - HW'!L5:L13)+'TCO TO BE - HW'!L14+NPV(Faktory!$D$5,'TCO TO BE - HW'!L15:L23)+'TCO TO BE - HW'!L24+NPV(Faktory!$D$5,'TCO TO BE - HW'!L25:L33)) -> 0 | K8: =('TCO TO BE - HW'!M4+NPV(Faktory!$D$5,'TCO TO BE - HW'!M5:M13)+'TCO TO BE - HW'!M14+NPV(Faktory!$D$5,'TCO TO BE - HW'!M15:M23)+'TCO TO BE - HW'!M24+NPV(Faktory!$D$5,'TCO TO BE - HW'!M25:M33)) -> 0 | L8: =('TCO TO BE - HW'!N4+NPV(Faktory!$D$5,'TCO TO BE - HW'!N5:N13)+'TCO TO BE - HW'!N14+NPV(Faktory!$D$5,'TCO TO BE - HW'!N15:N23)+'TCO TO BE - HW'!N24+NPV(Faktory!$D$5,'TCO TO BE - HW'!N25:N33)) -> 0 | M8: ='TCO TO BE - HW'!K4+NPV(Faktory!$D$5,'TCO TO BE - HW'!K5:K13) -> 60000 | N8: =SUM(D8:M8) -> 60000 | T8: HW | U8: ='TCO TO BE - HW'!F3 -> 0 | V8: ='TCO TO BE - HW'!G3 -> 0 | W8: ='TCO TO BE - HW'!H3 -> 0 | X8: ='TCO TO BE - HW'!I3 -> 0 | Y8: 0 | Z8: 0 | AA8: 0 | AB8: ='TCO TO BE - HW'!M3 -> 0 | AC8: ='TCO TO BE - HW'!N3 -> 0 | AD8: ='TCO TO BE - HW'!K4 -> 60000 | AE8: =SUM(U8:AD8) -> 60000
B9: IT - OPEX | D9: =SUM(D10:D12) -> 0 | E9: =SUM(E10:E12) -> 56862.573 | F9: =SUM(F10:F12) -> 0 | G9: =SUM(G10:G12) -> 35539.108 | H9: =SUM(H10:H12) -> 7107.8217 | I9: =SUM(I10:I12) -> 85293.86 | J9: =SUM(J10:J12) -> 0 | K9: =SUM(K10:K12) -> 35539.108 | ... M9: =SUM(M10:M12) -> 67524.306 | N9: =SUM(D9:M9) -> 510057.28 | S9: IT - OPEX | U9: =SUM(U10:U12) -> 0 | V9: =SUM(V10:V12) -> 72000 | W9: =SUM(W10:W12) -> 0 | X9: =SUM(X10:X12) -> 45000 | Y9: =SUM(Y10+Y11) -> 9000 | Z9: =SUM(Z10:Z12) -> 108000 | AA9: =SUM(AA10:AA12) -> 0 | AB9: =SUM(AB10:AB12) -> 45000 | AC9: =SUM(AC10:AC12) -> 281340 | AD9: =SUM(AD10+AD11) -> 85500 | AE9: =SUM(U9:AD9) -> 645840
C10: Služby | D10: ='TCO TO BE - SW'!F58+NPV(Faktory!$D$5,'TCO TO BE - SW'!F59:F67) -> 0 | E10: ='TCO TO BE - SW'!G58+NPV(Faktory!$D$5,'TCO TO BE - SW'!G59:G67) -> 56862.573 | F10: ='TCO TO BE - SW'!H58+NPV(Faktory!$D$5,'TCO TO BE - SW'!H59:H67) -> 0 | G10: ='TCO TO BE - SW'!I58+NPV(Faktory!$D$5,'TCO TO BE - SW'!I59:I67) -> 35539.108 | H10: ='TCO TO BE - SW'!J58+NPV(Faktory!$D$5,'TCO TO BE - SW'!J59:J67) -> 7107.8217 | I10: ='TCO TO BE - SW'!K58+NPV(Faktory!$D$5,'TCO TO BE - SW'!K59:K67) -> 85293.86 | J10: ='TCO TO BE - SW'!L58+NPV(Faktory!$D$5,'TCO TO BE - SW'!L59:L67) -> 0 | K10: ='TCO TO BE - SW'!M58+NPV(Faktory!$D$5,'TCO TO BE - SW'!M59:M67) -> 35539.108 | L10: ='TCO TO BE - SW'!N58+NPV(Faktory!$D$5,'TCO TO BE - SW'!N59:N67) -> 174852.41 | M10: ='TCO TO BE - SW'!O58+NPV(Faktory!$D$5,'TCO TO BE - SW'!O59:O67)+'TCO TO BE - SW'!O109+NPV(Faktory!$D$5,'TCO TO BE - SW'!O110:O118) -> 67524.306 | N10: =SUM(D10:M10) -> 462719.19 | T10: Služby | U10: ='TCO TO BE - SW'!F69 -> 0 | V10: ='TCO TO BE - SW'!G59*9 -> 72000 | W10: ='TCO TO BE - SW'!H59 -> 0 | X10: ='TCO TO BE - SW'!I59*9 -> 45000 | Y10: ='TCO TO BE - SW'!J57 -> 9000 | Z10: ='TCO TO BE - SW'!K59*9 -> 108000 | AA10: ='TCO TO BE - SW'!L59 -> 0 | AB10: ='TCO TO BE - SW'!M59*9 -> 45000 | AC10: ='TCO TO BE - SW'!N59*9 -> 221400 | AD10: ='TCO TO BE - SW'!O59*9+'TCO TO BE - SW'!O110*9 -> 85500 | AE10: =SUM(U10:AD10) -> 585900
C11: SW | D11: ='TCO TO BE - SW'!F68+NPV(Faktory!$D$5,'TCO TO BE - SW'!F69:F77) -> 0 | E11: ='TCO TO BE - SW'!G68+NPV(Faktory!$D$5,'TCO TO BE - SW'!G69:G77) -> 0 | F11: ='TCO TO BE - SW'!H68+NPV(Faktory!$D$5,'TCO TO BE - SW'!H69:H77) -> 0 | G11: ='TCO TO BE - SW'!I68+NPV(Faktory!$D$5,'TCO TO BE - SW'!I69:I77) -> 0 | H11: ='TCO TO BE - SW'!J68+NPV(Faktory!$D$5,'TCO TO BE - SW'!J69:J77) -> 0 | I11: ='TCO TO BE - SW'!K68+NPV(Faktory!$D$5,'TCO TO BE - SW'!K69:K77) -> 0 | J11: ='TCO TO BE - SW'!L68+NPV(Faktory!$D$5,'TCO TO BE - SW'!L69:L77) -> 0 | K11: ='TCO TO BE - SW'!M68+NPV(Faktory!$D$5,'TCO TO BE - SW'!M69:M77) -> 0 | ... M11: ='TCO TO BE - SW'!O68+NPV(Faktory!$D$5,'TCO TO BE - SW'!O69:O77) -> 0 | N11: =SUM(D11:M11) -> 47338.092 | T11: SW | U11: ='TCO TO BE - SW'!F69 -> 0 | V11: ='TCO TO BE - SW'!G69 -> 0 | W11: ='TCO TO BE - SW'!H69 -> 0 | X11: ='TCO TO BE - SW'!I69 -> 0 | Y11: ='TCO TO BE - SW'!J6*9 -> 0 | Z11: ='TCO TO BE - SW'!J69 -> 0 | AA11: ='TCO TO BE - SW'!L69 -> 0 | AB11: ='TCO TO BE - SW'!M69 -> 0 | AC11: ='TCO TO BE - SW'!N69*9 -> 59940 | AD11: ='TCO TO BE - SW'!O6*9 -> 0 | AE11: =SUM(U11:AD11) -> 59940
C12: HW | D12: 0 | E12: 0 | F12: 0 | G12: 0 | H12: 0 | I12: 0 | J12: 0 | K12: 0 | L12: 0 | M12: 0 | N12: 0 | T12: HW | U12: ='TCO TO BE - HW'!F34 -> 0 | V12: ='TCO TO BE - HW'!G34 -> 0 | W12: ='TCO TO BE - HW'!H34 -> 0 | X12: ='TCO TO BE - HW'!I34 -> 0 | Y12: 0 | Z12: ='TCO TO BE - HW'!K34 -> 0 | AA12: ='TCO TO BE - HW'!L34 -> 0 | AB12: ='TCO TO BE - HW'!M34 -> 0 | AC12: ='TCO TO BE - HW'!N34 -> 0 | AD12: 0 | AE12: =SUM(U12:AD12) -> 0
B13: Riadenie projektu | D13: 0 | E13: 0 | F13: 0 | G13: 0 | H13: 0 | I13: 0 | J13: 0 | K13: 0 | L13: 0 | M13: ='TCO TO BE - SW'!O130+NPV(Faktory!$D$5,'TCO TO BE - SW'!O131:O140) -> 9000 | N13: =SUM(D13:M13) -> 9000 | S13: Riadenie projektu | U13: 0 | V13: 0 | W13: 0 | X13: 0 | Y13: 0 | Z13: 0 | AA13: 0 | AB13: 0 | AC13: 0 | AD13: ='TCO TO BE - SW'!O130 -> 9000 | AE13: =SUM(U13:AD13) -> 9000
B14: Výstupné náklady | D14: 0 | E14: 0 | F14: 0 | G14: 0 | H14: 0 | I14: 0 | J14: 0 | K14: 0 | L14: 0 | M14: 0 | N14: =SUM(D14:M14) -> 0 | S14: Výstupné náklady | U14: 0 | V14: 0 | W14: 0 | X14: 0 | Y14: 0 | Z14: 0 | AA14: 0 | AB14: 0 | AC14: 0 | AD14: 0 | AE14: =SUM(U14:AD14) -> 0
A15: Prínosy | D15: =D16+D19 -> 0 | E15: =E16+E19 -> 0 | F15: =F16+F19 -> 0 | G15: =G16+G19 -> 0 | I15: =I16+I19 -> 0 | J15: =J16+J19 -> 0 | K15: =K16+K19 -> 0 | L15: =L16+L19 -> 0 | M15: =M16+M19 -> 0 | N15: =SUM(D15:G15) -> 0 | R15: Prínosy | U15: N/A | V15: N/A | W15: N/A | X15: N/A | Y15: N/A | Z15: N/A | AA15: N/A | AB15: N/A | AC15: N/A | AD15: N/A | AE15: N/A
B16: Finančné prínosy | D16: =D17+D18 -> 0 | E16: =E17+E18 -> 0 | F16: =F17+F18 -> 0 | G16: =G17+G18 -> 0 | H16: =H17+H18 -> 0 | I16: =I17+I18 -> 0 | J16: =J17+J18 -> 0 | K16: =K17+K18 -> 0 | ... M16: =M17+M18 -> 0 | N16: =SUM(D16:G16) -> 0 | S16: Finančné prínosy | U16: N/A | V16: N/A | W16: N/A | X16: N/A | Y16: N/A | Z16: N/A | AA16: N/A | AB16: N/A | AC16: N/A | AD16: N/A | AE16: N/A
C17: Administratívne poplatky | D17: ='Parametre - Agendové IS'!I117+NPV(Faktory!$D$3,'Parametre - Agendové IS'!I118:I126) -> 0 | E17: ='Parametre - Agendové IS'!L117+NPV(Faktory!$D$3,'Parametre - Agendové IS'!L118:L126) -> 0 | F17: ='Parametre - Agendové IS'!O117+NPV(Faktory!$D$3,'Parametre - Agendové IS'!O118:O126) -> 0 | G17: 0 | H17: 0 | I17: ='Parametre - Agendové IS'!N117+NPV(Faktory!$D$3,'Parametre - Agendové IS'!N118:N126) -> 0 | J17: ='Parametre - Agendové IS'!Q117+NPV(Faktory!$D$3,'Parametre - Agendové IS'!Q118:Q126) -> 0 | K17: ='Parametre - Agendové IS'!T117+NPV(Faktory!$D$3,'Parametre - Agendové IS'!T118:T126) -> 0 | L17: 0 | M17: ='Parametre - Agendové IS'!V117+NPV(Faktory!$D$3,'Parametre - Agendové IS'!V118:V126) -> 0 | N17: =SUM(D17:G17) -> 0 | T17: Administratívne poplatky | U17: N/A | V17: N/A | W17: N/A | X17: N/A | Y17: N/A | Z17: N/A | AA17: N/A | AB17: N/A | AC17: N/A | AD17: N/A | AE17: N/A
C18: Ostatné daňové a nedaňové príjmy | D18: 0 | E18: 0 | F18: 0 | G18: 0 | H18: 0 | I18: 0 | J18: 0 | K18: 0 | L18: 0 | M18: 0 | N18: ='Prínosy - Agendové IS'!G15 -> 0 | T18: Ostatné daňové a nedaňové príjmy | U18: N/A | V18: N/A | W18: N/A | X18: N/A | Y18: N/A | Z18: N/A | AA18: N/A | AB18: N/A | AC18: N/A | AD18: N/A | AE18: N/A
B19: Ekonomické prínosy | D19: =D20+D21+D23 -> 0 | E19: =E20+E21+E23 -> 0 | F19: =F20+F21+F23 -> 0 | G19: =G20+G21+G23 -> 0 | H19: =H20+H21+H23 -> 0 | I19: =I20+I21+I23 -> 0 | J19: =J20+J21+J23 -> 0 | K19: =K20+K21+K23 -> 0 | ... M19: =M20+M21+M23 -> 0 | N19: =SUM(D19:G19) -> 0 | S19: Ekonomické prínosy | U19: N/A | V19: N/A | W19: N/A | X19: N/A | Y19: N/A | Z19: N/A | AA19: N/A | AB19: N/A | AC19: N/A | AD19: N/A | AE19: N/A
C20: Občania (€) | D20: ='Parametre - Agendové IS'!I97+NPV(Faktory!$D$5,'Parametre - Agendové IS'!I98:I106) -> 0 | E20: ='Parametre - Agendové IS'!L97+NPV(Faktory!$D$5,'Parametre - Agendové IS'!L98:L106) -> 0 | F20: ='Parametre - Agendové IS'!O97+NPV(Faktory!$D$5,'Parametre - Agendové IS'!O98:O106) -> 0 | G20: 0 | H20: 0 | I20: ='Parametre - Agendové IS'!N97+NPV(Faktory!$D$5,'Parametre - Agendové IS'!N98:N106) -> 0 | J20: ='Parametre - Agendové IS'!Q97+NPV(Faktory!$D$5,'Parametre - Agendové IS'!Q98:Q106) -> 0 | K20: ='Parametre - Agendové IS'!T97+NPV(Faktory!$D$5,'Parametre - Agendové IS'!T98:T106) -> 0 | L20: 0 | M20: ='Parametre - Agendové IS'!V97+NPV(Faktory!$D$5,'Parametre - Agendové IS'!V98:V106) -> 0 | N20: =SUM(D20:G20) -> 0 | T20: Občania (€) | U20: N/A | V20: N/A | W20: N/A | X20: N/A | Y20: N/A | Z20: N/A | AA20: N/A | AB20: N/A | AC20: N/A | AD20: N/A | AE20: N/A
C21: Úradníci (€) | D21: =-('Parametre - Agendové IS'!I77+NPV(Faktory!$D$5,'Parametre - Agendové IS'!I78:I86)) -> 0 | E21: =-('Parametre - Agendové IS'!L77+NPV(Faktory!$D$5,'Parametre - Agendové IS'!L78:L86)) -> 0 | F21: =-('Parametre - Agendové IS'!O77+NPV(Faktory!$D$5,'Parametre - Agendové IS'!O78:O86)) -> 0 | G21: 0 | H21: 0 | I21: =-('Parametre - Agendové IS'!N77+NPV(Faktory!$D$5,'Parametre - Agendové IS'!N78:N86)) -> 0 | J21: =-('Parametre - Agendové IS'!Q77+NPV(Faktory!$D$5,'Parametre - Agendové IS'!Q78:Q86)) -> 0 | K21: =-('Parametre - Agendové IS'!T77+NPV(Faktory!$D$5,'Parametre - Agendové IS'!T78:T86)) -> 0 | L21: 0 | M21: =-('Parametre - Agendové IS'!V77+NPV(Faktory!$D$5,'Parametre - Agendové IS'!V78:V86)) -> 0 | N21: =SUM(D21:G21) -> 0 | T21: Úradníci (€) | U21: N/A | V21: N/A | W21: N/A | X21: N/A | Y21: N/A | Z21: N/A | AA21: N/A | AB21: N/A | AC21: N/A | AD21: N/A | AE21: N/A
C22: Úradníci (FTE) | D22: 0 | E22: 0 | F22: 0 | G22: 0 | H22: 0 | I22: 0 | J22: 0 | K22: 0 | L22: 0 | M22: 0 | N22: 0 | T22: Úradníci (FTE) | U22: N/A | V22: N/A | W22: N/A | X22: N/A | Y22: N/A | Z22: N/A | AA22: N/A | AB22: N/A | AC22: N/A | AD22: N/A | AE22: N/A
C23: Kvalitatívne prínosy | D23: ='Parametre - Agendové IS'!I127+NPV(Faktory!$D$5,'Parametre - Agendové IS'!I128:I136) -> 0 | E23: ='Parametre - Agendové IS'!L127+NPV(Faktory!$D$5,'Parametre - Agendové IS'!L128:L136) -> 0 | F23: ='Parametre - Agendové IS'!O127+NPV(Faktory!$D$5,'Parametre - Agendové IS'!O128:O136) -> 0 | G23: 0 | H23: 0 | I23: ='Parametre - Agendové IS'!N127+NPV(Faktory!$D$5,'Parametre - Agendové IS'!N128:N136) -> 0 | J23: ='Parametre - Agendové IS'!Q127+NPV(Faktory!$D$5,'Parametre - Agendové IS'!Q128:Q136) -> 0 | K23: ='Parametre - Agendové IS'!T127+NPV(Faktory!$D$5,'Parametre - Agendové IS'!T128:T136) -> 0 | L23: 0 | M23: ='Parametre - Agendové IS'!V127+NPV(Faktory!$D$5,'Parametre - Agendové IS'!V128:V136) -> 0 | N23: =SUM(D23:G23) -> 0 | T23: Kvalitatívne prínosy | U23: N/A | V23: N/A | W23: N/A | X23: N/A | Y23: N/A | Z23: N/A | AA23: N/A | AB23: N/A | AC23: N/A | AD23: N/A | AE23: N/A
B24: Nevyčíslené spoločenské prínosy | S24: Nevyčíslené spoločenské prínosy
C25: Kvalitnejšie údaje pre občanov a podnikateľov | T25: Kvalitnejšie údaje pre občanov a podnikateľov
C26: Zdieľanie údajov medzi orgánmi verejnej moci (OVM) (integrovať dáta medzi jednotlivými systémami verejnej správy) | T26: Zdieľanie údajov medzi orgánmi verejnej moci (OVM) (integrovať dáta medzi jednotlivými systémami verejnej správy)
C27: Zdieľanie údajov s občanmi a podnikateľmi (poskytovať dáta vo forme osobných a/alebo otvorených údajov) | T27: Zdieľanie údajov s občanmi a podnikateľmi (poskytovať dáta vo forme osobných a/alebo otvorených údajov)
C28: Zabezpečenie väčšej spokojnosti pre jednotlivé subjekty, ktoré vstupujú do procesu práce s dátami (zabezpečiť pravidelnú replikáciu kvalitných a konsolidovaných dát pre analytické účely) | T28: Zabezpečenie väčšej spokojnosti pre jednotlivé subjekty, ktoré vstupujú do procesu práce s dátami (zabezpečiť pravidelnú replikáciu kvalitných a konsolidovaných dát pre analytické účely)

Sheet CBA-Agendové IS
B1: Cashflow projektu | H1: Čistá súčasná hodnota z projektu
B2: Finančný cashflow (s DPH) | E2: Ekonomický cashflow (bez DPH) | H2: koeficient obdobia | I2: Finančná (FNPV) | J2: Ekonomická (ENPV) | K2: Kumulovaná diskont. návratnosť ENPV
A3: Obdobie | B3: AS IS | C3: TO BE | D3: rozdiel | E3: AS IS | F3: TO BE | G3: rozdiel
A4: t1 | B4: ='Prínosy - Agendové IS'!Q4-'Výdavky - Agendové IS'!T4 -> 0 | C4: ='Prínosy - Agendové IS'!R4-'Výdavky - Agendové IS'!U4 -> -960660 | D4: =C4-B4 -> -960660 | E4: ='Prínosy - Agendové IS'!T4-('Výdavky - Agendové IS'!T4/1.2) -> 0 | F4: ='Prínosy - Agendové IS'!U4-('Výdavky - Agendové IS'!U4/1.2) -> -800550 | G4: =F4-E4 -> -800550 | H4: 0 | I4: =D4*(1/(1+Faktory!$D$3)^H4) -> -960660 | J4: =G4*(1/(1+Faktory!$D$5)^H4) -> -800550 | K4: =J4 -> -800550 | L4: =IF(K4>0,"Rok návratu investície","<") -> <
A5: t2 | B5: ='Prínosy - Agendové IS'!Q5-'Výdavky - Agendové IS'!T5 -> 0 | C5: ='Prínosy - Agendové IS'!R5-'Výdavky - Agendové IS'!U5 -> -71760 | D5: =C5-B5 -> -71760 | E5: ='Prínosy - Agendové IS'!T5-('Výdavky - Agendové IS'!T5/1.2) -> 0 | F5: ='Prínosy - Agendové IS'!U5-('Výdavky - Agendové IS'!U5/1.2) -> -59800 | G5: =F5-E5 -> -59800 | H5: 1 | I5: =D5*(1/(1+Faktory!$D$3)^H5) -> -69000 | J5: =G5*(1/(1+Faktory!$D$5)^H5) -> -56952.381 | K5: =J5+K4 -> -857502.38 | L5: =IF(L4="<",IF(K5>0,"Rok návratu investície","<"),">") -> <
A6: t3 | B6: ='Prínosy - Agendové IS'!Q6-'Výdavky - Agendové IS'!T6 -> 0 | C6: ='Prínosy - Agendové IS'!R6-'Výdavky - Agendové IS'!U6 -> -71760 | D6: =C6-B6 -> -71760 | E6: ='Prínosy - Agendové IS'!T6-('Výdavky - Agendové IS'!T6/1.2) -> 0 | F6: ='Prínosy - Agendové IS'!U6-('Výdavky - Agendové IS'!U6/1.2) -> -59800 | G6: =F6-E6 -> -59800 | H6: 2 | I6: =D6*(1/(1+Faktory!$D$3)^H6) -> -66346.154 | J6: =G6*(1/(1+Faktory!$D$5)^H6) -> -54240.363 | K6: =J6+K5 -> -911742.74 | L6: =IF(L5="<",IF(K6>0,"Rok návratu investície","<"),">") -> <
A7: t4 | B7: ='Prínosy - Agendové IS'!Q7-'Výdavky - Agendové IS'!T7 -> 0 | C7: ='Prínosy - Agendové IS'!R7-'Výdavky - Agendové IS'!U7 -> -71760 | D7: =C7-B7 -> -71760 | E7: ='Prínosy - Agendové IS'!T7-('Výdavky - Agendové IS'!T7/1.2) -> 0 | F7: ='Prínosy - Agendové IS'!U7-('Výdavky - Agendové IS'!U7/1.2) -> -59800 | G7: =F7-E7 -> -59800 | H7: 3 | I7: =D7*(1/(1+Faktory!$D$3)^H7) -> -63794.379 | J7: =G7*(1/(1+Faktory!$D$5)^H7) -> -51657.488 | K7: =J7+K6 -> -963400.23 | L7: =IF(L6="<",IF(K7>0,"Rok návratu investície","<"),">") -> <
A8: t5 | B8: ='Prínosy - Agendové IS'!Q8-'Výdavky - Agendové IS'!T8 -> 0 | C8: ='Prínosy - Agendové IS'!R8-'Výdavky - Agendové IS'!U8 -> -71760 | D8: =C8-B8 -> -71760 | E8: ='Prínosy - Agendové IS'!T8-('Výdavky - Agendové IS'!T8/1.2) -> 0 | F8: ='Prínosy - Agendové IS'!U8-('Výdavky - Agendové IS'!U8/1.2) -> -59800 | G8: =F8-E8 -> -59800 | H8: 4 | I8: =D8*(1/(1+Faktory!$D$3)^H8) -> -61340.749 | J8: =G8*(1/(1+Faktory!$D$5)^H8) -> -49197.608 | K8: =J8+K7 -> -1012597.8 | L8: =IF(L7="<",IF(K8>0,"Rok návratu investície","<"),">") -> <
A9: t6 | B9: ='Prínosy - Agendové IS'!Q9-'Výdavky - Agendové IS'!T9 -> 0 | C9: ='Prínosy - Agendové IS'!R9-'Výdavky - Agendové IS'!U9 -> -71760 | D9: =C9-B9 -> -71760 | E9: ='Prínosy - Agendové IS'!T9-('Výdavky - Agendové IS'!T9/1.2) -> 0 | F9: ='Prínosy - Agendové IS'!U9-('Výdavky - Agendové IS'!U9/1.2) -> -59800 | G9: =F9-E9 -> -59800 | H9: 5 | I9: =D9*(1/(1+Faktory!$D$3)^H9) -> -58981.489 | J9: =G9*(1/(1+Faktory!$D$5)^H9) -> -46854.865 | K9: =J9+K8 -> -1059452.7 | L9: =IF(L8="<",IF(K9>0,"Rok návratu investície","<"),">") -> <
A10: t7 | B10: ='Prínosy - Agendové IS'!Q10-'Výdavky - Agendové IS'!T10 -> 0 | C10: ='Prínosy - Agendové IS'!R10-'Výdavky - Agendové IS'!U10 -> -71760 | D10: =C10-B10 -> -71760 | E10: ='Prínosy - Agendové IS'!T10-('Výdavky - Agendové IS'!T10/1.2) -> 0 | F10: ='Prínosy - Agendové IS'!U10-('Výdavky - Agendové IS'!U10/1.2) -> -59800 | G10: =F10-E10 -> -59800 | H10: 6 | I10: =D10*(1/(1+Faktory!$D$3)^H10) -> -56712.97 | J10: =G10*(1/(1+Faktory!$D$5)^H10) -> -44623.681 | K10: =J10+K9 -> -1104076.4 | L10: =IF(L9="<",IF(K10>0,"Rok návratu investície","<"),">") -> <
A11: t8 | B11: ='Prínosy - Agendové IS'!Q11-'Výdavky - Agendové IS'!T11 -> 0 | C11: ='Prínosy - Agendové IS'!R11-'Výdavky - Agendové IS'!U11 -> -71760 | D11: =C11-B11 -> -71760 | E11: ='Prínosy - Agendové IS'!T11-('Výdavky - Agendové IS'!T11/1.2) -> 0 | F11: ='Prínosy - Agendové IS'!U11-('Výdavky - Agendové IS'!U11/1.2) -> -59800 | G11: =F11-E11 -> -59800 | H11: 7 | I11: =D11*(1/(1+Faktory!$D$3)^H11) -> -54531.702 | J11: =G11*(1/(1+Faktory!$D$5)^H11) -> -42498.744 | K11: =J11+K10 -> -1146575.1 | L11: =IF(L10="<",IF(K11>0,"Rok návratu investície","<"),">") -> <
A12: t9 | B12: ='Prínosy - Agendové IS'!Q12-'Výdavky - Agendové IS'!T12 -> 0 | C12: ='Prínosy - Agendové IS'!R12-'Výdavky - Agendové IS'!U12 -> -71760 | D12: =C12-B12 -> -71760 | E12: ='Prínosy - Agendové IS'!T12-('Výdavky - Agendové IS'!T12/1.2) -> 0 | F12: ='Prínosy - Agendové IS'!U12-('Výdavky - Agendové IS'!U12/1.2) -> -59800 | G12: =F12-E12 -> -59800 | H12: 8 | I12: =D12*(1/(1+Faktory!$D$3)^H12) -> -52434.329 | J12: =G12*(1/(1+Faktory!$D$5)^H12) -> -40474.994 | K12: =J12+K11 -> -1187050.1 | L12: =IF(L11="<",IF(K12>0,"Rok návratu investície","<"),">") -> <
A13: t10 | B13: ='Prínosy - Agendové IS'!Q13-'Výdavky - Agendové IS'!T13 -> 0 | C13: ='Prínosy - Agendové IS'!R13-'Výdavky - Agendové IS'!U13 -> -71760 | D13: =C13-B13 -> -71760 | E13: ='Prínosy - Agendové IS'!T13-('Výdavky - Agendové IS'!T13/1.2) -> 0 | F13: ='Prínosy - Agendové IS'!U13-('Výdavky - Agendové IS'!U13/1.2) -> -59800 | G13: =F13-E13 -> -59800 | H13: 9 | I13: =D13*(1/(1+Faktory!$D$3)^H13) -> -50417.624 | J13: =G13*(1/(1+Faktory!$D$5)^H13) -> -38547.613 | K13: =J13+K12 -> -1225597.7 | L13: =IF(L12="<",IF(K13>0,"Rok návratu investície","<"),">") -> <
A14: SPOLU | B14: =SUM(B4:B13) -> 0 | C14: =SUM(C4:C13) -> -1606500 | D14: =SUM(D4:D13) -> -1606500 | E14: =SUM(E4:E13) -> 0 | F14: =SUM(F4:F13) -> -1338750 | G14: =SUM(G4:G13) -> -1338750 | H14: SPOLU | I14: =SUM(I4:I13) -> -1494219.4 | J14: =SUM(J4:J13) -> -1225597.7
H16: Výsledok CBA | J16: Výsledná hodnota | K16: Minimálna hodnota
H17: BCR | I17: pomer prínosov a nákladov | J17: ='Prínosy - Agendové IS'!V15/('Výdavky - Agendové IS'!V15/1.2) -> 0 | K17: 1
H18: FIRR | I18: finančná vnútorná výnosová miera (%) | J18: Aho | K18: -
H19: EIRR | I19: ekonomická vnútorná výnosová miera (%) | J19: =IRR($G$4:$G$13,0.01) -> #NUM! | K19: 0.05
H21: FNPV | I21: finančná čistá súčasná hodnota (eur s DPH) | J21: =I14 -> -1494219.4 | K21: -
H22: ENPV | I22: ekonomická čistá súčasná hodnota (eur bez DPH) | J22: =J14 -> -1225597.7 | K22: 0

Sheet Analýza citlivosti - AgendovéIS
A2: BCR | B2: =#REF! -> 0
B5: Zvýšenie nákladov - TCO celkovo | E5: Zvýšenie CAPEX | H5: Zníženie kvalitatívnych prínosov | K5: Zníženie počtu podaní v budúcom stave | N5: Zníženie očakávaného ušetreného času úradníka | Q5: Zníženie očakávaného ušetreného času používateľa
B6: % | C6: BCR | E6: % | F6: BCR | H6: % | I6: BCR | K6: % | L6: BCR | N6: % | O6: BCR | Q6: % | R6: BCR
B7: 0 | C7: =B2 -> 0 | E7: 0 | F7: =B2 -> 0 | H7: 0 | I7: =B2 -> 0 | K7: 0 | L7: =B2 -> 0 | N7: 0 | O7: =B2 -> 0 | Q7: 0 | R7: =B2 -> 0
B8: 0.1 | C8: 0 | E8: 0.1 | F8: 0 | H8: -0.1 | I8: 0 | K8: -0.1 | L8: 0 | N8: -0.1 | O8: 0 | Q8: -0.1 | R8: 0
B9: 0.2 | C9: 0 | E9: 0.2 | F9: 0 | H9: -0.2 | I9: 0 | K9: -0.2 | L9: 0 | N9: -0.2 | O9: 0 | Q9: -0.2 | R9: 0
B10: 0.3 | C10: 0 | E10: 0.3 | F10: 0 | H10: -0.3 | I10: 0 | K10: -0.3 | L10: 0 | N10: -0.3 | O10: 0 | Q10: -0.3 | R10: 0
B11: 0.4 | C11: 0 | E11: 0.4 | F11: 0 | H11: -0.4 | I11: 0 | K11: -0.4 | L11: 0 | N11: -0.4 | O11: 0 | Q11: -0.4 | R11: 0
B12: 0.5 | C12: 0 | E12: 0.5 | F12: 0 | H12: -0.5 | I12: 0 | K12: -0.5 | L12: 0 | N12: -0.5 | O12: 0 | Q12: -0.5 | R12: 0
B13: 0.6 | C13: 0 | E13: 0.6 | F13: 0 | H13: -0.6 | I13: 0 | K13: -0.6 | L13: 0 | N13: -0.6 | O13: 0 | Q13: -0.6 | R13: 0
B14: 0.7 | C14: 0 | E14: 0.7 | F14: 0 | H14: -0.7 | I14: 0 | K14: -0.7 | L14: 0 | N14: -0.7 | O14: 0 | Q14: -0.7 | R14: 0
B15: 0.8 | C15: 0 | E15: 0.8 | F15: 0 | H15: -0.8 | I15: 0 | K15: -0.8 | L15: 0 | N15: -0.8 | O15: 0 | Q15: -0.8 | R15: 0
B16: 0.9 | C16: 0 | E16: 0.9 | F16: 0 | H16: -0.9 | I16: 0 | K16: -0.9 | L16: 0 | N16: -0.9 | O16: 0 | Q16: -0.9 | R16: 0
B17: 1 | C17: 0 | E17: 1 | F17: 0 | H17: -1 | I17: 0 | K17: -1 | L17: 0 | N17: -1 | O17: 0 | Q17: -1 | R17: 0
D25: Zníženie očakávaného ušetreného času používateľa
C26: =B2 -> 0 | D26: 0 | E26: -0.1 | F26: -0.2 | G26: -0.3 | H26: -0.4 | I26: -0.5 | J26: -0.6 | K26: -0.7 | L26: -0.8 | M26: -0.9 | N26: -1
B27: Zníženie očakávaného ušetreného času úradníka | C27: 0 | D27: 0 | E27: 0 | F27: 0 | G27: 0 | H27: 0 | I27: 0 | J27: 0 | K27: 0 | L27: 0 | M27: 0 | N27: 0
C28: -0.1 | D28: 0 | E28: 0 | F28: 0 | G28: 0 | H28: 0 | I28: 0 | J28: 0 | K28: 0 | L28: 0 | M28: 0 | N28: 0
C29: -0.2 | D29: 0 | E29: 0 | F29: 0 | G29: 0 | H29: 0 | I29: 0 | J29: 0 | K29: 0 | L29: 0 | M29: 0 | N29: 0
C30: -0.3 | D30: 0 | E30: 0 | F30: 0 | G30: 0 | H30: 0 | I30: 0 | J30: 0 | K30: 0 | L30: 0 | M30: 0 | N30: 0
C31: -0.4 | D31: 0 | E31: 0 | F31: 0 | G31: 0 | H31: 0 | I31: 0 | J31: 0 | K31: 0 | L31: 0 | M31: 0 | N31: 0
C32: -0.5 | D32: 0 | E32: 0 | F32: 0 | G32: 0 | H32: 0 | I32: 0 | J32: 0 | K32: 0 | L32: 0 | M32: 0 | N32: 0
C33: -0.6 | D33: 0 | E33: 0 | F33: 0 | G33: 0 | H33: 0 | I33: 0 | J33: 0 | K33: 0 | L33: 0 | M33: 0 | N33: 0
C34: -0.7 | D34: 0 | E34: 0 | F34: 0 | G34: 0 | H34: 0 | I34: 0 | J34: 0 | K34: 0 | L34: 0 | M34: 0 | N34: 0
C35: -0.8 | D35: 0 | E35: 0 | F35: 0 | G35: 0 | H35: 0 | I35: 0 | J35: 0 | K35: 0 | L35: 0 | M35: 0 | N35: 0
C36: -0.9 | D36: 0 | E36: 0 | F36: 0 | G36: 0 | H36: 0 | I36: 0 | J36: 0 | K36: 0 | L36: 0 | M36: 0 | N36: 0
C37: -1 | D37: 0 | E37: 0 | F37: 0 | G37: 0 | H37: 0 | I37: 0 | J37: 0 | K37: 0 | L37: 0 | M37: 0 | N37: 0
D41: Zníženie počtu podaní v budúcom stave
C42: =B2 -> 0 | D42: 0 | E42: -0.1 | F42: -0.2 | G42: -0.3 | H42: -0.4 | I42: -0.5 | J42: -0.6 | K42: -0.7 | L42: -0.8 | M42: -0.9 | N42: -1
B43: Zvýšenie CAPEX | C43: 0 | D43: 0 | E43: 0 | F43: 0 | G43: 0 | H43: 0 | I43: 0 | J43: 0 | K43: 0 | L43: 0 | M43: 0 | N43: 0
C44: 0.1 | D44: 0 | E44: 0 | F44: 0 | G44: 0 | H44: 0 | I44: 0 | J44: 0 | K44: 0 | L44: 0 | M44: 0 | N44: 0
C45: 0.2 | D45: 0 | E45: 0 | F45: 0 | G45: 0 | H45: 0 | I45: 0 | J45: 0 | K45: 0 | L45: 0 | M45: 0 | N45: 0
C46: 0.3 | D46: 0 | E46: 0 | F46: 0 | G46: 0 | H46: 0 | I46: 0 | J46: 0 | K46: 0 | L46: 0 | M46: 0 | N46: 0
C47: 0.4 | D47: 0 | E47: 0 | F47: 0 | G47: 0 | H47: 0 | I47: 0 | J47: 0 | K47: 0 | L47: 0 | M47: 0 | N47: 0
C48: 0.5 | D48: 0 | E48: 0 | F48: 0 | G48: 0 | H48: 0 | I48: 0 | J48: 0 | K48: 0 | L48: 0 | M48: 0 | N48: 0
C49: 0.6 | D49: 0 | E49: 0 | F49: 0 | G49: 0 | H49: 0 | I49: 0 | J49: 0 | K49: 0 | L49: 0 | M49: 0 | N49: 0
C50: 0.7 | D50: 0 | E50: 0 | F50: 0 | G50: 0 | H50: 0 | I50: 0 | J50: 0 | K50: 0 | L50: 0 | M50: 0 | N50: 0
C51: 0.8 | D51: 0 | E51: 0 | F51: 0 | G51: 0 | H51: 0 | I51: 0 | J51: 0 | K51: 0 | L51: 0 | M51: 0 | N51: 0
C52: 0.9 | D52: 0 | E52: 0 | F52: 0 | G52: 0 | H52: 0 | I52: 0 | J52: 0 | K52: 0 | L52: 0 | M52: 0 | N52: 0
C53: 1 | D53: 0 | E53: 0 | F53: 0 | G53: 0 | H53: 0 | I53: 0 | J53: 0 | K53: 0 | L53: 0 | M53: 0 | N53: 0

Sheet Prínosy - Agendové IS
B1: Priame prínosy | E1: Nepriame prínosy | Q1: Prínosy spolu
B2: Administratívne poplatky | E2: Ostatné daňové a nedaňové príjmy | H2: Cena ušetreného času používateľa | K2: Kvalitatívne prínosy vo finančnom vyjadrení | N2: Cena ušetreného času úradníka | Q2: Finančné prínosy | T2: Ekonomické prínosy
A3: Obdobie | B3: AS IS | C3: TO BE | D3: rozdiel | E3: AS IS | F3: TO BE | G3: rozdiel | H3: AS IS | I3: TO BE | J3: rozdiel | K3: AS IS | L3: TO BE | M3: rozdiel | N3: AS IS | O3: TO BE | P3: rozdiel | Q3: AS IS | R3: TO BE | S3: rozdiel | T3: AS IS | U3: TO BE | V3: rozdiel
A4: t1 | B4: ='Parametre - Agendové IS'!D117 -> 0 | C4: ='Parametre - Agendové IS'!E117 -> 0 | D4: =IF(ISERR(C4-B4),"-",C4-B4) -> 0 | G4: =IF(ISERR(F4-E4),"-",F4-E4) -> 0 | H4: 0 | I4: ='Parametre - Agendové IS'!E97 -> 0 | J4: =IF(ISERR(I4-H4),"-",I4-H4) -> 0 | K4: ='Parametre - Agendové IS'!D127 -> 0 | L4: ='Parametre - Agendové IS'!E127 -> 0 | M4: =IF(ISERR(L4-K4),"-",L4-K4) -> 0 | N4: =-'Parametre - Agendové IS'!D77 -> 0 | O4: =-'Parametre - Agendové IS'!E77 -> 0 | P4: =IF(ISERR(O4-N4),"-",O4-N4) -> 0 | Q4: =SUM(B4,E4) -> 0 | R4: =SUM(C4,F4) -> 0 | S4: =R4-Q4 -> 0 | T4: =SUM(H4,K4,N4) -> 0 | U4: =SUM(I4,L4,O4) -> 0 | V4: =U4-T4 -> 0
A5: t2 | B5: ='Parametre - Agendové IS'!D118 -> 0 | C5: ='Parametre - Agendové IS'!E118 -> 0 | D5: =IF(ISERR(C5-B5),"-",C5-B5) -> 0 | G5: =IF(ISERR(F5-E5),"-",F5-E5) -> 0 | H5: 0 | I5: ='Parametre - Agendové IS'!E98 -> 0 | J5: =IF(ISERR(I5-H5),"-",I5-H5) -> 0 | K5: ='Parametre - Agendové IS'!D128 -> 0 | L5: ='Parametre - Agendové IS'!E128 -> 0 | M5: =IF(ISERR(L5-K5),"-",L5-K5) -> 0 | N5: =-'Parametre - Agendové IS'!D78 -> 0 | O5: =-'Parametre - Agendové IS'!E78 -> 0 | P5: =IF(ISERR(O5-N5),"-",O5-N5) -> 0 | Q5: =SUM(B5,E5) -> 0 | R5: =SUM(C5,F5) -> 0 | S5: =R5-Q5 -> 0 | T5: =SUM(H5,K5,N5) -> 0 | U5: =SUM(I5,L5,O5) -> 0 | V5: =U5-T5 -> 0
A6: t3 | B6: ='Parametre - Agendové IS'!D119 -> 0 | C6: ='Parametre - Agendové IS'!E119 -> 0 | D6: =IF(ISERR(C6-B6),"-",C6-B6) -> 0 | G6: =IF(ISERR(F6-E6),"-",F6-E6) -> 0 | H6: 0 | I6: ='Parametre - Agendové IS'!E99 -> 0 | J6: =IF(ISERR(I6-H6),"-",I6-H6) -> 0 | K6: ='Parametre - Agendové IS'!D129 -> 0 | L6: ='Parametre - Agendové IS'!E129 -> 0 | M6: =IF(ISERR(L6-K6),"-",L6-K6) -> 0 | N6: =-'Parametre - Agendové IS'!D79 -> 0 | O6: =-'Parametre - Agendové IS'!E79 -> 0 | P6: =IF(ISERR(O6-N6),"-",O6-N6) -> 0 | Q6: =SUM(B6,E6) -> 0 | R6: =SUM(C6,F6) -> 0 | S6: =R6-Q6 -> 0 | T6: =SUM(H6,K6,N6) -> 0 | U6: =SUM(I6,L6,O6) -> 0 | V6: =U6-T6 -> 0
A7: t4 | B7: ='Parametre - Agendové IS'!D120 -> 0 | C7: ='Parametre - Agendové IS'!E120 -> 0 | D7: =IF(ISERR(C7-B7),"-",C7-B7) -> 0 | G7: =IF(ISERR(F7-E7),"-",F7-E7) -> 0 | H7: 0 | I7: ='Parametre - Agendové IS'!E100 -> 0 | J7: =IF(ISERR(I7-H7),"-",I7-H7) -> 0 | K7: ='Parametre - Agendové IS'!D130 -> 0 | L7: ='Parametre - Agendové IS'!E130 -> 0 | M7: =IF(ISERR(L7-K7),"-",L7-K7) -> 0 | N7: =-'Parametre - Agendové IS'!D80 -> 0 | O7: =-'Parametre - Agendové IS'!E80 -> 0 | P7: =IF(ISERR(O7-N7),"-",O7-N7) -> 0 | Q7: =SUM(B7,E7) -> 0 | R7: =SUM(C7,F7) -> 0 | S7: =R7-Q7 -> 0 | T7: =SUM(H7,K7,N7) -> 0 | U7: =SUM(I7,L7,O7) -> 0 | V7: =U7-T7 -> 0
A8: t5 | B8: ='Parametre - Agendové IS'!D121 -> 0 | C8: ='Parametre - Agendové IS'!E121 -> 0 | D8: =IF(ISERR(C8-B8),"-",C8-B8) -> 0 | G8: =IF(ISERR(F8-E8),"-",F8-E8) -> 0 | H8: 0 | I8: ='Parametre - Agendové IS'!E101 -> 0 | J8: =IF(ISERR(I8-H8),"-",I8-H8) -> 0 | K8: ='Parametre - Agendové IS'!D131 -> 0 | L8: ='Parametre - Agendové IS'!E131 -> 0 | M8: =IF(ISERR(L8-K8),"-",L8-K8) -> 0 | N8: =-'Parametre - Agendové IS'!D81 -> 0 | O8: =-'Parametre - Agendové IS'!E81 -> 0 | P8: =IF(ISERR(O8-N8),"-",O8-N8) -> 0 | Q8: =SUM(B8,E8) -> 0 | R8: =SUM(C8,F8) -> 0 | S8: =R8-Q8 -> 0 | T8: =SUM(H8,K8,N8) -> 0 | U8: =SUM(I8,L8,O8) -> 0 | V8: =U8-T8 -> 0
A9: t6 | B9: ='Parametre - Agendové IS'!D122 -> 0 | C9: ='Parametre - Agendové IS'!E122 -> 0 | D9: =IF(ISERR(C9-B9),"-",C9-B9) -> 0 | G9: =IF(ISERR(F9-E9),"-",F9-E9) -> 0 | H9: 0 | I9: ='Parametre - Agendové IS'!E102 -> 0 | J9: =IF(ISERR(I9-H9),"-",I9-H9) -> 0 | K9: ='Parametre - Agendové IS'!D132 -> 0 | L9: ='Parametre - Agendové IS'!E132 -> 0 | M9: =IF(ISERR(L9-K9),"-",L9-K9) -> 0 | N9: =-'Parametre - Agendové IS'!D82 -> 0 | O9: =-'Parametre - Agendové IS'!E82 -> 0 | P9: =IF(ISERR(O9-N9),"-",O9-N9) -> 0 | Q9: =SUM(B9,E9) -> 0 | R9: =SUM(C9,F9) -> 0 | S9: =R9-Q9 -> 0 | T9: =SUM(H9,K9,N9) -> 0 | U9: =SUM(I9,L9,O9) -> 0 | V9: =U9-T9 -> 0
A10: t7 | B10: ='Parametre - Agendové IS'!D123 -> 0 | C10: ='Parametre - Agendové IS'!E123 -> 0 | D10: =IF(ISERR(C10-B10),"-",C10-B10) -> 0 | G10: =IF(ISERR(F10-E10),"-",F10-E10) -> 0 | H10: 0 | I10: ='Parametre - Agendové IS'!E103 -> 0 | J10: =IF(ISERR(I10-H10),"-",I10-H10) -> 0 | K10: ='Parametre - Agendové IS'!D133 -> 0 | L10: ='Parametre - Agendové IS'!E133 -> 0 | M10: =IF(ISERR(L10-K10),"-",L10-K10) -> 0 | N10: =-'Parametre - Agendové IS'!D83 -> 0 | O10: =-'Parametre - Agendové IS'!E83 -> 0 | P10: =IF(ISERR(O10-N10),"-",O10-N10) -> 0 | Q10: =SUM(B10,E10) -> 0 | R10: =SUM(C10,F10) -> 0 | S10: =R10-Q10 -> 0 | T10: =SUM(H10,K10,N10) -> 0 | U10: =SUM(I10,L10,O10) -> 0 | V10: =U10-T10 -> 0
A11: t8 | B11: ='Parametre - Agendové IS'!D124 -> 0 | C11: ='Parametre - Agendové IS'!E124 -> 0 | D11: =IF(ISERR(C11-B11),"-",C11-B11) -> 0 | G11: =IF(ISERR(F11-E11),"-",F11-E11) -> 0 | H11: 0 | I11: ='Parametre - Agendové IS'!E104 -> 0 | J11: =IF(ISERR(I11-H11),"-",I11-H11) -> 0 | K11: ='Parametre - Agendové IS'!D134 -> 0 | L11: ='Parametre - Agendové IS'!E134 -> 0 | M11: =IF(ISERR(L11-K11),"-",L11-K11) -> 0 | N11: =-'Parametre - Agendové IS'!D84 -> 0 | O11: =-'Parametre - Agendové IS'!E84 -> 0 | P11: =IF(ISERR(O11-N11),"-",O11-N11) -> 0 | Q11: =SUM(B11,E11) -> 0 | R11: =SUM(C11,F11) -> 0 | S11: =R11-Q11 -> 0 | T11: =SUM(H11,K11,N11) -> 0 | U11: =SUM(I11,L11,O11) -> 0 | V11: =U11-T11 -> 0
A12: t9 | B12: ='Parametre - Agendové IS'!D125 -> 0 | C12: ='Parametre - Agendové IS'!E125 -> 0 | D12: =IF(ISERR(C12-B12),"-",C12-B12) -> 0 | G12: =IF(ISERR(F12-E12),"-",F12-E12) -> 0 | H12: 0 | I12: ='Parametre - Agendové IS'!E105 -> 0 | J12: =IF(ISERR(I12-H12),"-",I12-H12) -> 0 | K12: ='Parametre - Agendové IS'!D135 -> 0 | L12: ='Parametre - Agendové IS'!E135 -> 0 | M12: =IF(ISERR(L12-K12),"-",L12-K12) -> 0 | N12: =-'Parametre - Agendové IS'!D85 -> 0 | O12: =-'Parametre - Agendové IS'!E85 -> 0 | P12: =IF(ISERR(O12-N12),"-",O12-N12) -> 0 | Q12: =SUM(B12,E12) -> 0 | R12: =SUM(C12,F12) -> 0 | S12: =R12-Q12 -> 0 | T12: =SUM(H12,K12,N12) -> 0 | U12: =SUM(I12,L12,O12) -> 0 | V12: =U12-T12 -> 0
A13: t10 | B13: ='Parametre - Agendové IS'!D126 -> 0 | C13: ='Parametre - Agendové IS'!E126 -> 0 | D13: =IF(ISERR(C13-B13),"-",C13-B13) -> 0 | G13: =IF(ISERR(F13-E13),"-",F13-E13) -> 0 | H13: 0 | I13: ='Parametre - Agendové IS'!E106 -> 0 | J13: =IF(ISERR(I13-H13),"-",I13-H13) -> 0 | K13: ='Parametre - Agendové IS'!D136 -> 0 | L13: ='Parametre - Agendové IS'!E136 -> 0 | M13: =IF(ISERR(L13-K13),"-",L13-K13) -> 0 | N13: =-'Parametre - Agendové IS'!D86 -> 0 | O13: =-'Parametre - Agendové IS'!E86 -> 0 | P13: =IF(ISERR(O13-N13),"-",O13-N13) -> 0 | Q13: =SUM(B13,E13) -> 0 | R13: =SUM(C13,F13) -> 0 | S13: =R13-Q13 -> 0 | T13: =SUM(H13,K13,N13) -> 0 | U13: =SUM(I13,L13,O13) -> 0 | V13: =U13-T13 -> 0
A14: Spolu | B14: =SUM(B4:B13) -> 0 | C14: =SUM(C4:C13) -> 0 | D14: =SUM(D4:D13) -> 0 | E14: =SUM(E4:E13) -> 0 | F14: =SUM(F4:F13) -> 0 | G14: =SUM(G4:G13) -> 0 | H14: =SUM(H4:H13) -> 0 | I14: =SUM(I4:I13) -> 0 | ... V14: =SUM(V4:V13) -> 0
A15: NPV | D15: =D4+NPV(Faktory!$D$5,'Prínosy - Agendové IS'!D5:D13) -> 0 | G15: =G4+NPV(Faktory!$D$3,'Prínosy - Agendové IS'!G5:G13) -> 0 | J15: =J4+NPV(Faktory!$D$5,'Prínosy - Agendové IS'!J5:J13) -> 0 | M15: =M4+NPV(Faktory!$D$5,'Prínosy - Agendové IS'!M5:M13) -> 0 | P15: =P4+NPV(Faktory!$D$5,'Prínosy - Agendové IS'!P5:P13) -> 0 | S15: =S4+NPV(Faktory!$D$5,'Prínosy - Agendové IS'!S5:S13) -> 0 | V15: =V4+NPV(Faktory!$D$5,'Prínosy - Agendové IS'!V5:V13) -> 0
B17: Všetky prínosové položky sú automaticky vypočítané na základe údajov uvedených v záložkách TCO, spotrebované cloudové služby a Parametre - Agendové IS

Sheet Výdavky - Agendové IS
B1: Náklady IT systém | N1: Riadenie projektu | Q1: Variabilné výdavky | T1: Výdavky spolu
B2: HW | E2: SW | H2: Aplikácie | K2: SW a Aplikácie - Výstupné náklady | Q2: Všeobecný materiál
A3: Obdobie | B3: AS IS | C3: TO BE | D3: rozdiel | E3: AS IS | F3: TO BE | G3: rozdiel | H3: AS IS | I3: TO BE | J3: rozdiel | K3: AS IS | L3: TO BE | M3: rozdiel | N3: AS IS | O3: TO BE | P3: rozdiel | Q3: AS IS | R3: TO BE | S3: rozdiel | T3: AS IS | U3: TO BE | V3: rozdiel
A4: t1 | B4: =TCO!D26+TCO!D27 -> 0 | C4: =(TCO!D$12*(1+$W$5))+TCO!D$13 -> 60000 | D4: =C4-B4 -> 60000 | E4: =TCO!D22+TCO!D23 -> 0 | F4: =(TCO!D$7*(1+$W$5))+TCO!D$8 -> 891660 | G4: =F4-E4 -> 891660 | H4: =TCO!D24+TCO!D25 -> 0 | I4: =(TCO!D$9*(1+$W$5))+TCO!D$10 -> 0 | J4: =I4-H4 -> 0 | K4: 0 | L4: =TCO!D11 -> 0 | M4: =L4-K4 -> 0 | N4: 0 | O4: =TCO!D14 -> 9000 | P4: =O4-N4 -> 9000 | Q4: ='Parametre - Agendové IS'!D107 -> 0 | R4: ='Parametre - Agendové IS'!E107 -> 0 | S4: =IF(ISERR(R4-Q4),"-",R4-Q4) -> 0 | T4: =SUM(B4,E4,H4,K4,N4,Q4) -> 0 | U4: =((C4+F4+L4+O4+I4)*(1+$W$4))+R4 -> 960660 | V4: =U4-T4 -> 960660 | W4: =#REF! -> 0
A5: t2 | B5: =TCO!E26+TCO!E27 -> 0 | C5: =(TCO!E$12*(1+$W$5))+TCO!E$13 -> 0 | D5: =C5-B5 -> 0 | E5: =TCO!E22+TCO!E23 -> 0 | F5: =(TCO!E$7*(1+$W$5))+TCO!E$8 -> 68260 | G5: =F5-E5 -> 68260 | H5: =TCO!E24+TCO!E25 -> 0 | I5: =(TCO!E$9*(1+$W$5))+TCO!E$10 -> 3500 | J5: =I5-H5 -> 3500 | K5: 0 | L5: =TCO!E11 -> 0 | M5: =L5-K5 -> 0 | N5: 0 | O5: =TCO!E14 -> 0 | P5: =O5-N5 -> 0 | Q5: ='Parametre - Agendové IS'!D108 -> 0 | R5: ='Parametre - Agendové IS'!E108 -> 0 | S5: =IF(ISERR(R5-Q5),"-",R5-Q5) -> 0 | T5: =SUM(B5,E5,H5,K5,N5,Q5) -> 0 | U5: =((C5+F5+L5+O5+I5)*(1+$W$4))+R5 -> 71760 | V5: =U5-T5 -> 71760 | W5: =#REF! -> 0
A6: t3 | B6: =TCO!F26+TCO!F27 -> 0 | C6: =(TCO!F$12*(1+$W$5))+TCO!F$13 -> 0 | D6: =C6-B6 -> 0 | E6: =TCO!F22+TCO!F23 -> 0 | F6: =(TCO!F$7*(1+$W$5))+TCO!F$8 -> 68260 | G6: =F6-E6 -> 68260 | H6: =TCO!F24+TCO!F25 -> 0 | I6: =(TCO!F$9*(1+$W$5))+TCO!F$10 -> 3500 | J6: =I6-H6 -> 3500 | K6: 0 | L6: =TCO!F11 -> 0 | M6: =L6-K6 -> 0 | N6: 0 | O6: =TCO!F14 -> 0 | P6: =O6-N6 -> 0 | Q6: ='Parametre - Agendové IS'!D109 -> 0 | R6: ='Parametre - Agendové IS'!E109 -> 0 | S6: =IF(ISERR(R6-Q6),"-",R6-Q6) -> 0 | T6: =SUM(B6,E6,H6,K6,N6,Q6) -> 0 | U6: =((C6+F6+L6+O6+I6)*(1+$W$4))+R6 -> 71760 | V6: =U6-T6 -> 71760
A7: t4 | B7: =TCO!G26+TCO!G27 -> 0 | C7: =(TCO!G$12*(1+$W$5))+TCO!G$13 -> 0 | D7: =C7-B7 -> 0 | E7: =TCO!G22+TCO!G23 -> 0 | F7: =(TCO!G$7*(1+$W$5))+TCO!G$8 -> 68260 | G7: =F7-E7 -> 68260 | H7: =TCO!G24+TCO!G25 -> 0 | I7: =(TCO!G$9*(1+$W$5))+TCO!G$10 -> 3500 | J7: =I7-H7 -> 3500 | K7: 0 | L7: =TCO!G11 -> 0 | M7: =L7-K7 -> 0 | N7: 0 | O7: =TCO!G14 -> 0 | P7: =O7-N7 -> 0 | Q7: ='Parametre - Agendové IS'!D110 -> 0 | R7: ='Parametre - Agendové IS'!E110 -> 0 | S7: =IF(ISERR(R7-Q7),"-",R7-Q7) -> 0 | T7: =SUM(B7,E7,H7,K7,N7,Q7) -> 0 | U7: =((C7+F7+L7+O7+I7)*(1+$W$4))+R7 -> 71760 | V7: =U7-T7 -> 71760
A8: t5 | B8: =TCO!H26+TCO!H27 -> 0 | C8: =(TCO!H$12*(1+$W$5))+TCO!H$13 -> 0 | D8: =C8-B8 -> 0 | E8: =TCO!H22+TCO!H23 -> 0 | F8: =(TCO!H$7*(1+$W$5))+TCO!H$8 -> 68260 | G8: =F8-E8 -> 68260 | H8: =TCO!H24+TCO!H25 -> 0 | I8: =(TCO!H$9*(1+$W$5))+TCO!H$10 -> 3500 | J8: =I8-H8 -> 3500 | K8: 0 | L8: =TCO!H11 -> 0 | M8: =L8-K8 -> 0 | N8: 0 | O8: =TCO!H14 -> 0 | P8: =O8-N8 -> 0 | Q8: ='Parametre - Agendové IS'!D111 -> 0 | R8: ='Parametre - Agendové IS'!E111 -> 0 | S8: =IF(ISERR(R8-Q8),"-",R8-Q8) -> 0 | T8: =SUM(B8,E8,H8,K8,N8,Q8) -> 0 | U8: =((C8+F8+L8+O8+I8)*(1+$W$4))+R8 -> 71760 | V8: =U8-T8 -> 71760
A9: t6 | B9: =TCO!I26+TCO!I27 -> 0 | C9: =(TCO!I$12*(1+$W$5))+TCO!I$13 -> 0 | D9: =C9-B9 -> 0 | E9: =TCO!I22+TCO!I23 -> 0 | F9: =(TCO!I$7*(1+$W$5))+TCO!I$8 -> 68260 | G9: =F9-E9 -> 68260 | H9: =TCO!I24+TCO!I25 -> 0 | I9: =(TCO!I$9*(1+$W$5))+TCO!I$10 -> 3500 | J9: =I9-H9 -> 3500 | K9: 0 | L9: =TCO!I11 -> 0 | M9: =L9-K9 -> 0 | N9: 0 | O9: =TCO!I14 -> 0 | P9: =O9-N9 -> 0 | Q9: ='Parametre - Agendové IS'!D112 -> 0 | R9: ='Parametre - Agendové IS'!E112 -> 0 | S9: =IF(ISERR(R9-Q9),"-",R9-Q9) -> 0 | T9: =SUM(B9,E9,H9,K9,N9,Q9) -> 0 | U9: =((C9+F9+L9+O9+I9)*(1+$W$4))+R9 -> 71760 | V9: =U9-T9 -> 71760
A10: t7 | B10: =TCO!J26+TCO!J27 -> 0 | C10: =(TCO!J$12*(1+$W$5))+TCO!J$13 -> 0 | D10: =C10-B10 -> 0 | E10: =TCO!J22+TCO!J23 -> 0 | F10: =(TCO!J$7*(1+$W$5))+TCO!J$8 -> 68260 | G10: =F10-E10 -> 68260 | H10: =TCO!J24+TCO!J25 -> 0 | I10: =(TCO!J$9*(1+$W$5))+TCO!J$10 -> 3500 | J10: =I10-H10 -> 3500 | K10: 0 | L10: =TCO!J11 -> 0 | M10: =L10-K10 -> 0 | N10: 0 | O10: =TCO!J14 -> 0 | P10: =O10-N10 -> 0 | Q10: ='Parametre - Agendové IS'!D113 -> 0 | R10: ='Parametre - Agendové IS'!E113 -> 0 | S10: =IF(ISERR(R10-Q10),"-",R10-Q10) -> 0 | T10: =SUM(B10,E10,H10,K10,N10,Q10) -> 0 | U10: =((C10+F10+L10+O10+I10)*(1+$W$4))+R10 -> 71760 | V10: =U10-T10 -> 71760
A11: t8 | B11: =TCO!K26+TCO!K27 -> 0 | C11: =(TCO!K$12*(1+$W$5))+TCO!K$13 -> 0 | D11: =C11-B11 -> 0 | E11: =TCO!K22+TCO!K23 -> 0 | F11: =(TCO!K$7*(1+$W$5))+TCO!K$8 -> 68260 | G11: =F11-E11 -> 68260 | H11: =TCO!K24+TCO!K25 -> 0 | I11: =(TCO!K$9*(1+$W$5))+TCO!K$10 -> 3500 | J11: =I11-H11 -> 3500 | K11: 0 | L11: =TCO!K11 -> 0 | M11: =L11-K11 -> 0 | N11: 0 | O11: =TCO!K14 -> 0 | P11: =O11-N11 -> 0 | Q11: ='Parametre - Agendové IS'!D114 -> 0 | R11: ='Parametre - Agendové IS'!E114 -> 0 | S11: =IF(ISERR(R11-Q11),"-",R11-Q11) -> 0 | T11: =SUM(B11,E11,H11,K11,N11,Q11) -> 0 | U11: =((C11+F11+L11+O11+I11)*(1+$W$4))+R11 -> 71760 | V11: =U11-T11 -> 71760
A12: t9 | B12: =TCO!L26+TCO!L27 -> 0 | C12: =(TCO!L$12*(1+$W$5))+TCO!L$13 -> 0 | D12: =C12-B12 -> 0 | E12: =TCO!L22+TCO!L23 -> 0 | F12: =(TCO!L$7*(1+$W$5))+TCO!L$8 -> 68260 | G12: =F12-E12 -> 68260 | H12: =TCO!L24+TCO!L25 -> 0 | I12: =(TCO!L$9*(1+$W$5))+TCO!L$10 -> 3500 | J12: =I12-H12 -> 3500 | K12: 0 | L12: =TCO!L11 -> 0 | M12: =L12-K12 -> 0 | N12: 0 | O12: =TCO!L14 -> 0 | P12: =O12-N12 -> 0 | Q12: ='Parametre - Agendové IS'!D115 -> 0 | R12: ='Parametre - Agendové IS'!E115 -> 0 | S12: =IF(ISERR(R12-Q12),"-",R12-Q12) -> 0 | T12: =SUM(B12,E12,H12,K12,N12,Q12) -> 0 | U12: =((C12+F12+L12+O12+I12)*(1+$W$4))+R12 -> 71760 | V12: =U12-T12 -> 71760
A13: t10 | B13: =TCO!M26+TCO!M27 -> 0 | C13: =(TCO!M$12*(1+$W$5))+TCO!M$13 -> 0 | D13: =C13-B13 -> 0 | E13: =TCO!M22+TCO!M23 -> 0 | F13: =(TCO!M$7*(1+$W$5))+TCO!M$8 -> 68260 | G13: =F13-E13 -> 68260 | H13: =TCO!M24+TCO!M25 -> 0 | I13: =(TCO!M$9*(1+$W$5))+TCO!M$10 -> 3500 | J13: =I13-H13 -> 3500 | K13: 0 | L13: =TCO!M11 -> 0 | M13: =L13-K13 -> 0 | N13: 0 | O13: =TCO!M14 -> 0 | P13: =O13-N13 -> 0 | Q13: ='Parametre - Agendové IS'!D116 -> 0 | R13: ='Parametre - Agendové IS'!E116 -> 0 | S13: =IF(ISERR(R13-Q13),"-",R13-Q13) -> 0 | T13: =SUM(B13,E13,H13,K13,N13,Q13) -> 0 | U13: =((C13+F13+L13+O13+I13)*(1+$W$4))+R13 -> 71760 | V13: =U13-T13 -> 71760
A14: Spolu | B14: =SUM(B4:B13) -> 0 | C14: =SUM(C4:C13) -> 60000 | D14: =SUM(D4:D13) -> 60000 | E14: =SUM(E4:E13) -> 0 | F14: =SUM(F4:F13) -> 1506000 | G14: =SUM(G4:G13) -> 1506000 | H14: =SUM(H4:H13) -> 0 | I14: =SUM(I4:I13) -> 31500 | ... V14: =SUM(V4:V13) -> 1606500
A15: NPV | D15: =D4+NPV(Faktory!$D$5,D5:D13) -> 60000 | G15: =G4+NPV(Faktory!$D$5,G5:G13) -> 1376839.9 | J15: =J4+NPV(Faktory!$D$5,J5:J13) -> 24877.376 | M15: =M4+NPV(Faktory!$D$5,M5:M13) -> 0 | P15: =P4+NPV(Faktory!$D$5,P5:P13) -> 9000 | S15: =S4+NPV(Faktory!$D$5,S5:S13) -> 0 | V15: =V4+NPV(Faktory!$D$5,V5:V13) -> 1470717.3
B17: Všetky výdavkové položky sú automaticky vypočítané na základe údajov uvedených v záložkách TCO a Parametre - Agendové IS

Sheet Parametre - Agendové IS
D1: Spolu | G1: Modul 1 | J1: Modul 2 | M1: Modul 3 | P1: Modul N
A2: Koncová služba | G2: Koncová služba 1 | J2: Koncová služba 2 | M2: Koncová služba 3, Koncová služba 4 | P2: Koncová služba N
A3: Aplikačný modul - SW a Aplikácie | G3: =#REF! -> Aplikačný modul 1 | J3: =#REF! -> Aplikačný modul 2 | M3: =#REF! -> Aplikačný modul 3 | P3: =#REF! -> Aplikačný modul 1
A4: Aplikačný modul - HW | G4: ='TCO TO BE - HW'!F1 -> Aplikačný modul 1 | J4: ='TCO TO BE - HW'!G1 -> Aplikačný modul 2 | M4: ='TCO TO BE - HW'!H1 -> Aplikačný modul 3 | P4: ='TCO TO BE - HW'!F1 -> Aplikačný modul 1
A5: Parameter | B5: Jednotka | C5: Obdobie | D5: AS IS | E5: TO BE | F5: Rozdiel | G5: AS IS | H5: TO BE | I5: Rozdiel | J5: AS IS | K5: TO BE | L5: Rozdiel | M5: AS IS | N5: TO BE | O5: Rozdiel | P5: AS IS | Q5: TO BE | R5: Rozdiel
A6: Počet podaní / volaní | B6: počet / rok | C6: t1 | D6: =G6+J6+M6+P6 -> 0 | E6: =H6+K6+N6+Q6 -> 0 | F6: =I6+L6+O6+R6 -> 0 | I6: =H6-G6 -> 0 | L6: =K6-J6 -> 0 | O6: =N6-M6 -> 0 | R6: =Q6-P6 -> 0 | S6: 0
C7: t2 | D7: =G7+J7+M7+P7 -> 0 | E7: =H7+K7+N7+Q7 -> 0 | F7: =I7+L7+O7+R7 -> 0 | I7: =H7-G7 -> 0 | L7: =K7-J7 -> 0 | O7: =N7-M7 -> 0 | R7: =Q7-P7 -> 0
C8: t3 | D8: =G8+J8+M8+P8 -> 0 | E8: =H8+K8+N8+Q8 -> 0 | F8: =I8+L8+O8+R8 -> 0 | I8: =H8-G8 -> 0 | L8: =K8-J8 -> 0 | O8: =N8-M8 -> 0 | R8: =Q8-P8 -> 0
C9: t4 | D9: =G9+J9+M9+P9 -> 0 | E9: =H9+K9+N9+Q9 -> 0 | F9: =I9+L9+O9+R9 -> 0 | I9: =H9-G9 -> 0 | L9: =K9-J9 -> 0 | O9: =N9-M9 -> 0 | R9: =Q9-P9 -> 0
C10: t5 | D10: =G10+J10+M10+P10 -> 0 | E10: =H10+K10+N10+Q10 -> 0 | F10: =I10+L10+O10+R10 -> 0 | I10: =H10-G10 -> 0 | L10: =K10-J10 -> 0 | O10: =N10-M10 -> 0 | R10: =Q10-P10 -> 0
C11: t6 | D11: =G11+J11+M11+P11 -> 0 | E11: =H11+K11+N11+Q11 -> 0 | F11: =I11+L11+O11+R11 -> 0 | I11: =H11-G11 -> 0 | L11: =K11-J11 -> 0 | O11: =N11-M11 -> 0 | R11: =Q11-P11 -> 0
C12: t7 | D12: =G12+J12+M12+P12 -> 0 | E12: =H12+K12+N12+Q12 -> 0 | F12: =I12+L12+O12+R12 -> 0 | I12: =H12-G12 -> 0 | L12: =K12-J12 -> 0 | O12: =N12-M12 -> 0 | R12: =Q12-P12 -> 0
C13: t8 | D13: =G13+J13+M13+P13 -> 0 | E13: =H13+K13+N13+Q13 -> 0 | F13: =I13+L13+O13+R13 -> 0 | I13: =H13-G13 -> 0 | L13: =K13-J13 -> 0 | O13: =N13-M13 -> 0 | R13: =Q13-P13 -> 0
C14: t9 | D14: =G14+J14+M14+P14 -> 0 | E14: =H14+K14+N14+Q14 -> 0 | F14: =I14+L14+O14+R14 -> 0 | I14: =H14-G14 -> 0 | L14: =K14-J14 -> 0 | O14: =N14-M14 -> 0 | R14: =Q14-P14 -> 0
C15: t10 | D15: =G15+J15+M15+P15 -> 0 | E15: =H15+K15+N15+Q15 -> 0 | F15: =I15+L15+O15+R15 -> 0 | I15: =H15-G15 -> 0 | L15: =K15-J15 -> 0 | O15: =N15-M15 -> 0 | R15: =Q15-P15 -> 0
A16: Materiálové náklady na 1 podanie (napr. Poštovné (1,25 EUR)+Tlač (0,02 EUR)+Papier (0,01 EUR)+Obálka (0,03 EUR). Zhotoviteľ štúdie doplní skutočné náklady) | B16: EUR | C16: t1 | D16: =G16+J16+M16+P16 -> 0 | E16: =H16+K16+N16+Q16 -> 0 | F16: =I16+L16+O16+R16 -> 0 | I16: =H16-G16 -> 0 | L16: =K16-J16 -> 0 | O16: =N16-M16 -> 0 | R16: =Q16-P16 -> 0
C17: t2 | D17: =G17+J17+M17+P17 -> 0 | E17: =H17+K17+N17+Q17 -> 0 | F17: =I17+L17+O17+R17 -> 0 | I17: =H17-G17 -> 0 | L17: =K17-J17 -> 0 | O17: =N17-M17 -> 0 | R17: =Q17-P17 -> 0
C18: t3 | D18: =G18+J18+M18+P18 -> 0 | E18: =H18+K18+N18+Q18 -> 0 | F18: =I18+L18+O18+R18 -> 0 | I18: =H18-G18 -> 0 | L18: =K18-J18 -> 0 | O18: =N18-M18 -> 0 | R18: =Q18-P18 -> 0
C19: t4 | D19: =G19+J19+M19+P19 -> 0 | E19: =H19+K19+N19+Q19 -> 0 | F19: =I19+L19+O19+R19 -> 0 | I19: =H19-G19 -> 0 | L19: =K19-J19 -> 0 | O19: =N19-M19 -> 0 | R19: =Q19-P19 -> 0
C20: t5 | D20: =G20+J20+M20+P20 -> 0 | E20: =H20+K20+N20+Q20 -> 0 | F20: =I20+L20+O20+R20 -> 0 | I20: =H20-G20 -> 0 | L20: =K20-J20 -> 0 | O20: =N20-M20 -> 0 | R20: =Q20-P20 -> 0
C21: t6 | D21: =G21+J21+M21+P21 -> 0 | E21: =H21+K21+N21+Q21 -> 0 | F21: =I21+L21+O21+R21 -> 0 | I21: =H21-G21 -> 0 | L21: =K21-J21 -> 0 | O21: =N21-M21 -> 0 | R21: =Q21-P21 -> 0
C22: t7 | D22: =G22+J22+M22+P22 -> 0 | E22: =H22+K22+N22+Q22 -> 0 | F22: =I22+L22+O22+R22 -> 0 | I22: =H22-G22 -> 0 | L22: =K22-J22 -> 0 | O22: =N22-M22 -> 0 | R22: =Q22-P22 -> 0
C23: t8 | D23: =G23+J23+M23+P23 -> 0 | E23: =H23+K23+N23+Q23 -> 0 | F23: =I23+L23+O23+R23 -> 0 | I23: =H23-G23 -> 0 | L23: =K23-J23 -> 0 | O23: =N23-M23 -> 0 | R23: =Q23-P23 -> 0
C24: t9 | D24: =G24+J24+M24+P24 -> 0 | E24: =H24+K24+N24+Q24 -> 0 | F24: =I24+L24+O24+R24 -> 0 | I24: =H24-G24 -> 0 | L24: =K24-J24 -> 0 | O24: =N24-M24 -> 0 | R24: =Q24-P24 -> 0
C25: t10 | D25: =G25+J25+M25+P25 -> 0 | E25: =H25+K25+N25+Q25 -> 0 | F25: =I25+L25+O25+R25 -> 0 | I25: =H25-G25 -> 0 | L25: =K25-J25 -> 0 | O25: =N25-M25 -> 0 | R25: =Q25-P25 -> 0
A26: Výška administratívneho poplatku | B26: EUR | C26: t1 | D26: =G26+J26+M26+P26 -> 0 | E26: =H26+K26+N26+Q26 -> 0 | F26: =I26+L26+O26+R26 -> 0 | I26: =H26-G26 -> 0 | L26: =K26-J26 -> 0 | O26: =N26-M26 -> 0 | R26: =Q26-P26 -> 0
C27: t2 | D27: =G27+J27+M27+P27 -> 0 | E27: =H27+K27+N27+Q27 -> 0 | F27: =I27+L27+O27+R27 -> 0 | I27: =H27-G27 -> 0 | L27: =K27-J27 -> 0 | O27: =N27-M27 -> 0 | R27: =Q27-P27 -> 0
C28: t3 | D28: =G28+J28+M28+P28 -> 0 | E28: =H28+K28+N28+Q28 -> 0 | F28: =I28+L28+O28+R28 -> 0 | I28: =H28-G28 -> 0 | L28: =K28-J28 -> 0 | O28: =N28-M28 -> 0 | R28: =Q28-P28 -> 0
C29: t4 | D29: =G29+J29+M29+P29 -> 0 | E29: =H29+K29+N29+Q29 -> 0 | F29: =I29+L29+O29+R29 -> 0 | I29: =H29-G29 -> 0 | L29: =K29-J29 -> 0 | O29: =N29-M29 -> 0 | R29: =Q29-P29 -> 0
C30: t5 | D30: =G30+J30+M30+P30 -> 0 | E30: =H30+K30+N30+Q30 -> 0 | F30: =I30+L30+O30+R30 -> 0 | I30: =H30-G30 -> 0 | L30: =K30-J30 -> 0 | O30: =N30-M30 -> 0 | R30: =Q30-P30 -> 0
C31: t6 | D31: =G31+J31+M31+P31 -> 0 | E31: =H31+K31+N31+Q31 -> 0 | F31: =I31+L31+O31+R31 -> 0 | I31: =H31-G31 -> 0 | L31: =K31-J31 -> 0 | O31: =N31-M31 -> 0 | R31: =Q31-P31 -> 0
C32: t7 | D32: =G32+J32+M32+P32 -> 0 | E32: =H32+K32+N32+Q32 -> 0 | F32: =I32+L32+O32+R32 -> 0 | I32: =H32-G32 -> 0 | L32: =K32-J32 -> 0 | O32: =N32-M32 -> 0 | R32: =Q32-P32 -> 0
C33: t8 | D33: =G33+J33+M33+P33 -> 0 | E33: =H33+K33+N33+Q33 -> 0 | F33: =I33+L33+O33+R33 -> 0 | I33: =H33-G33 -> 0 | L33: =K33-J33 -> 0 | O33: =N33-M33 -> 0 | R33: =Q33-P33 -> 0
C34: t9 | D34: =G34+J34+M34+P34 -> 0 | E34: =H34+K34+N34+Q34 -> 0 | F34: =I34+L34+O34+R34 -> 0 | I34: =H34-G34 -> 0 | L34: =K34-J34 -> 0 | O34: =N34-M34 -> 0 | R34: =Q34-P34 -> 0
C35: t10 | D35: =G35+J35+M35+P35 -> 0 | E35: =H35+K35+N35+Q35 -> 0 | F35: =I35+L35+O35+R35 -> 0 | I35: =H35-G35 -> 0 | L35: =K35-J35 -> 0 | O35: =N35-M35 -> 0 | R35: =Q35-P35 -> 0
A36: Trvanie spracovania podania (ušetrený čas úradníka) | B36: človeko-hod. | C36: t1 | D36: =G36+J36+M36+P36 -> 0 | E36: =H36+K36+N36+Q36 -> 0 | F36: =I36+L36+O36+R36 -> 0 | H36: 0 | I36: =H36-G36 -> 0 | K36: 0 | L36: =K36-J36 -> 0 | N36: 0 | O36: =N36-M36 -> 0 | Q36: 0 | R36: =Q36-P36 -> 0 | S36: =#REF! -> 0
C37: t2 | D37: =G37+J37+M37+P37 -> 0 | E37: =H37+K37+N37+Q37 -> 0 | F37: =I37+L37+O37+R37 -> 0 | H37: 0 | I37: =H37-G37 -> 0 | K37: 0 | L37: =K37-J37 -> 0 | N37: 0 | O37: =N37-M37 -> 0 | Q37: 0 | R37: =Q37-P37 -> 0
C38: t3 | D38: =G38+J38+M38+P38 -> 0 | E38: =H38+K38+N38+Q38 -> 0 | F38: =I38+L38+O38+R38 -> 0 | H38: 0 | I38: =H38-G38 -> 0 | K38: 0 | L38: =K38-J38 -> 0 | N38: 0 | O38: =N38-M38 -> 0 | Q38: 0 | R38: =Q38-P38 -> 0
C39: t4 | D39: =G39+J39+M39+P39 -> 0 | E39: =H39+K39+N39+Q39 -> 0 | F39: =I39+L39+O39+R39 -> 0 | H39: 0 | I39: =H39-G39 -> 0 | K39: 0 | L39: =K39-J39 -> 0 | N39: 0 | O39: =N39-M39 -> 0 | Q39: 0 | R39: =Q39-P39 -> 0
C40: t5 | D40: =G40+J40+M40+P40 -> 0 | E40: =H40+K40+N40+Q40 -> 0 | F40: =I40+L40+O40+R40 -> 0 | H40: 0 | I40: =H40-G40 -> 0 | K40: 0 | L40: =K40-J40 -> 0 | N40: 0 | O40: =N40-M40 -> 0 | Q40: 0 | R40: =Q40-P40 -> 0
C41: t6 | D41: =G41+J41+M41+P41 -> 0 | E41: =H41+K41+N41+Q41 -> 0 | F41: =I41+L41+O41+R41 -> 0 | H41: 0 | I41: =H41-G41 -> 0 | K41: 0 | L41: =K41-J41 -> 0 | N41: 0 | O41: =N41-M41 -> 0 | Q41: 0 | R41: =Q41-P41 -> 0
C42: t7 | D42: =G42+J42+M42+P42 -> 0 | E42: =H42+K42+N42+Q42 -> 0 | F42: =I42+L42+O42+R42 -> 0 | H42: 0 | I42: =H42-G42 -> 0 | K42: 0 | L42: =K42-J42 -> 0 | N42: 0 | O42: =N42-M42 -> 0 | Q42: 0 | R42: =Q42-P42 -> 0
C43: t8 | D43: =G43+J43+M43+P43 -> 0 | E43: =H43+K43+N43+Q43 -> 0 | F43: =I43+L43+O43+R43 -> 0 | H43: 0 | I43: =H43-G43 -> 0 | K43: 0 | L43: =K43-J43 -> 0 | N43: 0 | O43: =N43-M43 -> 0 | Q43: 0 | R43: =Q43-P43 -> 0
C44: t9 | D44: =G44+J44+M44+P44 -> 0 | E44: =H44+K44+N44+Q44 -> 0 | F44: =I44+L44+O44+R44 -> 0 | H44: 0 | I44: =H44-G44 -> 0 | K44: 0 | L44: =K44-J44 -> 0 | N44: 0 | O44: =N44-M44 -> 0 | Q44: 0 | R44: =Q44-P44 -> 0
C45: t10 | D45: =G45+J45+M45+P45 -> 0 | E45: =H45+K45+N45+Q45 -> 0 | F45: =I45+L45+O45+R45 -> 0 | H45: 0 | I45: =H45-G45 -> 0 | K45: 0 | L45: =K45-J45 -> 0 | N45: 0 | O45: =N45-M45 -> 0 | Q45: 0 | R45: =Q45-P45 -> 0
A46: Čas potrebný na vypracovanie a doručenie podania (ušetrený čas používateľa) | B46: hod. | C46: t1 | D46: =G46+J46+M46+P46 -> 0 | E46: =H46+K46+N46+Q46 -> 0 | F46: =I46+L46+O46+R46 -> 0 | I46: =H46-G46 -> 0 | L46: =K46-J46 -> 0 | O46: =N46-M46 -> 0 | P46: 0 | Q46: 0 | R46: =Q46-P46 -> 0 | S46: =#REF! -> 0
C47: t2 | D47: =G47+J47+M47+P47 -> 0 | E47: =H47+K47+N47+Q47 -> 0 | F47: =I47+L47+O47+R47 -> 0 | I47: =H47-G47 -> 0 | L47: =K47-J47 -> 0 | O47: =N47-M47 -> 0 | P47: 0 | Q47: 0 | R47: =Q47-P47 -> 0
C48: t3 | D48: =G48+J48+M48+P48 -> 0 | E48: =H48+K48+N48+Q48 -> 0 | F48: =I48+L48+O48+R48 -> 0 | I48: =H48-G48 -> 0 | L48: =K48-J48 -> 0 | O48: =N48-M48 -> 0 | P48: 0 | Q48: 0 | R48: =Q48-P48 -> 0
C49: t4 | D49: =G49+J49+M49+P49 -> 0 | E49: =H49+K49+N49+Q49 -> 0 | F49: =I49+L49+O49+R49 -> 0 | I49: =H49-G49 -> 0 | L49: =K49-J49 -> 0 | O49: =N49-M49 -> 0 | P49: 0 | Q49: 0 | R49: =Q49-P49 -> 0
C50: t5 | D50: =G50+J50+M50+P50 -> 0 | E50: =H50+K50+N50+Q50 -> 0 | F50: =I50+L50+O50+R50 -> 0 | I50: =H50-G50 -> 0 | L50: =K50-J50 -> 0 | O50: =N50-M50 -> 0 | P50: 0 | Q50: 0 | R50: =Q50-P50 -> 0
C51: t6 | D51: =G51+J51+M51+P51 -> 0 | E51: =H51+K51+N51+Q51 -> 0 | F51: =I51+L51+O51+R51 -> 0 | I51: =H51-G51 -> 0 | L51: =K51-J51 -> 0 | O51: =N51-M51 -> 0 | P51: 0 | Q51: 0 | R51: =Q51-P51 -> 0
C52: t7 | D52: =G52+J52+M52+P52 -> 0 | E52: =H52+K52+N52+Q52 -> 0 | F52: =I52+L52+O52+R52 -> 0 | I52: =H52-G52 -> 0 | L52: =K52-J52 -> 0 | O52: =N52-M52 -> 0 | P52: 0 | Q52: 0 | R52: =Q52-P52 -> 0
C53: t8 | D53: =G53+J53+M53+P53 -> 0 | E53: =H53+K53+N53+Q53 -> 0 | F53: =I53+L53+O53+R53 -> 0 | I53: =H53-G53 -> 0 | L53: =K53-J53 -> 0 | O53: =N53-M53 -> 0 | P53: 0 | Q53: 0 | R53: =Q53-P53 -> 0
C54: t9 | D54: =G54+J54+M54+P54 -> 0 | E54: =H54+K54+N54+Q54 -> 0 | F54: =I54+L54+O54+R54 -> 0 | I54: =H54-G54 -> 0 | L54: =K54-J54 -> 0 | O54: =N54-M54 -> 0 | P54: 0 | Q54: 0 | R54: =Q54-P54 -> 0
C55: t10 | D55: =G55+J55+M55+P55 -> 0 | E55: =H55+K55+N55+Q55 -> 0 | F55: =I55+L55+O55+R55 -> 0 | I55: =H55-G55 -> 0 | L55: =K55-J55 -> 0 | O55: =N55-M55 -> 0 | P55: 0 | Q55: 0 | R55: =Q55-P55 -> 0
A56: Kvalitatívne prínosy | B56: EUR | C56: t1 | D56: =G56+J56+M56+P56 -> 0 | E56: =H56+K56+N56+Q56 -> 0 | F56: =I56+L56+O56+R56 -> 0 | I56: =H56-G56 -> 0 | L56: =K56-J56 -> 0 | O56: =N56-M56 -> 0 | R56: =Q56-P56 -> 0
C57: t2 | D57: =G57+J57+M57+P57 -> 0 | E57: =H57+K57+N57+Q57 -> 0 | F57: =I57+L57+O57+R57 -> 0 | I57: =H57-G57 -> 0 | L57: =K57-J57 -> 0 | O57: =N57-M57 -> 0 | R57: =Q57-P57 -> 0
C58: t3 | D58: =G58+J58+M58+P58 -> 0 | E58: =H58+K58+N58+Q58 -> 0 | F58: =I58+L58+O58+R58 -> 0 | I58: =H58-G58 -> 0 | L58: =K58-J58 -> 0 | O58: =N58-M58 -> 0 | R58: =Q58-P58 -> 0
C59: t4 | D59: =G59+J59+M59+P59 -> 0 | E59: =H59+K59+N59+Q59 -> 0 | F59: =I59+L59+O59+R59 -> 0 | I59: =H59-G59 -> 0 | L59: =K59-J59 -> 0 | O59: =N59-M59 -> 0 | R59: =Q59-P59 -> 0
C60: t5 | D60: =G60+J60+M60+P60 -> 0 | E60: =H60+K60+N60+Q60 -> 0 | F60: =I60+L60+O60+R60 -> 0 | I60: =H60-G60 -> 0 | L60: =K60-J60 -> 0 | O60: =N60-M60 -> 0 | R60: =Q60-P60 -> 0
C61: t6 | D61: =G61+J61+M61+P61 -> 0 | E61: =H61+K61+N61+Q61 -> 0 | F61: =I61+L61+O61+R61 -> 0 | I61: =H61-G61 -> 0 | L61: =K61-J61 -> 0 | O61: =N61-M61 -> 0 | R61: =Q61-P61 -> 0
C62: t7 | D62: =G62+J62+M62+P62 -> 0 | E62: =H62+K62+N62+Q62 -> 0 | F62: =I62+L62+O62+R62 -> 0 | I62: =H62-G62 -> 0 | L62: =K62-J62 -> 0 | O62: =N62-M62 -> 0 | R62: =Q62-P62 -> 0
C63: t8 | D63: =G63+J63+M63+P63 -> 0 | E63: =H63+K63+N63+Q63 -> 0 | F63: =I63+L63+O63+R63 -> 0 | I63: =H63-G63 -> 0 | L63: =K63-J63 -> 0 | O63: =N63-M63 -> 0 | R63: =Q63-P63 -> 0
C64: t9 | D64: =G64+J64+M64+P64 -> 0 | E64: =H64+K64+N64+Q64 -> 0 | F64: =I64+L64+O64+R64 -> 0 | I64: =H64-G64 -> 0 | L64: =K64-J64 -> 0 | O64: =N64-M64 -> 0 | R64: =Q64-P64 -> 0
C65: t10 | D65: =G65+J65+M65+P65 -> 0 | E65: =H65+K65+N65+Q65 -> 0 | F65: =I65+L65+O65+R65 -> 0 | I65: =H65-G65 -> 0 | L65: =K65-J65 -> 0 | O65: =N65-M65 -> 0 | R65: =Q65-P65 -> 0
D66: =G66+J66+M66+P66 -> 0 | E66: =H66+K66+N66+Q66 -> 0 | F66: =I66+L66+O66+R66 -> 0
A67: Počet podaní / volaní | B67: počet / rok | C67: t1 | D67: =G67+J67+M67+P67 -> 0 | E67: =H67+K67+N67+Q67 -> 0 | F67: =I67+L67+O67+R67 -> 0 | G67: =G6 -> 0 | H67: =H6*(1+$S$67) -> 0 | I67: =H67-G67 -> 0 | J67: =J6 -> 0 | K67: =K6*(1+$S$67) -> 0 | L67: =K67-J67 -> 0 | M67: =M6 -> 0 | N67: =N6*(1+$S$67) -> 0 | O67: =N67-M67 -> 0 | P67: =P6 -> 0 | Q67: =Q6*(1+$S$67) -> 0 | R67: =Q67-P67 -> 0 | S67: =#REF! -> 0
C68: t2 | D68: =G68+J68+M68+P68 -> 0 | E68: =H68+K68+N68+Q68 -> 0 | F68: =I68+L68+O68+R68 -> 0 | G68: =G7 -> 0 | H68: =H7*(1+$S$67) -> 0 | I68: =H68-G68 -> 0 | J68: =J7 -> 0 | K68: =K7*(1+$S$67) -> 0 | L68: =K68-J68 -> 0 | M68: =M7 -> 0 | N68: =N7*(1+$S$67) -> 0 | O68: =N68-M68 -> 0 | P68: =P7 -> 0 | Q68: =Q7*(1+$S$67) -> 0 | R68: =Q68-P68 -> 0
C69: t3 | D69: =G69+J69+M69+P69 -> 0 | E69: =H69+K69+N69+Q69 -> 0 | F69: =I69+L69+O69+R69 -> 0 | G69: =G8 -> 0 | H69: =H8*(1+$S$67) -> 0 | I69: =H69-G69 -> 0 | J69: =J8 -> 0 | K69: =K8*(1+$S$67) -> 0 | L69: =K69-J69 -> 0 | M69: =M8 -> 0 | N69: =N8*(1+$S$67) -> 0 | O69: =N69-M69 -> 0 | P69: =P8 -> 0 | Q69: =Q8*(1+$S$67) -> 0 | R69: =Q69-P69 -> 0
C70: t4 | D70: =G70+J70+M70+P70 -> 0 | E70: =H70+K70+N70+Q70 -> 0 | F70: =I70+L70+O70+R70 -> 0 | G70: =G9 -> 0 | H70: =H9*(1+$S$67) -> 0 | I70: =H70-G70 -> 0 | J70: =J9 -> 0 | K70: =K9*(1+$S$67) -> 0 | L70: =K70-J70 -> 0 | M70: =M9 -> 0 | N70: =N9*(1+$S$67) -> 0 | O70: =N70-M70 -> 0 | P70: =P9 -> 0 | Q70: =Q9*(1+$S$67) -> 0 | R70: =Q70-P70 -> 0
C71: t5 | D71: =G71+J71+M71+P71 -> 0 | E71: =H71+K71+N71+Q71 -> 0 | F71: =I71+L71+O71+R71 -> 0 | G71: =G10 -> 0 | H71: =H10*(1+$S$67) -> 0 | I71: =H71-G71 -> 0 | J71: =J10 -> 0 | K71: =K10*(1+$S$67) -> 0 | L71: =K71-J71 -> 0 | M71: =M10 -> 0 | N71: =N10*(1+$S$67) -> 0 | O71: =N71-M71 -> 0 | P71: =P10 -> 0 | Q71: =Q10*(1+$S$67) -> 0 | R71: =Q71-P71 -> 0
C72: t6 | D72: =G72+J72+M72+P72 -> 0 | E72: =H72+K72+N72+Q72 -> 0 | F72: =I72+L72+O72+R72 -> 0 | G72: =G11 -> 0 | H72: =H11*(1+$S$67) -> 0 | I72: =H72-G72 -> 0 | J72: =J11 -> 0 | K72: =K11*(1+$S$67) -> 0 | L72: =K72-J72 -> 0 | M72: =M11 -> 0 | N72: =N11*(1+$S$67) -> 0 | O72: =N72-M72 -> 0 | P72: =P11 -> 0 | Q72: =Q11*(1+$S$67) -> 0 | R72: =Q72-P72 -> 0
C73: t7 | D73: =G73+J73+M73+P73 -> 0 | E73: =H73+K73+N73+Q73 -> 0 | F73: =I73+L73+O73+R73 -> 0 | G73: =G12 -> 0 | H73: =H12*(1+$S$67) -> 0 | I73: =H73-G73 -> 0 | J73: =J12 -> 0 | K73: =K12*(1+$S$67) -> 0 | L73: =K73-J73 -> 0 | M73: =M12 -> 0 | N73: =N12*(1+$S$67) -> 0 | O73: =N73-M73 -> 0 | P73: =P12 -> 0 | Q73: =Q12*(1+$S$67) -> 0 | R73: =Q73-P73 -> 0
C74: t8 | D74: =G74+J74+M74+P74 -> 0 | E74: =H74+K74+N74+Q74 -> 0 | F74: =I74+L74+O74+R74 -> 0 | G74: =G13 -> 0 | H74: =H13*(1+$S$67) -> 0 | I74: =H74-G74 -> 0 | J74: =J13 -> 0 | K74: =K13*(1+$S$67) -> 0 | L74: =K74-J74 -> 0 | M74: =M13 -> 0 | N74: =N13*(1+$S$67) -> 0 | O74: =N74-M74 -> 0 | P74: =P13 -> 0 | Q74: =Q13*(1+$S$67) -> 0 | R74: =Q74-P74 -> 0
C75: t9 | D75: =G75+J75+M75+P75 -> 0 | E75: =H75+K75+N75+Q75 -> 0 | F75: =I75+L75+O75+R75 -> 0 | G75: =G14 -> 0 | H75: =H14*(1+$S$67) -> 0 | I75: =H75-G75 -> 0 | J75: =J14 -> 0 | K75: =K14*(1+$S$67) -> 0 | L75: =K75-J75 -> 0 | M75: =M14 -> 0 | N75: =N14*(1+$S$67) -> 0 | O75: =N75-M75 -> 0 | P75: =P14 -> 0 | Q75: =Q14*(1+$S$67) -> 0 | R75: =Q75-P75 -> 0
C76: t10 | D76: =G76+J76+M76+P76 -> 0 | E76: =H76+K76+N76+Q76 -> 0 | F76: =I76+L76+O76+R76 -> 0 | G76: =G15 -> 0 | H76: =H15*(1+$S$67) -> 0 | I76: =H76-G76 -> 0 | J76: =J15 -> 0 | K76: =K15*(1+$S$67) -> 0 | L76: =K76-J76 -> 0 | M76: =M15 -> 0 | N76: =N15*(1+$S$67) -> 0 | O76: =N76-M76 -> 0 | P76: =P15 -> 0 | Q76: =Q15*(1+$S$67) -> 0 | R76: =Q76-P76 -> 0
A77: Cena ušetreného času úradníka | B77: EUR | C77: t1 | D77: =G77+J77+M77+P77 -> 0 | E77: =H77+K77+N77+Q77 -> 0 | F77: =I77+L77+O77+R77 -> 0 | G77: =G6*G36*Faktory!$D$8 -> 0 | H77: =((H67*G36)-(H67*((G36-H36)*(1+$S$36))))*Faktory!$D$8 -> 0 | I77: =H77-G77 -> 0 | J77: =J6*J36*Faktory!$D$8 -> 0 | K77: =((K67*J36)-(K67*((J36-K36)*(1+$S$36))))*Faktory!$D$8 -> 0 | L77: =K77-J77 -> 0 | M77: =M6*M36*Faktory!$D$8 -> 0 | N77: =((N67*M36)-(N67*((M36-N36)*(1+$S$36))))*Faktory!$D$8 -> 0 | O77: =N77-M77 -> 0 | P77: =P6*P36*Faktory!$D$8 -> 0 | Q77: =((Q67*P36)-(Q67*((P36-Q36)*(1+$S$36))))*Faktory!$D$8 -> 0 | R77: =Q77-P77 -> 0
C78: t2 | D78: =G78+J78+M78+P78 -> 0 | E78: =H78+K78+N78+Q78 -> 0 | F78: =I78+L78+O78+R78 -> 0 | G78: =G7*G37*Faktory!$D$8 -> 0 | H78: =((H68*G37)-(H68*((G37-H37)*(1+$S$36))))*Faktory!$D$8 -> 0 | I78: =H78-G78 -> 0 | J78: =J7*J37*Faktory!$D$8 -> 0 | K78: =((K68*J37)-(K68*((J37-K37)*(1+$S$36))))*Faktory!$D$8 -> 0 | L78: =K78-J78 -> 0 | M78: =M7*M37*Faktory!$D$8 -> 0 | N78: =((N68*M37)-(N68*((M37-N37)*(1+$S$36))))*Faktory!$D$8 -> 0 | O78: =N78-M78 -> 0 | P78: =P7*P37*Faktory!$D$8 -> 0 | Q78: =((Q68*P37)-(Q68*((P37-Q37)*(1+$S$36))))*Faktory!$D$8 -> 0 | R78: =Q78-P78 -> 0
C79: t3 | D79: =G79+J79+M79+P79 -> 0 | E79: =H79+K79+N79+Q79 -> 0 | F79: =I79+L79+O79+R79 -> 0 | G79: =G8*G38*Faktory!$D$8 -> 0 | H79: =((H69*G38)-(H69*((G38-H38)*(1+$S$36))))*Faktory!$D$8 -> 0 | I79: =H79-G79 -> 0 | J79: =J8*J38*Faktory!$D$8 -> 0 | K79: =((K69*J38)-(K69*((J38-K38)*(1+$S$36))))*Faktory!$D$8 -> 0 | L79: =K79-J79 -> 0 | M79: =M8*M38*Faktory!$D$8 -> 0 | N79: =((N69*M38)-(N69*((M38-N38)*(1+$S$36))))*Faktory!$D$8 -> 0 | O79: =N79-M79 -> 0 | P79: =P8*P38*Faktory!$D$8 -> 0 | Q79: =((Q69*P38)-(Q69*((P38-Q38)*(1+$S$36))))*Faktory!$D$8 -> 0 | R79: =Q79-P79 -> 0
C80: t4 | D80: =G80+J80+M80+P80 -> 0 | E80: =H80+K80+N80+Q80 -> 0 | F80: =I80+L80+O80+R80 -> 0 | G80: =G9*G39*Faktory!$D$8 -> 0 | H80: =((H70*G39)-(H70*((G39-H39)*(1+$S$36))))*Faktory!$D$8 -> 0 | I80: =H80-G80 -> 0 | J80: =J9*J39*Faktory!$D$8 -> 0 | K80: =((K70*J39)-(K70*((J39-K39)*(1+$S$36))))*Faktory!$D$8 -> 0 | L80: =K80-J80 -> 0 | M80: =M9*M39*Faktory!$D$8 -> 0 | N80: =((N70*M39)-(N70*((M39-N39)*(1+$S$36))))*Faktory!$D$8 -> 0 | O80: =N80-M80 -> 0 | P80: =P9*P39*Faktory!$D$8 -> 0 | Q80: =((Q70*P39)-(Q70*((P39-Q39)*(1+$S$36))))*Faktory!$D$8 -> 0 | R80: =Q80-P80 -> 0
C81: t5 | D81: =G81+J81+M81+P81 -> 0 | E81: =H81+K81+N81+Q81 -> 0 | F81: =I81+L81+O81+R81 -> 0 | G81: =G10*G40*Faktory!$D$8 -> 0 | H81: =((H71*G40)-(H71*((G40-H40)*(1+$S$36))))*Faktory!$D$8 -> 0 | I81: =H81-G81 -> 0 | J81: =J10*J40*Faktory!$D$8 -> 0 | K81: =((K71*J40)-(K71*((J40-K40)*(1+$S$36))))*Faktory!$D$8 -> 0 | L81: =K81-J81 -> 0 | M81: =M10*M40*Faktory!$D$8 -> 0 | N81: =((N71*M40)-(N71*((M40-N40)*(1+$S$36))))*Faktory!$D$8 -> 0 | O81: =N81-M81 -> 0 | P81: =P10*P40*Faktory!$D$8 -> 0 | Q81: =((Q71*P40)-(Q71*((P40-Q40)*(1+$S$36))))*Faktory!$D$8 -> 0 | R81: =Q81-P81 -> 0
C82: t6 | D82: =G82+J82+M82+P82 -> 0 | E82: =H82+K82+N82+Q82 -> 0 | F82: =I82+L82+O82+R82 -> 0 | G82: =G11*G41*Faktory!$D$8 -> 0 | H82: =((H72*G41)-(H72*((G41-H41)*(1+$S$36))))*Faktory!$D$8 -> 0 | I82: =H82-G82 -> 0 | J82: =J11*J41*Faktory!$D$8 -> 0 | K82: =((K72*J41)-(K72*((J41-K41)*(1+$S$36))))*Faktory!$D$8 -> 0 | L82: =K82-J82 -> 0 | M82: =M11*M41*Faktory!$D$8 -> 0 | N82: =((N72*M41)-(N72*((M41-N41)*(1+$S$36))))*Faktory!$D$8 -> 0 | O82: =N82-M82 -> 0 | P82: =P11*P41*Faktory!$D$8 -> 0 | Q82: =((Q72*P41)-(Q72*((P41-Q41)*(1+$S$36))))*Faktory!$D$8 -> 0 | R82: =Q82-P82 -> 0
C83: t7 | D83: =G83+J83+M83+P83 -> 0 | E83: =H83+K83+N83+Q83 -> 0 | F83: =I83+L83+O83+R83 -> 0 | G83: =G12*G42*Faktory!$D$8 -> 0 | H83: =((H73*G42)-(H73*((G42-H42)*(1+$S$36))))*Faktory!$D$8 -> 0 | I83: =H83-G83 -> 0 | J83: =J12*J42*Faktory!$D$8 -> 0 | K83: =((K73*J42)-(K73*((J42-K42)*(1+$S$36))))*Faktory!$D$8 -> 0 | L83: =K83-J83 -> 0 | M83: =M12*M42*Faktory!$D$8 -> 0 | N83: =((N73*M42)-(N73*((M42-N42)*(1+$S$36))))*Faktory!$D$8 -> 0 | O83: =N83-M83 -> 0 | P83: =P12*P42*Faktory!$D$8 -> 0 | Q83: =((Q73*P42)-(Q73*((P42-Q42)*(1+$S$36))))*Faktory!$D$8 -> 0 | R83: =Q83-P83 -> 0
C84: t8 | D84: =G84+J84+M84+P84 -> 0 | E84: =H84+K84+N84+Q84 -> 0 | F84: =I84+L84+O84+R84 -> 0 | G84: =G13*G43*Faktory!$D$8 -> 0 | H84: =((H74*G43)-(H74*((G43-H43)*(1+$S$36))))*Faktory!$D$8 -> 0 | I84: =H84-G84 -> 0 | J84: =J13*J43*Faktory!$D$8 -> 0 | K84: =((K74*J43)-(K74*((J43-K43)*(1+$S$36))))*Faktory!$D$8 -> 0 | L84: =K84-J84 -> 0 | M84: =M13*M43*Faktory!$D$8 -> 0 | N84: =((N74*M43)-(N74*((M43-N43)*(1+$S$36))))*Faktory!$D$8 -> 0 | O84: =N84-M84 -> 0 | P84: =P13*P43*Faktory!$D$8 -> 0 | Q84: =((Q74*P43)-(Q74*((P43-Q43)*(1+$S$36))))*Faktory!$D$8 -> 0 | R84: =Q84-P84 -> 0
C85: t9 | D85: =G85+J85+M85+P85 -> 0 | E85: =H85+K85+N85+Q85 -> 0 | F85: =I85+L85+O85+R85 -> 0 | G85: =G14*G44*Faktory!$D$8 -> 0 | H85: =((H75*G44)-(H75*((G44-H44)*(1+$S$36))))*Faktory!$D$8 -> 0 | I85: =H85-G85 -> 0 | J85: =J14*J44*Faktory!$D$8 -> 0 | K85: =((K75*J44)-(K75*((J44-K44)*(1+$S$36))))*Faktory!$D$8 -> 0 | L85: =K85-J85 -> 0 | M85: =M14*M44*Faktory!$D$8 -> 0 | N85: =((N75*M44)-(N75*((M44-N44)*(1+$S$36))))*Faktory!$D$8 -> 0 | O85: =N85-M85 -> 0 | P85: =P14*P44*Faktory!$D$8 -> 0 | Q85: =((Q75*P44)-(Q75*((P44-Q44)*(1+$S$36))))*Faktory!$D$8 -> 0 | R85: =Q85-P85 -> 0
C86: t10 | D86: =G86+J86+M86+P86 -> 0 | E86: =H86+K86+N86+Q86 -> 0 | F86: =I86+L86+O86+R86 -> 0 | G86: =G15*G45*Faktory!$D$8 -> 0 | H86: =((H76*G45)-(H76*((G45-H45)*(1+$S$36))))*Faktory!$D$8 -> 0 | I86: =H86-G86 -> 0 | J86: =J15*J45*Faktory!$D$8 -> 0 | K86: =((K76*J45)-(K76*((J45-K45)*(1+$S$36))))*Faktory!$D$8 -> 0 | L86: =K86-J86 -> 0 | M86: =M15*M45*Faktory!$D$8 -> 0 | N86: =((N76*M45)-(N76*((M45-N45)*(1+$S$36))))*Faktory!$D$8 -> 0 | O86: =N86-M86 -> 0 | P86: =P15*P45*Faktory!$D$8 -> 0 | Q86: =((Q76*P45)-(Q76*((P45-Q45)*(1+$S$36))))*Faktory!$D$8 -> 0 | R86: =Q86-P86 -> 0
A87: FTE úradník | B87: FTE | C87: t1 | D87: =G87+J87+M87+P87 -> 0 | E87: =H87+K87+N87+Q87 -> 0 | F87: =I87+L87+O87+R87 -> 0 | G87: =(G6*G36)/12/21/7.5 -> 0 | H87: =(H6*H36)/12/21/7.5 -> 0 | I87: =H87-G87 -> 0 | J87: =(J6*J36)/12/21/7.5 -> 0 | K87: =(K6*K36)/12/21/7.5 -> 0 | L87: =K87-J87 -> 0 | M87: =(M6*M36)/12/21/7.5 -> 0 | N87: =(N6*N36)/12/21/7.5 -> 0 | O87: =N87-M87 -> 0 | P87: =(P6*P36)/12/21/7.5 -> 0 | Q87: =(Q6*Q36)/12/21/7.5 -> 0 | R87: =Q87-P87 -> 0
C88: t2 | D88: =G88+J88+M88+P88 -> 0 | E88: =H88+K88+N88+Q88 -> 0 | F88: =I88+L88+O88+R88 -> 0 | G88: =(G7*G37)/12/21/7.5 -> 0 | H88: =(H7*H37)/12/21/7.5 -> 0 | I88: =H88-G88 -> 0 | J88: =(J7*J37)/12/21/7.5 -> 0 | K88: =(K7*K37)/12/21/7.5 -> 0 | L88: =K88-J88 -> 0 | M88: =(M7*M37)/12/21/7.5 -> 0 | N88: =(N7*N37)/12/21/7.5 -> 0 | O88: =N88-M88 -> 0 | P88: =(P7*P37)/12/21/7.5 -> 0 | Q88: =(Q7*Q37)/12/21/7.5 -> 0 | R88: =Q88-P88 -> 0
C89: t3 | D89: =G89+J89+M89+P89 -> 0 | E89: =H89+K89+N89+Q89 -> 0 | F89: =I89+L89+O89+R89 -> 0 | G89: =(G8*G38)/12/21/7.5 -> 0 | H89: =(H8*H38)/12/21/7.5 -> 0 | I89: =H89-G89 -> 0 | J89: =(J8*J38)/12/21/7.5 -> 0 | K89: =(K8*K38)/12/21/7.5 -> 0 | L89: =K89-J89 -> 0 | M89: =(M8*M38)/12/21/7.5 -> 0 | N89: =(N8*N38)/12/21/7.5 -> 0 | O89: =N89-M89 -> 0 | P89: =(P8*P38)/12/21/7.5 -> 0 | Q89: =(Q8*Q38)/12/21/7.5 -> 0 | R89: =Q89-P89 -> 0
C90: t4 | D90: =G90+J90+M90+P90 -> 0 | E90: =H90+K90+N90+Q90 -> 0 | F90: =I90+L90+O90+R90 -> 0 | G90: =(G9*G39)/12/21/7.5 -> 0 | H90: =(H9*H39)/12/21/7.5 -> 0 | I90: =H90-G90 -> 0 | J90: =(J9*J39)/12/21/7.5 -> 0 | K90: =(K9*K39)/12/21/7.5 -> 0 | L90: =K90-J90 -> 0 | M90: =(M9*M39)/12/21/7.5 -> 0 | N90: =(N9*N39)/12/21/7.5 -> 0 | O90: =N90-M90 -> 0 | P90: =(P9*P39)/12/21/7.5 -> 0 | Q90: =(Q9*Q39)/12/21/7.5 -> 0 | R90: =Q90-P90 -> 0
C91: t5 | D91: =G91+J91+M91+P91 -> 0 | E91: =H91+K91+N91+Q91 -> 0 | F91: =I91+L91+O91+R91 -> 0 | G91: =(G10*G40)/12/21/7.5 -> 0 | H91: =(H10*H40)/12/21/7.5 -> 0 | I91: =H91-G91 -> 0 | J91: =(J10*J40)/12/21/7.5 -> 0 | K91: =(K10*K40)/12/21/7.5 -> 0 | L91: =K91-J91 -> 0 | M91: =(M10*M40)/12/21/7.5 -> 0 | N91: =(N10*N40)/12/21/7.5 -> 0 | O91: =N91-M91 -> 0 | P91: =(P10*P40)/12/21/7.5 -> 0 | Q91: =(Q10*Q40)/12/21/7.5 -> 0 | R91: =Q91-P91 -> 0
C92: t6 | D92: =G92+J92+M92+P92 -> 0 | E92: =H92+K92+N92+Q92 -> 0 | F92: =I92+L92+O92+R92 -> 0 | G92: =(G11*G41)/12/21/7.5 -> 0 | H92: =(H11*H41)/12/21/7.5 -> 0 | I92: =H92-G92 -> 0 | J92: =(J11*J41)/12/21/7.5 -> 0 | K92: =(K11*K41)/12/21/7.5 -> 0 | L92: =K92-J92 -> 0 | M92: =(M11*M41)/12/21/7.5 -> 0 | N92: =(N11*N41)/12/21/7.5 -> 0 | O92: =N92-M92 -> 0 | P92: =(P11*P41)/12/21/7.5 -> 0 | Q92: =(Q11*Q41)/12/21/7.5 -> 0 | R92: =Q92-P92 -> 0
C93: t7 | D93: =G93+J93+M93+P93 -> 0 | E93: =H93+K93+N93+Q93 -> 0 | F93: =I93+L93+O93+R93 -> 0 | G93: =(G12*G42)/12/21/7.5 -> 0 | H93: =(H12*H42)/12/21/7.5 -> 0 | I93: =H93-G93 -> 0 | J93: =(J12*J42)/12/21/7.5 -> 0 | K93: =(K12*K42)/12/21/7.5 -> 0 | L93: =K93-J93 -> 0 | M93: =(M12*M42)/12/21/7.5 -> 0 | N93: =(N12*N42)/12/21/7.5 -> 0 | O93: =N93-M93 -> 0 | P93: =(P12*P42)/12/21/7.5 -> 0 | Q93: =(Q12*Q42)/12/21/7.5 -> 0 | R93: =Q93-P93 -> 0
C94: t8 | D94: =G94+J94+M94+P94 -> 0 | E94: =H94+K94+N94+Q94 -> 0 | F94: =I94+L94+O94+R94 -> 0 | G94: =(G13*G43)/12/21/7.5 -> 0 | H94: =(H13*H43)/12/21/7.5 -> 0 | I94: =H94-G94 -> 0 | J94: =(J13*J43)/12/21/7.5 -> 0 | K94: =(K13*K43)/12/21/7.5 -> 0 | L94: =K94-J94 -> 0 | M94: =(M13*M43)/12/21/7.5 -> 0 | N94: =(N13*N43)/12/21/7.5 -> 0 | O94: =N94-M94 -> 0 | P94: =(P13*P43)/12/21/7.5 -> 0 | Q94: =(Q13*Q43)/12/21/7.5 -> 0 | R94: =Q94-P94 -> 0
C95: t9 | D95: =G95+J95+M95+P95 -> 0 | E95: =H95+K95+N95+Q95 -> 0 | F95: =I95+L95+O95+R95 -> 0 | G95: =(G14*G44)/12/21/7.5 -> 0 | H95: =(H14*H44)/12/21/7.5 -> 0 | I95: =H95-G95 -> 0 | J95: =(J14*J44)/12/21/7.5 -> 0 | K95: =(K14*K44)/12/21/7.5 -> 0 | L95: =K95-J95 -> 0 | M95: =(M14*M44)/12/21/7.5 -> 0 | N95: =(N14*N44)/12/21/7.5 -> 0 | O95: =N95-M95 -> 0 | P95: =(P14*P44)/12/21/7.5 -> 0 | Q95: =(Q14*Q44)/12/21/7.5 -> 0 | R95: =Q95-P95 -> 0
C96: t10 | D96: =G96+J96+M96+P96 -> 0 | E96: =H96+K96+N96+Q96 -> 0 | F96: =I96+L96+O96+R96 -> 0 | G96: =(G15*G45)/12/21/7.5 -> 0 | H96: =(H15*H45)/12/21/7.5 -> 0 | I96: =H96-G96 -> 0 | J96: =(J15*J45)/12/21/7.5 -> 0 | K96: =(K15*K45)/12/21/7.5 -> 0 | L96: =K96-J96 -> 0 | M96: =(M15*M45)/12/21/7.5 -> 0 | N96: =(N15*N45)/12/21/7.5 -> 0 | O96: =N96-M96 -> 0 | P96: =(P15*P45)/12/21/7.5 -> 0 | Q96: =(Q15*Q45)/12/21/7.5 -> 0 | R96: =Q96-P96 -> 0
A97: Cena ušetreného času používateľa (S pravidlom polovice) | B97: EUR | C97: t1 | D97: =G97+J97+M97+P97 -> 0 | E97: =H97+K97+N97+Q97 -> 0 | F97: =I97+L97+O97+R97 -> 0 | G97: 0 | H97: =(G67+I67/2)*((G46-H46)*(1+$S$46))*Faktory!$D$10 -> 0 | I97: =H97 -> 0 | J97: 0 | K97: =(J67+L67/2)*((J46-K46)*(1+$S$46))*Faktory!$D$10 -> 0 | L97: =K97 -> 0 | M97: 0 | N97: =(M67+O67/2)*((M46-N46)*(1+$S$46))*Faktory!$D$10 -> 0 | O97: =N97 -> 0 | P97: 0 | Q97: =(P67+R67/2)*((P46-Q46)*(1+$S$46))*Faktory!$D$10 -> 0 | R97: =Q97 -> 0
C98: t2 | D98: =G98+J98+M98+P98 -> 0 | E98: =H98+K98+N98+Q98 -> 0 | F98: =I98+L98+O98+R98 -> 0 | G98: 0 | H98: =(G68+I68/2)*((G47-H47)*(1+$S$46))*Faktory!$D$10 -> 0 | I98: =H98 -> 0 | J98: 0 | K98: =(J68+L68/2)*((J47-K47)*(1+$S$46))*Faktory!$D$10 -> 0 | L98: =K98 -> 0 | M98: 0 | N98: =(M68+O68/2)*((M47-N47)*(1+$S$46))*Faktory!$D$10 -> 0 | O98: =N98 -> 0 | P98: 0 | Q98: =(P68+R68/2)*((P47-Q47)*(1+$S$46))*Faktory!$D$10 -> 0 | R98: =Q98 -> 0
C99: t3 | D99: =G99+J99+M99+P99 -> 0 | E99: =H99+K99+N99+Q99 -> 0 | F99: =I99+L99+O99+R99 -> 0 | G99: 0 | H99: =(G69+I69/2)*((G48-H48)*(1+$S$46))*Faktory!$D$10 -> 0 | I99: =H99 -> 0 | J99: 0 | K99: =(J69+L69/2)*((J48-K48)*(1+$S$46))*Faktory!$D$10 -> 0 | L99: =K99 -> 0 | M99: 0 | N99: =(M69+O69/2)*((M48-N48)*(1+$S$46))*Faktory!$D$10 -> 0 | O99: =N99 -> 0 | P99: 0 | Q99: =(P69+R69/2)*((P48-Q48)*(1+$S$46))*Faktory!$D$10 -> 0 | R99: =Q99 -> 0
C100: t4 | D100: =G100+J100+M100+P100 -> 0 | E100: =H100+K100+N100+Q100 -> 0 | F100: =I100+L100+O100+R100 -> 0 | G100: 0 | H100: =(G70+I70/2)*((G49-H49)*(1+$S$46))*Faktory!$D$10 -> 0 | I100: =H100 -> 0 | J100: 0 | K100: =(J70+L70/2)*((J49-K49)*(1+$S$46))*Faktory!$D$10 -> 0 | L100: =K100 -> 0 | M100: 0 | N100: =(M70+O70/2)*((M49-N49)*(1+$S$46))*Faktory!$D$10 -> 0 | O100: =N100 -> 0 | P100: 0 | Q100: =(P70+R70/2)*((P49-Q49)*(1+$S$46))*Faktory!$D$10 -> 0 | R100: =Q100 -> 0
...

Sheet TCO
A1: Celkové náklady na vlastníctvo (TCO)
A3: Náklady na budúce riešenie
D5: Rok
B6: TO BE | C6: Spolu | D6: t1 | E6: t2 | F6: t3 | G6: t4 | H6: t5 | I6: t6 | J6: t7 | K6: t8 | L6: t9 | M6: t10
B7: SW produkty - sumár obstaranie | C7: =SUM(D7:M7) -> 891660 | D7: ='TCO TO BE - SW'!$E5+'TCO TO BE - SW'!$E15 -> 891660 | E7: ='TCO TO BE - SW'!$E6+'TCO TO BE - SW'!$E16 -> 0 | F7: ='TCO TO BE - SW'!$E7+'TCO TO BE - SW'!$E17 -> 0 | G7: ='TCO TO BE - SW'!$E8+'TCO TO BE - SW'!$E18 -> 0 | H7: ='TCO TO BE - SW'!$E9+'TCO TO BE - SW'!$E19 -> 0 | I7: ='TCO TO BE - SW'!$E10+'TCO TO BE - SW'!$E20 -> 0 | J7: ='TCO TO BE - SW'!$E11+'TCO TO BE - SW'!$E21 -> 0 | K7: ='TCO TO BE - SW'!$E12+'TCO TO BE - SW'!$E22 -> 0 | L7: ='TCO TO BE - SW'!$E13+'TCO TO BE - SW'!$E23 -> 0 | M7: ='TCO TO BE - SW'!$E14+'TCO TO BE - SW'!$E24 -> 0
B8: SW produkty - sumár prevádzka | C8: =SUM(D8:M8) -> 614340 | D8: ='TCO TO BE - SW'!$E58+'TCO TO BE - SW'!$E68 -> 0 | E8: ='TCO TO BE - SW'!$E59+'TCO TO BE - SW'!$E69 -> 68260 | F8: ='TCO TO BE - SW'!$E60+'TCO TO BE - SW'!$E70 -> 68260 | G8: ='TCO TO BE - SW'!$E61+'TCO TO BE - SW'!$E71 -> 68260 | H8: ='TCO TO BE - SW'!$E62+'TCO TO BE - SW'!$E72 -> 68260 | I8: ='TCO TO BE - SW'!$E63+'TCO TO BE - SW'!$E73 -> 68260 | J8: ='TCO TO BE - SW'!$E64+'TCO TO BE - SW'!$E74 -> 68260 | K8: ='TCO TO BE - SW'!$E65+'TCO TO BE - SW'!$E75 -> 68260 | L8: ='TCO TO BE - SW'!$E66+'TCO TO BE - SW'!$E76 -> 68260 | M8: ='TCO TO BE - SW'!$E67+'TCO TO BE - SW'!$E77 -> 68260
B9: Aplikácie - sumár obstaranie | C9: =SUM(D9:M9) -> 0 | D9: ='TCO TO BE - SW'!$E26+'TCO TO BE - SW'!$E36+'TCO TO BE - SW'!$E46 -> 0 | E9: ='TCO TO BE - SW'!$E27+'TCO TO BE - SW'!$E37+'TCO TO BE - SW'!$E47 -> 0 | F9: ='TCO TO BE - SW'!$E28+'TCO TO BE - SW'!$E38+'TCO TO BE - SW'!$E48 -> 0 | G9: ='TCO TO BE - SW'!$E29+'TCO TO BE - SW'!$E39+'TCO TO BE - SW'!$E49 -> 0 | H9: ='TCO TO BE - SW'!$E30+'TCO TO BE - SW'!$E40+'TCO TO BE - SW'!$E50 -> 0 | I9: ='TCO TO BE - SW'!$E31+'TCO TO BE - SW'!$E41+'TCO TO BE - SW'!$E51 -> 0 | J9: ='TCO TO BE - SW'!$E32+'TCO TO BE - SW'!$E42+'TCO TO BE - SW'!$E52 -> 0 | K9: ='TCO TO BE - SW'!$E33+'TCO TO BE - SW'!$E43+'TCO TO BE - SW'!$E53 -> 0 | L9: ='TCO TO BE - SW'!$E34+'TCO TO BE - SW'!$E44+'TCO TO BE - SW'!$E54 -> 0 | M9: ='TCO TO BE - SW'!$E35+'TCO TO BE - SW'!$E45+'TCO TO BE - SW'!$E55 -> 0
B10: Aplikácie - sumár prevádzka | C10: =SUM(D10:M10) -> 31500 | D10: ='TCO TO BE - SW'!E79+'TCO TO BE - SW'!E89+'TCO TO BE - SW'!E99+'TCO TO BE - SW'!E109+'TCO TO BE - SW'!E119 -> 0 | E10: ='TCO TO BE - SW'!E80+'TCO TO BE - SW'!E90+'TCO TO BE - SW'!E100+'TCO TO BE - SW'!E110+'TCO TO BE - SW'!E120 -> 3500 | F10: ='TCO TO BE - SW'!E81+'TCO TO BE - SW'!E91+'TCO TO BE - SW'!E101+'TCO TO BE - SW'!E111+'TCO TO BE - SW'!E121 -> 3500 | G10: ='TCO TO BE - SW'!E82+'TCO TO BE - SW'!E92+'TCO TO BE - SW'!E102+'TCO TO BE - SW'!E112+'TCO TO BE - SW'!E122 -> 3500 | H10: ='TCO TO BE - SW'!E83+'TCO TO BE - SW'!E93+'TCO TO BE - SW'!E103+'TCO TO BE - SW'!E113+'TCO TO BE - SW'!E123 -> 3500 | I10: ='TCO TO BE - SW'!E84+'TCO TO BE - SW'!E94+'TCO TO BE - SW'!E104+'TCO TO BE - SW'!E114+'TCO TO BE - SW'!E124 -> 3500 | J10: ='TCO TO BE - SW'!E85+'TCO TO BE - SW'!E95+'TCO TO BE - SW'!E105+'TCO TO BE - SW'!E115+'TCO TO BE - SW'!E125 -> 3500 | K10: ='TCO TO BE - SW'!E86+'TCO TO BE - SW'!E96+'TCO TO BE - SW'!E106+'TCO TO BE - SW'!E116+'TCO TO BE - SW'!E126 -> 3500 | L10: ='TCO TO BE - SW'!E87+'TCO TO BE - SW'!E97+'TCO TO BE - SW'!E107+'TCO TO BE - SW'!E117+'TCO TO BE - SW'!E127 -> 3500 | M10: ='TCO TO BE - SW'!E88+'TCO TO BE - SW'!E98+'TCO TO BE - SW'!E108+'TCO TO BE - SW'!E118+'TCO TO BE - SW'!E128 -> 3500
B11: SW a Aplikácie - výstupné náklady | C11: =SUM(D11:M11) -> 0 | D11: ='TCO TO BE - SW'!$E151+'TCO TO BE - SW'!$E161 -> 0 | E11: ='TCO TO BE - SW'!$E152+'TCO TO BE - SW'!$E162 -> 0 | F11: ='TCO TO BE - SW'!$E153+'TCO TO BE - SW'!$E163 -> 0 | G11: ='TCO TO BE - SW'!$E154+'TCO TO BE - SW'!$E164 -> 0 | H11: ='TCO TO BE - SW'!$E155+'TCO TO BE - SW'!$E165 -> 0 | I11: ='TCO TO BE - SW'!$E156+'TCO TO BE - SW'!$E166 -> 0 | J11: ='TCO TO BE - SW'!$E157+'TCO TO BE - SW'!$E167 -> 0 | K11: ='TCO TO BE - SW'!$E158+'TCO TO BE - SW'!$E168 -> 0 | L11: ='TCO TO BE - SW'!$E159+'TCO TO BE - SW'!$E169 -> 0 | M11: ='TCO TO BE - SW'!$E160+'TCO TO BE - SW'!$E170 -> 0
B12: HW sumár obstaranie | C12: =SUM(D12:M12) -> 60000 | D12: ='TCO TO BE - HW'!E4+'TCO TO BE - HW'!E14+'TCO TO BE - HW'!E24 -> 60000 | E12: ='TCO TO BE - HW'!$E5+'TCO TO BE - HW'!$E15+'TCO TO BE - HW'!$E25 -> 0 | F12: ='TCO TO BE - HW'!$E6+'TCO TO BE - HW'!$E16+'TCO TO BE - HW'!$E26 -> 0 | G12: ='TCO TO BE - HW'!$E7+'TCO TO BE - HW'!$E17+'TCO TO BE - HW'!$E27 -> 0 | H12: ='TCO TO BE - HW'!$E8+'TCO TO BE - HW'!$E18+'TCO TO BE - HW'!$E28 -> 0 | I12: ='TCO TO BE - HW'!$E9+'TCO TO BE - HW'!$E19+'TCO TO BE - HW'!$E29 -> 0 | J12: ='TCO TO BE - HW'!$E10+'TCO TO BE - HW'!$E20+'TCO TO BE - HW'!$E30 -> 0 | K12: ='TCO TO BE - HW'!$E11+'TCO TO BE - HW'!$E21+'TCO TO BE - HW'!$E31 -> 0 | L12: ='TCO TO BE - HW'!$E12+'TCO TO BE - HW'!$E22+'TCO TO BE - HW'!$E32 -> 0 | M12: ='TCO TO BE - HW'!$E13+'TCO TO BE - HW'!$E23+'TCO TO BE - HW'!$E33 -> 0
B13: HW sumár prevádzka | C13: =SUM(D13:M13) -> 0 | D13: ='TCO TO BE - HW'!E35+'TCO TO BE - HW'!E45+'TCO TO BE - HW'!E55+'TCO TO BE - HW'!E65+'TCO TO BE - HW'!E75 -> 0 | E13: ='TCO TO BE - HW'!$E36+'TCO TO BE - HW'!$E46+'TCO TO BE - HW'!$E56+'TCO TO BE - HW'!$E66+'TCO TO BE - HW'!$E76 -> 0 | F13: ='TCO TO BE - HW'!$E37+'TCO TO BE - HW'!$E47+'TCO TO BE - HW'!$E57+'TCO TO BE - HW'!$E67+'TCO TO BE - HW'!$E77 -> 0 | G13: ='TCO TO BE - HW'!$E38+'TCO TO BE - HW'!$E48+'TCO TO BE - HW'!$E58+'TCO TO BE - HW'!$E68+'TCO TO BE - HW'!$E78 -> 0 | H13: ='TCO TO BE - HW'!$E39+'TCO TO BE - HW'!$E49+'TCO TO BE - HW'!$E59+'TCO TO BE - HW'!$E69+'TCO TO BE - HW'!$E79 -> 0 | I13: ='TCO TO BE - HW'!$E40+'TCO TO BE - HW'!$E50+'TCO TO BE - HW'!$E60+'TCO TO BE - HW'!$E70+'TCO TO BE - HW'!$E80 -> 0 | J13: ='TCO TO BE - HW'!$E41+'TCO TO BE - HW'!$E51+'TCO TO BE - HW'!$E61+'TCO TO BE - HW'!$E71+'TCO TO BE - HW'!$E81 -> 0 | K13: ='TCO TO BE - HW'!$E42+'TCO TO BE - HW'!$E52+'TCO TO BE - HW'!$E62+'TCO TO BE - HW'!$E72+'TCO TO BE - HW'!$E82 -> 0 | L13: ='TCO TO BE - HW'!$E43+'TCO TO BE - HW'!$E53+'TCO TO BE - HW'!$E63+'TCO TO BE - HW'!$E73+'TCO TO BE - HW'!$E83 -> 0 | M13: ='TCO TO BE - HW'!$E44+'TCO TO BE - HW'!$E54+'TCO TO BE - HW'!$E64+'TCO TO BE - HW'!$E74+'TCO TO BE - HW'!$E84 -> 0
B14: Riadenie projektu | C14: =SUM(D14:M14) -> 9000 | D14: ='TCO TO BE - SW'!E130+'TCO TO BE - SW'!E140 -> 9000 | E14: ='TCO TO BE - SW'!F131+'TCO TO BE - SW'!F141 -> 0 | F14: ='TCO TO BE - SW'!G132+'TCO TO BE - SW'!G142 -> 0 | G14: ='TCO TO BE - SW'!H133+'TCO TO BE - SW'!H143 -> 0 | H14: ='TCO TO BE - SW'!I134+'TCO TO BE - SW'!I144 -> 0 | I14: ='TCO TO BE - SW'!J135+'TCO TO BE - SW'!J145 -> 0 | J14: ='TCO TO BE - SW'!K136+'TCO TO BE - SW'!K146 -> 0 | K14: ='TCO TO BE - SW'!L137+'TCO TO BE - SW'!L147 -> 0 | L14: ='TCO TO BE - SW'!M138+'TCO TO BE - SW'!M148 -> 0 | M14: ='TCO TO BE - SW'!N139+'TCO TO BE - SW'!N149 -> 0
B15: Spolu | C15: =SUM(C7:C14) -> 1606500 | D15: =SUM(D7:D14) -> 960660 | E15: =SUM(E7:E14) -> 71760 | F15: =SUM(F7:F14) -> 71760 | G15: =SUM(G7:G14) -> 71760 | H15: =SUM(H7:H14) -> 71760 | I15: =SUM(I7:I14) -> 71760 | J15: =SUM(J7:J14) -> 71760 | ... M15: =SUM(M7:M14) -> 71760
A18: Náklady na existujúce riešenie (pôvodné riešenie pred realizáciou projektu OP II), ktoré bolo nahradené
D20: Rok
B21: AS IS | C21: Spolu | D21: t1 | E21: t2 | F21: t3 | G21: t4 | H21: t5 | I21: t6 | J21: t7 | K21: t8 | L21: t9 | M21: t10
B22: SW produkty - sumár obstaranie | C22: 0 | D22: 0 | E22: 0 | F22: 0 | G22: 0 | H22: 0 | I22: 0 | J22: 0 | K22: 0 | L22: 0 | M22: 0
B23: SW produkty - sumár prevádzka | C23: =SUM(D23:M23) -> 0 | D23: ='TCO AS IS - SW'!E5+'TCO AS IS - SW'!E15 -> 0 | E23: ='TCO AS IS - SW'!E6+'TCO AS IS - SW'!E16 -> 0 | F23: ='TCO AS IS - SW'!E7+'TCO AS IS - SW'!E17 -> 0 | G23: ='TCO AS IS - SW'!E8+'TCO AS IS - SW'!E18 -> 0 | H23: ='TCO AS IS - SW'!E9+'TCO AS IS - SW'!E19 -> 0 | I23: ='TCO AS IS - SW'!E10+'TCO AS IS - SW'!E20 -> 0 | J23: ='TCO AS IS - SW'!E11+'TCO AS IS - SW'!E21 -> 0 | K23: ='TCO AS IS - SW'!E12+'TCO AS IS - SW'!E22 -> 0 | L23: ='TCO AS IS - SW'!E13+'TCO AS IS - SW'!E23 -> 0 | M23: ='TCO AS IS - SW'!E14+'TCO AS IS - SW'!E24 -> 0
B24: Aplikácie - sumár obstaranie | C24: 0 | D24: 0 | E24: 0 | F24: 0 | G24: 0 | H24: 0 | I24: 0 | J24: 0 | K24: 0 | L24: 0 | M24: 0
B25: Aplikácie - sumár prevádzka | C25: =SUM(D25:M25) -> 0 | D25: ='TCO AS IS - SW'!E26+'TCO AS IS - SW'!E36+'TCO AS IS - SW'!E46+'TCO AS IS - SW'!E56+'TCO AS IS - SW'!E66 -> 0 | E25: ='TCO AS IS - SW'!E27+'TCO AS IS - SW'!E37+'TCO AS IS - SW'!E47+'TCO AS IS - SW'!E57+'TCO AS IS - SW'!E67 -> 0 | F25: ='TCO AS IS - SW'!E28+'TCO AS IS - SW'!E38+'TCO AS IS - SW'!E48+'TCO AS IS - SW'!E58+'TCO AS IS - SW'!E68 -> 0 | G25: ='TCO AS IS - SW'!E29+'TCO AS IS - SW'!E39+'TCO AS IS - SW'!E49+'TCO AS IS - SW'!E59+'TCO AS IS - SW'!E69 -> 0 | H25: ='TCO AS IS - SW'!E30+'TCO AS IS - SW'!E40+'TCO AS IS - SW'!E50+'TCO AS IS - SW'!E60+'TCO AS IS - SW'!E70 -> 0 | I25: ='TCO AS IS - SW'!E31+'TCO AS IS - SW'!E41+'TCO AS IS - SW'!E51+'TCO AS IS - SW'!E61+'TCO AS IS - SW'!E71 -> 0 | J25: ='TCO AS IS - SW'!E32+'TCO AS IS - SW'!E42+'TCO AS IS - SW'!E52+'TCO AS IS - SW'!E62+'TCO AS IS - SW'!E72 -> 0 | K25: ='TCO AS IS - SW'!E33+'TCO AS IS - SW'!E43+'TCO AS IS - SW'!E53+'TCO AS IS - SW'!E63+'TCO AS IS - SW'!E73 -> 0 | L25: ='TCO AS IS - SW'!E34+'TCO AS IS - SW'!E44+'TCO AS IS - SW'!E54+'TCO AS IS - SW'!E64+'TCO AS IS - SW'!E74 -> 0 | M25: ='TCO AS IS - SW'!E35+'TCO AS IS - SW'!E45+'TCO AS IS - SW'!E55+'TCO AS IS - SW'!E65+'TCO AS IS - SW'!E75 -> 0
B26: HW sumár obstaranie | C26: 0 | D26: 0 | E26: 0 | F26: 0 | G26: 0 | H26: 0 | I26: 0 | J26: 0 | K26: 0 | L26: 0 | M26: 0
B27: HW sumár prevádzka | C27: =SUM(D27:M27) -> 0 | D27: ='TCO AS IS - HW'!E4+'TCO AS IS - HW'!E14+'TCO AS IS - HW'!E24+'TCO AS IS - HW'!E34+'TCO AS IS - HW'!E44 -> 0 | E27: ='TCO AS IS - HW'!E5+'TCO AS IS - HW'!E15+'TCO AS IS - HW'!E25+'TCO AS IS - HW'!E35+'TCO AS IS - HW'!E45 -> 0 | F27: ='TCO AS IS - HW'!E6+'TCO AS IS - HW'!E16+'TCO AS IS - HW'!E26+'TCO AS IS - HW'!E36+'TCO AS IS - HW'!E46 -> 0 | G27: ='TCO AS IS - HW'!E7+'TCO AS IS - HW'!E17+'TCO AS IS - HW'!E27+'TCO AS IS - HW'!E37+'TCO AS IS - HW'!E47 -> 0 | H27: ='TCO AS IS - HW'!E8+'TCO AS IS - HW'!E18+'TCO AS IS - HW'!E28+'TCO AS IS - HW'!E38+'TCO AS IS - HW'!E48 -> 0 | I27: ='TCO AS IS - HW'!E9+'TCO AS IS - HW'!E19+'TCO AS IS - HW'!E29+'TCO AS IS - HW'!E39+'TCO AS IS - HW'!E49 -> 0 | J27: ='TCO AS IS - HW'!E10+'TCO AS IS - HW'!E20+'TCO AS IS - HW'!E30+'TCO AS IS - HW'!E40+'TCO AS IS - HW'!E50 -> 0 | K27: ='TCO AS IS - HW'!E11+'TCO AS IS - HW'!E21+'TCO AS IS - HW'!E31+'TCO AS IS - HW'!E41+'TCO AS IS - HW'!E51 -> 0 | L27: ='TCO AS IS - HW'!E12+'TCO AS IS - HW'!E22+'TCO AS IS - HW'!E32+'TCO AS IS - HW'!E42+'TCO AS IS - HW'!E52 -> 0 | M27: ='TCO AS IS - HW'!E13+'TCO AS IS - HW'!E23+'TCO AS IS - HW'!E33+'TCO AS IS - HW'!E43+'TCO AS IS - HW'!E53 -> 0
B28: Spolu | C28: =SUM(C22:C27) -> 0 | D28: =SUM(D22:D27) -> 0 | E28: =SUM(E22:E27) -> 0 | F28: =SUM(F22:F27) -> 0 | G28: =SUM(G22:G27) -> 0 | H28: =SUM(H22:H27) -> 0 | I28: =SUM(I22:I27) -> 0 | J28: =SUM(J22:J27) -> 0 | ... M28: =SUM(M22:M27) -> 0
A32: Rozdiel v nákladoch medzi existujúcim a navrhovaným riešením
B35: Rozdiel | C35: Spolu | D35: t1 | E35: t2 | F35: t3 | G35: t4 | H35: t5 | I35: t6 | J35: t7 | K35: t8 | L35: t9 | M35: t10
B36: SW produkty - sumár obstaranie | C36: =SUM(D36:M36) -> 891660 | D36: =D7-D22 -> 891660 | E36: =E7-E22 -> 0 | F36: =F7-F22 -> 0 | G36: =G7-G22 -> 0 | H36: =H7-H22 -> 0 | I36: =I7-I22 -> 0 | J36: =J7-J22 -> 0 | K36: =K7-K22 -> 0 | ... M36: =M7-M22 -> 0
B37: SW produkty - sumár prevádzka | C37: =SUM(D37:M37) -> 614340 | D37: =D8-D23 -> 0 | E37: =E8-E23 -> 68260 | F37: =F8-F23 -> 68260 | G37: =G8-G23 -> 68260 | H37: =H8-H23 -> 68260 | I37: =I8-I23 -> 68260 | J37: =J8-J23 -> 68260 | K37: =K8-K23 -> 68260 | ... M37: =M8-M23 -> 68260
B38: Aplikácie - sumár obstaranie | C38: =SUM(D38:M38) -> 0 | D38: =D9-D24 -> 0 | E38: =E9-E24 -> 0 | F38: =F9-F24 -> 0 | G38: =G9-G24 -> 0 | H38: =H9-H24 -> 0 | I38: =I9-I24 -> 0 | J38: =J9-J24 -> 0 | K38: =K9-K24 -> 0 | ... M38: =M9-M24 -> 0
B39: Aplikácie - sumár prevádzka | C39: =SUM(D39:M39) -> 31500 | D39: =D10-D25 -> 0 | E39: =E10-E25 -> 3500 | F39: =F10-F25 -> 3500 | G39: =G10-G25 -> 3500 | H39: =H10-H25 -> 3500 | I39: =I10-I25 -> 3500 | J39: =J10-J25 -> 3500 | K39: =K10-K25 -> 3500 | ... M39: =M10-M25 -> 3500
B40: SW a Aplikácie - výstupné náklady | C40: =SUM(D40:M40) -> 0 | D40: =D11 -> 0 | E40: =E11 -> 0 | F40: =F11 -> 0 | G40: =G11 -> 0 | H40: =H11 -> 0 | I40: =I11 -> 0 | J40: =J11 -> 0 | K40: =K11 -> 0 | ... M40: =M11 -> 0
B41: HW (aj systémový SW) sumár obstaranie | C41: =SUM(D41:M41) -> 60000 | D41: =D12-D26 -> 60000 | E41: =E12-E26 -> 0 | F41: =F12-F26 -> 0 | G41: =G12-G26 -> 0 | H41: =H12-H26 -> 0 | I41: =I12-I26 -> 0 | J41: =J12-J26 -> 0 | K41: =K12-K26 -> 0 | ... M41: =M12-M26 -> 0
B42: HW (aj systémový SW) sumár prevádzka | C42: =SUM(D42:M42) -> 0 | D42: =D13-D27 -> 0 | E42: =E13-E27 -> 0 | F42: =F13-F27 -> 0 | G42: =G13-G27 -> 0 | H42: =H13-H27 -> 0 | I42: =I13-I27 -> 0 | J42: =J13-J27 -> 0 | K42: =K13-K27 -> 0 | ... M42: =M13-M27 -> 0
B43: Riadenie projektu | C43: =SUM(D43:M43) -> 9000 | D43: =D14 -> 9000 | E43: =E14 -> 0 | F43: =F14 -> 0 | G43: =G14 -> 0 | H43: =H14 -> 0 | I43: =I14 -> 0 | J43: =J14 -> 0 | K43: =K14 -> 0 | ... M43: =M14 -> 0
B44: Spolu | C44: =SUM(D44:M44) -> 1606500 | D44: =SUM(D36:D43) -> 960660 | E44: =SUM(E36:E43) -> 71760 | F44: =SUM(F36:F43) -> 71760 | G44: =SUM(G36:G43) -> 71760 | H44: =SUM(H36:H43) -> 71760 | I44: =SUM(I36:I43) -> 71760 | J44: =SUM(J36:J43) -> 71760 | K44: =SUM(K36:K43) -> 71760 | ... M44: =SUM(M36:M43) -> 71760

Sheet TCO AS IS - SW
A1: Náklady na obstaranie a prevádzku SW | E1: SPOLU
A2: Názov | B2: Účet/skupina výdavkov | C2: Kód EKO klasifikácie | D2: Obdobie
A3: Prevádzka vytvoreného riešenia | E3: =E4+E25 -> 0
A4: SW produkty | E4: =SUM(E5:E24) -> 0
A5: Poplatky vlastníkovi SW produktu - údržba / support k licenciám | B5: 511 Opravy a udržiavanie | C5: 635009 | D5: t1 | E5: 0
D6: t2 | E6: 0
D7: t3 | E7: 0
D8: t4 | E8: 0
D9: t5 | E9: 0
D10: t6 | E10: 0
D11: t7 | E11: 0
D12: t8 | E12: 0
D13: t9 | E13: 0
D14: t10 | E14: 0
A15: Upgrade SW produktu | B15: 013 Softvér | C15: 718006 | D15: t1 | E15: 0
D16: t2 | E16: 0
D17: t3 | E17: 0
D18: t4 | E18: 0
D19: t5 | E19: 0
D20: t6 | E20: 0
D21: t7 | E21: 0
D22: t8 | E22: 0
D23: t9 | E23: 0
D24: t10 | E24: 0
A25: Aplikácie | E25: =SUM(E26:E75) -> 0
A26: Poplatky za udržanie funkčnosti / dostupnosti aplikácie / update | B26: 511 Opravy a udržiavanie | C26: 635009 | D26: t1 | E26: 0
D27: t2 | E27: 0
D28: t3 | E28: 0
D29: t4 | E29: 0
D30: t5 | E30: 0
D31: t6 | E31: 0
D32: t7 | E32: 0
D33: t8 | E33: 0
D34: t9 | E34: 0
D35: t10 | E35: 0
A36: Aplikačná podpora / helpdesk | B36: 518 Ostatné služby | C36: 637005 | D36: t1 | E36: 0
D37: t2 | E37: 0
D38: t3 | E38: 0
D39: t4 | E39: 0
D40: t5 | E40: 0
D41: t6 | E41: 0
D42: t7 | E42: 0
D43: t8 | E43: 0
D44: t9 | E44: 0
D45: t10 | E45: 0
A46: Rozvoj - doplnenie funkcionality aplikácie / upgrade | B46: 013 Softvér | C46: 718006 | D46: t1 | E46: 0
D47: t2 | E47: 0
D48: t3 | E48: 0
D49: t4 | E49: 0
D50: t5 | E50: 0
D51: t6 | E51: 0
D52: t7 | E52: 0
D53: t8 | E53: 0
D54: t9 | E54: 0
D55: t10 | E55: 0
A56: Personálne náklady spojené s prevádzkou SW produktu a aplikácie | B56: 521 Mzdové výdavky | D56: t1 | E56: 0
D57: t2 | E57: 0
D58: t3 | E58: 0
D59: t4 | E59: 0
D60: t5 | E60: 0
D61: t6 | E61: 0
D62: t7 | E62: 0
D63: t8 | E63: 0
D64: t9 | E64: 0
D65: t10 | E65: 0
A66: Školenia spojené so SW a aplikáciou | B66: 518 Ostatné služby | C66: 637001 | D66: t1 | E66: 0
D67: t2 | E67: 0
D68: t3 | E68: 0
D69: t4 | E69: 0
D70: t5 | E70: 0
D71: t6 | E71: 0
D72: t7 | E72: 0
D73: t8 | E73: 0
D74: t9 | E74: 0
D75: t10 | E75: 0

Sheet TCO AS IS - HW
A1: Náklady na obstaranie a prevádzku HW | E1: SPOLU
A2: Názov | B2: Účet/skupina výdavkov | C2: Kód EKO klasifikácie | D2: Obdobie
A3: Prevádzka riešenia | E3: =SUM(E4:E53) -> 0
A4: Poplatky dodávateľovi podpory HW - údržba/maintenance | B4: 511 Opravy a udržiavanie | C4: 635002 | D4: t1 | E4: 0
D5: t2 | E5: 0
D6: t3 | E6: 0
D7: t4 | E7: 0
D8: t5 | E8: 0
D9: t6 | E9: 0
D10: t7 | E10: 0
D11: t8 | E11: 0
D12: t9 | E12: 0
D13: t10 | E13: 0
A14: Upgrade HW | B14: 022 Samostatné hnuteľné veci a súbory hnuteľných vecí | C14: 718002 | D14: t1 | E14: 0
D15: t2 | E15: 0
D16: t3 | E16: 0
D17: t4 | E17: 0
D18: t5 | E18: 0
D19: t6 | E19: 0
D20: t7 | E20: 0
D21: t8 | E21: 0
D22: t9 | E22: 0
D23: t10 | E23: 0
A24: Náklady na priestory, energie | D24: t1 | E24: 0
D25: t2 | E25: 0
D26: t3 | E26: 0
D27: t4 | E27: 0
D28: t5 | E28: 0
D29: t6 | E29: 0
D30: t7 | E30: 0
D31: t8 | E31: 0
D32: t9 | E32: 0
D33: t10 | E33: 0
A34: Personálne náklady spojené s prevádzkou HW | D34: t1 | E34: 0
D35: t2 | E35: 0
D36: t3 | E36: 0
D37: t4 | E37: 0
D38: t5 | E38: 0
D39: t6 | E39: 0
D40: t7 | E40: 0
D41: t8 | E41: 0
D42: t9 | E42: 0
D43: t10 | E43: 0
A44: Školenia spojené s HW | B44: 518 Ostatné služby | C44: 637001 | D44: t1 | E44: 0
D45: t2 | E45: 0
D46: t3 | E46: 0
D47: t4 | E47: 0
D48: t5 | E48: 0
D49: t6 | E49: 0
D50: t7 | E50: 0
D51: t8 | E51: 0
D52: t9 | E52: 0
D53: t10 | E53: 0

Sheet TCO TO BE - SW
A1: Náklady na obstaranie a prevádzku SW - sumárne !!! | E1: SPOLU | F1: CG ISS | G1: CG DISS | H1: CG eGOV | I1: Konsolidácia údajov mesta | J1: Personalizované dáta občanov | K1: Napojenia na externé IS | L1: CG GISam | M1: Open data mesta | N1: Systémový SW (DLP,PKI a iné) | O1: Integrácie a migrácie (modulov) + súlad so zákonom 69/2018
A2: Názov | B2: Účet/skupina výdavkov | C2: Kód EKO klasifikácie | D2: Obdobie
A3: Vytvorenie riešenia - obstaranie | E3: =E4+E25 -> 891660 | F3: =F4+F25 -> 80000 | G3: =G4+G25 -> 50000 | H3: =H4+H25 -> 0 | I3: =I4+I25 -> 35000 | J3: =J4+J25 -> 35000 | K3: =K4+K25 -> 130000 | L3: =L4+L25 -> 0 | ... O3: =O4+O25 -> 180000
A4: SW produkty | E4: =SUM(E5:E24) -> 891660 | F4: =SUM(F5:F24) -> 80000 | G4: =SUM(G5:G24) -> 50000 | H4: =SUM(H5:H24) -> 0 | I4: =SUM(I5:I24) -> 35000 | J4: =SUM(J5:J24) -> 35000 | K4: =SUM(K5:K24) -> 130000 | L4: =SUM(L5:L24) -> 0 | ... O4: =SUM(O5:O24) -> 180000
A5: Obstaranie, inštalácia SW produktu vrátane licencie k SW | B5: 013 Softvér | C5: 711003 | D5: t1 | E5: =SUM(F5:O5) -> 123660 | F5: 0 | G5: 0 | H5: 0 | I5: 20000 | J5: 5000 | K5: 25000 | L5: 0 | M5: 5000 | N5: =3660+60000+5000 -> 68660 | O5: 0
D6: t2 | E6: =SUM(F6:O6) -> 0 | F6: 0 | G6: 0 | H6: 0 | I6: 0 | J6: 0 | K6: 0 | L6: 0 | M6: 0 | N6: 0 | O6: 0
D7: t3 | E7: =SUM(F7:O7) -> 0 | F7: 0 | G7: 0 | H7: 0 | I7: 0 | J7: 0 | K7: 0 | L7: 0 | M7: 0 | N7: 0 | O7: 0
D8: t4 | E8: =SUM(F8:O8) -> 0 | F8: 0 | G8: 0 | H8: 0 | I8: 0 | J8: 0 | K8: 0 | L8: 0 | M8: 0 | N8: 0 | O8: 0
D9: t5 | E9: =SUM(F9:O9) -> 0 | F9: 0 | G9: 0 | H9: 0 | I9: 0 | J9: 0 | K9: 0 | L9: 0 | M9: 0 | N9: 0 | O9: 0
D10: t6 | E10: =SUM(F10:O10) -> 0 | F10: 0 | G10: 0 | H10: 0 | I10: 0 | J10: 0 | K10: 0 | L10: 0 | M10: 0 | N10: 0 | O10: 0
D11: t7 | E11: =SUM(F11:O11) -> 0 | F11: 0 | G11: 0 | H11: 0 | I11: 0 | J11: 0 | K11: 0 | L11: 0 | M11: 0 | N11: 0 | O11: 0
D12: t8 | E12: =SUM(F12:O12) -> 0 | F12: 0 | G12: 0 | H12: 0 | I12: 0 | J12: 0 | K12: 0 | L12: 0 | M12: 0 | N12: 0 | O12: 0
D13: t9 | E13: =SUM(F13:O13) -> 0 | F13: 0 | G13: 0 | H13: 0 | I13: 0 | J13: 0 | K13: 0 | L13: 0 | M13: 0 | N13: 0 | O13: 0
D14: t10 | E14: =SUM(F14:O14) -> 0 | F14: 0 | G14: 0 | H14: 0 | I14: 0 | J14: 0 | K14: 0 | L14: 0 | M14: 0 | N14: 0 | O14: 0
A15: Obstaranie, inštalácia SW produktu vrátane licencie k SW | B15: 518 Ostatné služby | C15: 633013 | D15: t1 | E15: =SUM(F15:O15) -> 768000 | F15: 80000 | G15: 50000 | H15: 0 | I15: 15000 | J15: 30000 | K15: 105000 | L15: 0 | M15: 20000 | N15: =90000+13000+60000+90000+35000 -> 288000 | O15: 180000
D16: t2 | E16: =SUM(F16:O16) -> 0 | F16: 0 | G16: 0 | H16: 0 | I16: 0 | J16: 0 | K16: 0 | L16: 0 | M16: 0 | N16: 0 | O16: 0
D17: t3 | E17: =SUM(F17:O17) -> 0 | F17: 0 | G17: 0 | H17: 0 | I17: 0 | J17: 0 | K17: 0 | L17: 0 | M17: 0 | N17: 0 | O17: 0
D18: t4 | E18: =SUM(F18:O18) -> 0 | F18: 0 | G18: 0 | H18: 0 | I18: 0 | J18: 0 | K18: 0 | L18: 0 | M18: 0 | N18: 0 | O18: 0
D19: t5 | E19: =SUM(F19:O19) -> 0 | F19: 0 | G19: 0 | H19: 0 | I19: 0 | J19: 0 | K19: 0 | L19: 0 | M19: 0 | N19: 0 | O19: 0
D20: t6 | E20: =SUM(F20:O20) -> 0 | F20: 0 | G20: 0 | H20: 0 | I20: 0 | J20: 0 | K20: 0 | L20: 0 | M20: 0 | N20: 0 | O20: 0
D21: t7 | E21: =SUM(F21:O21) -> 0 | F21: 0 | G21: 0 | H21: 0 | I21: 0 | J21: 0 | K21: 0 | L21: 0 | M21: 0 | N21: 0 | O21: 0
D22: t8 | E22: =SUM(F22:O22) -> 0 | F22: 0 | G22: 0 | H22: 0 | I22: 0 | J22: 0 | K22: 0 | L22: 0 | M22: 0 | N22: 0 | O22: 0
D23: t9 | E23: =SUM(F23:O23) -> 0 | F23: 0 | G23: 0 | H23: 0 | I23: 0 | J23: 0 | K23: 0 | L23: 0 | M23: 0 | N23: 0 | O23: 0
D24: t10 | E24: =SUM(F24:O24) -> 0 | F24: 0 | G24: 0 | H24: 0 | I24: 0 | J24: 0 | K24: 0 | L24: 0 | M24: 0 | N24: 0 | O24: 0
A25: Aplikácie | E25: =SUM(E26:E55) -> 0 | F25: =SUM(F26:F55) -> 0 | G25: =SUM(G26:G55) -> 0 | H25: =SUM(H26:H55) -> 0 | I25: =SUM(I26:I55) -> 0 | J25: =SUM(J26:J55) -> 0 | K25: =SUM(K26:K55) -> 0 | L25: =SUM(L26:L55) -> 0 | ... O25: =SUM(O26:O55) -> 0
A26: Vytvorenie aplikácie | B26: 013 Softvér | C26: 711003 | D26: t1 | E26: =SUM(F26:O26) -> 0 | F26: 0 | G26: 0 | H26: 0 | I26: 0 | J26: 0 | K26: 0 | L26: 0 | M26: 0 | N26: 0 | O26: 0
D27: t2 | E27: =SUM(F27:O27) -> 0 | F27: 0 | G27: 0 | H27: 0 | I27: 0 | J27: 0 | K27: 0 | L27: 0 | M27: 0 | N27: 0 | O27: 0
D28: t3 | E28: =SUM(F28:O28) -> 0 | F28: 0 | G28: 0 | H28: 0 | I28: 0 | J28: 0 | K28: 0 | L28: 0 | M28: 0 | N28: 0 | O28: 0
D29: t4 | E29: =SUM(F29:O29) -> 0 | F29: 0 | G29: 0 | H29: 0 | I29: 0 | J29: 0 | K29: 0 | L29: 0 | M29: 0 | N29: 0 | O29: 0
D30: t5 | E30: =SUM(F30:O30) -> 0 | F30: 0 | G30: 0 | H30: 0 | I30: 0 | J30: 0 | K30: 0 | L30: 0 | M30: 0 | N30: 0 | O30: 0
D31: t6 | E31: =SUM(F31:O31) -> 0 | F31: 0 | G31: 0 | H31: 0 | I31: 0 | J31: 0 | K31: 0 | L31: 0 | M31: 0 | N31: 0 | O31: 0
D32: t7 | E32: =SUM(F32:O32) -> 0 | F32: 0 | G32: 0 | H32: 0 | I32: 0 | J32: 0 | K32: 0 | L32: 0 | M32: 0 | N32: 0 | O32: 0
D33: t8 | E33: =SUM(F33:O33) -> 0 | F33: 0 | G33: 0 | H33: 0 | I33: 0 | J33: 0 | K33: 0 | L33: 0 | M33: 0 | N33: 0 | O33: 0
D34: t9 | E34: =SUM(F34:O34) -> 0 | F34: 0 | G34: 0 | H34: 0 | I34: 0 | J34: 0 | K34: 0 | L34: 0 | M34: 0 | N34: 0 | O34: 0
D35: t10 | E35: =SUM(F35:O35) -> 0 | F35: 0 | G35: 0 | H35: 0 | I35: 0 | J35: 0 | K35: 0 | L35: 0 | M35: 0 | N35: 0 | O35: 0
A36: Vytvorenie aplikácie | B36: 518 Ostatné služby | C36: 633013 | D36: t1 | E36: =SUM(F36:O36) -> 0 | F36: 0 | G36: 0 | H36: 0 | I36: 0 | J36: 0 | K36: 0 | L36: 0 | M36: 0 | N36: 0 | O36: 0
D37: t2 | E37: =SUM(F37:O37) -> 0 | F37: 0 | G37: 0 | H37: 0 | I37: 0 | J37: 0 | K37: 0 | L37: 0 | M37: 0 | N37: 0 | O37: 0
D38: t3 | E38: =SUM(F38:O38) -> 0 | F38: 0 | G38: 0 | H38: 0 | I38: 0 | J38: 0 | K38: 0 | L38: 0 | M38: 0 | N38: 0 | O38: 0
D39: t4 | E39: =SUM(F39:O39) -> 0 | F39: 0 | G39: 0 | H39: 0 | I39: 0 | J39: 0 | K39: 0 | L39: 0 | M39: 0 | N39: 0 | O39: 0
D40: t5 | E40: =SUM(F40:O40) -> 0 | F40: 0 | G40: 0 | H40: 0 | I40: 0 | J40: 0 | K40: 0 | L40: 0 | M40: 0 | N40: 0 | O40: 0
D41: t6 | E41: =SUM(F41:O41) -> 0 | F41: 0 | G41: 0 | H41: 0 | I41: 0 | J41: 0 | K41: 0 | L41: 0 | M41: 0 | N41: 0 | O41: 0
D42: t7 | E42: =SUM(F42:O42) -> 0 | F42: 0 | G42: 0 | H42: 0 | I42: 0 | J42: 0 | K42: 0 | L42: 0 | M42: 0 | N42: 0 | O42: 0
D43: t8 | E43: =SUM(F43:O43) -> 0 | F43: 0 | G43: 0 | H43: 0 | I43: 0 | J43: 0 | K43: 0 | L43: 0 | M43: 0 | N43: 0 | O43: 0
D44: t9 | E44: =SUM(F44:O44) -> 0 | F44: 0 | G44: 0 | H44: 0 | I44: 0 | J44: 0 | K44: 0 | L44: 0 | M44: 0 | N44: 0 | O44: 0
D45: t10 | E45: =SUM(F45:O45) -> 0 | F45: 0 | G45: 0 | H45: 0 | I45: 0 | J45: 0 | K45: 0 | L45: 0 | M45: 0 | N45: 0 | O45: 0
A46: Školenia spojené so SW a aplikáciou | B46: 518 Ostatné služby | C46: 637001 | D46: t1 | E46: =SUM(F46:O46) -> 0 | F46: 0 | G46: 0 | H46: 0 | I46: 0 | J46: 0 | K46: 0 | L46: 0 | M46: 0 | N46: 0 | O46: 0
D47: t2 | E47: =SUM(F47:O47) -> 0 | F47: 0 | G47: 0 | H47: 0 | I47: 0 | J47: 0 | K47: 0 | L47: 0 | M47: 0 | N47: 0 | O47: 0
D48: t3 | E48: =SUM(F48:O48) -> 0 | F48: 0 | G48: 0 | H48: 0 | I48: 0 | J48: 0 | K48: 0 | L48: 0 | M48: 0 | N48: 0 | O48: 0
D49: t4 | E49: =SUM(F49:O49) -> 0 | F49: 0 | G49: 0 | H49: 0 | I49: 0 | J49: 0 | K49: 0 | L49: 0 | M49: 0 | N49: 0 | O49: 0
D50: t5 | E50: =SUM(F50:O50) -> 0 | F50: 0 | G50: 0 | H50: 0 | I50: 0 | J50: 0 | K50: 0 | L50: 0 | M50: 0 | N50: 0 | O50: 0
D51: t6 | E51: =SUM(F51:O51) -> 0 | F51: 0 | G51: 0 | H51: 0 | I51: 0 | J51: 0 | K51: 0 | L51: 0 | M51: 0 | N51: 0 | O51: 0
D52: t7 | E52: =SUM(F52:O52) -> 0 | F52: 0 | G52: 0 | H52: 0 | I52: 0 | J52: 0 | K52: 0 | L52: 0 | M52: 0 | N52: 0 | O52: 0
D53: t8 | E53: =SUM(F53:O53) -> 0 | F53: 0 | G53: 0 | H53: 0 | I53: 0 | J53: 0 | K53: 0 | L53: 0 | M53: 0 | N53: 0 | O53: 0
D54: t9 | E54: =SUM(F54:O54) -> 0 | F54: 0 | G54: 0 | H54: 0 | I54: 0 | J54: 0 | K54: 0 | L54: 0 | M54: 0 | N54: 0 | O54: 0
D55: t10 | E55: =SUM(F55:O55) -> 0 | F55: 0 | G55: 0 | H55: 0 | I55: 0 | J55: 0 | K55: 0 | L55: 0 | M55: 0 | N55: 0 | O55: 0
A56: Prevádzka vytvoreného riešenia | E56: =E57+E78 -> 645840 | F56: =F57+F78 -> 0 | G56: =G57+G78 -> 72000 | H56: =H57+H78 -> 0 | I56: =I57+I78 -> 45000 | J56: =J57+J78 -> 9000 | K56: =K57+K78 -> 108000 | L56: =L57+L78 -> 0 | ... O56: =O57+O78 -> 54000
A57: SW produkty | E57: =SUM(E58:E77) -> 614340 | F57: =SUM(F58:F77) -> 0 | G57: =SUM(G58:G77) -> 72000 | H57: =SUM(H58:H77) -> 0 | I57: =SUM(I58:I77) -> 45000 | J57: =SUM(J58:J77) -> 9000 | K57: =SUM(K58:K77) -> 108000 | L57: =SUM(L58:L77) -> 0 | ... O57: =SUM(O58:O77) -> 54000
A58: Poplatky vlastníkovi SW produktu - údržba / support k licenciám | B58: 511 Opravy a udržiavanie | C58: 635009 | D58: t1 | E58: =SUM(F58:O58) -> 0 | F58: 0 | G58: 0 | H58: 0 | I58: 0 | J58: 0 | K58: 0 | L58: 0 | M58: 0 | N58: 0 | O58: 0
D59: t2 | E59: =SUM(F59:O59) -> 61600 | F59: 0 | G59: 8000 | H59: 0 | I59: 5000 | J59: 1000 | K59: 12000 | L59: 0 | M59: 5000 | N59: =6000+6000+3000+3600+6000 -> 24600 | O59: 6000
D60: t3 | E60: =SUM(F60:O60) -> 61600 | F60: 0 | G60: 8000 | H60: 0 | I60: 5000 | J60: 1000 | K60: 12000 | L60: 0 | M60: 5000 | N60: =6000+6000+3000+3600+6000 -> 24600 | O60: 6000
D61: t4 | E61: =SUM(F61:O61) -> 61600 | F61: 0 | G61: 8000 | H61: 0 | I61: 5000 | J61: 1000 | K61: 12000 | L61: 0 | M61: 5000 | N61: =6000+6000+3000+3600+6000 -> 24600 | O61: 6000
D62: t5 | E62: =SUM(F62:O62) -> 61600 | F62: 0 | G62: 8000 | H62: 0 | I62: 5000 | J62: 1000 | K62: 12000 | L62: 0 | M62: 5000 | N62: =6000+6000+3000+3600+6000 -> 24600 | O62: 6000
D63: t6 | E63: =SUM(F63:O63) -> 61600 | F63: 0 | G63: 8000 | H63: 0 | I63: 5000 | J63: 1000 | K63: 12000 | L63: 0 | M63: 5000 | N63: =6000+6000+3000+3600+6000 -> 24600 | O63: 6000
D64: t7 | E64: =SUM(F64:O64) -> 61600 | F64: 0 | G64: 8000 | H64: 0 | I64: 5000 | J64: 1000 | K64: 12000 | L64: 0 | M64: 5000 | N64: =6000+6000+3000+3600+6000 -> 24600 | O64: 6000
D65: t8 | E65: =SUM(F65:O65) -> 61600 | F65: 0 | G65: 8000 | H65: 0 | I65: 5000 | J65: 1000 | K65: 12000 | L65: 0 | M65: 5000 | N65: =6000+6000+3000+3600+6000 -> 24600 | O65: 6000
D66: t9 | E66: =SUM(F66:O66) -> 61600 | F66: 0 | G66: 8000 | H66: 0 | I66: 5000 | J66: 1000 | K66: 12000 | L66: 0 | M66: 5000 | N66: =6000+6000+3000+3600+6000 -> 24600 | O66: 6000
D67: t10 | E67: =SUM(F67:O67) -> 61600 | F67: 0 | G67: 8000 | H67: 0 | I67: 5000 | J67: 1000 | K67: 12000 | L67: 0 | M67: 5000 | N67: =6000+6000+3000+3600+6000 -> 24600 | O67: 6000
A68: Upgrade SW produktu | B68: 013 Softvér | C68: 718006 | D68: t1 | E68: =SUM(F68:O68) -> 0 | F68: 0 | G68: 0 | H68: 0 | I68: 0 | J68: 0 | K68: 0 | L68: 0 | M68: 0 | N68: 0 | O68: 0
D69: t2 | E69: =SUM(F69:O69) -> 6660 | F69: 0 | G69: 0 | H69: 0 | I69: 0 | J69: 0 | K69: 0 | L69: 0 | M69: 0 | N69: =3660+3000 -> 6660 | O69: 0
D70: t3 | E70: =SUM(F70:O70) -> 6660 | F70: 0 | G70: 0 | H70: 0 | I70: 0 | J70: 0 | K70: 0 | L70: 0 | M70: 0 | N70: =3660+3000 -> 6660 | O70: 0
D71: t4 | E71: =SUM(F71:O71) -> 6660 | F71: 0 | G71: 0 | H71: 0 | I71: 0 | J71: 0 | K71: 0 | L71: 0 | M71: 0 | N71: =3660+3000 -> 6660 | O71: 0
D72: t5 | E72: =SUM(F72:O72) -> 6660 | F72: 0 | G72: 0 | H72: 0 | I72: 0 | J72: 0 | K72: 0 | L72: 0 | M72: 0 | N72: =3660+3000 -> 6660 | O72: 0
D73: t6 | E73: =SUM(F73:O73) -> 6660 | F73: 0 | G73: 0 | H73: 0 | I73: 0 | J73: 0 | K73: 0 | L73: 0 | M73: 0 | N73: =3660+3000 -> 6660 | O73: 0
D74: t7 | E74: =SUM(F74:O74) -> 6660 | F74: 0 | G74: 0 | H74: 0 | I74: 0 | J74: 0 | K74: 0 | L74: 0 | M74: 0 | N74: =3660+3000 -> 6660 | O74: 0
D75: t8 | E75: =SUM(F75:O75) -> 6660 | F75: 0 | G75: 0 | H75: 0 | I75: 0 | J75: 0 | K75: 0 | L75: 0 | M75: 0 | N75: =3660+3000 -> 6660 | O75: 0
D76: t9 | E76: =SUM(F76:O76) -> 6660 | F76: 0 | G76: 0 | H76: 0 | I76: 0 | J76: 0 | K76: 0 | L76: 0 | M76: 0 | N76: =3660+3000 -> 6660 | O76: 0
D77: t10 | E77: =SUM(F77:O77) -> 6660 | F77: 0 | G77: 0 | H77: 0 | I77: 0 | J77: 0 | K77: 0 | L77: 0 | M77: 0 | N77: =3660+3000 -> 6660 | O77: 0
A78: Aplikácie | E78: =SUM(E79:E128) -> 31500 | F78: =SUM(F79:F128) -> 0 | G78: =SUM(G79:G128) -> 0 | H78: =SUM(H79:H128) -> 0 | I78: =SUM(I79:I128) -> 0 | J78: =SUM(J79:J128) -> 0 | K78: =SUM(K79:K128) -> 0 | L78: =SUM(L79:L128) -> 0 | ... N78: =SUM(N79:N128) -> 0 | O78: 0
A79: Poplatky za udržanie funkčnosti / dostupnosti aplikácie / update | B79: 511 Opravy a udržiavanie | C79: 635009 | D79: t1 | E79: =SUM(F79:JO79) -> 0 | F79: 0 | G79: 0 | H79: 0 | I79: 0 | J79: 0 | K79: 0 | L79: 0 | M79: 0 | N79: 0 | O79: 0
D80: t2 | E80: =SUM(F80:O80) -> 0 | F80: =F25*0.1 -> 0 | G80: 0 | H80: 0 | I80: 0 | J80: 0 | K80: 0 | L80: 0 | M80: 0 | N80: 0 | O80: 0
D81: t3 | E81: =SUM(F81:O81) -> 0 | F81: =F25*0.1 -> 0 | G81: 0 | H81: 0 | I81: 0 | J81: 0 | K81: 0 | L81: 0 | M81: 0 | N81: 0 | O81: 0
D82: t4 | E82: =SUM(F82:O82) -> 0 | F82: =F25*0.1 -> 0 | G82: 0 | H82: 0 | I82: 0 | J82: 0 | K82: 0 | L82: 0 | M82: 0 | N82: 0 | O82: 0
D83: t5 | E83: =SUM(F83:O83) -> 0 | F83: =F25*0.1 -> 0 | G83: 0 | H83: 0 | I83: 0 | J83: 0 | K83: 0 | L83: 0 | M83: 0 | N83: 0 | O83: 0
D84: t6 | E84: =SUM(F84:O84) -> 0 | F84: =F25*0.1 -> 0 | G84: 0 | H84: 0 | I84: 0 | J84: 0 | K84: 0 | L84: 0 | M84: 0 | N84: 0 | O84: 0
D85: t7 | E85: =SUM(F85:O85) -> 0 | F85: =F25*0.1 -> 0 | G85: 0 | H85: 0 | I85: 0 | J85: 0 | K85: 0 | L85: 0 | M85: 0 | N85: 0 | O85: 0
D86: t8 | E86: =SUM(F86:O86) -> 0 | F86: =F25*0.1 -> 0 | G86: 0 | H86: 0 | I86: 0 | J86: 0 | K86: 0 | L86: 0 | M86: 0 | N86: 0 | O86: 0
D87: t9 | E87: =SUM(F87:O87) -> 0 | F87: =F25*0.1 -> 0 | G87: 0 | H87: 0 | I87: 0 | J87: 0 | K87: 0 | L87: 0 | M87: 0 | N87: 0 | O87: 0
D88: t10 | E88: =SUM(F88:O88) -> 0 | F88: =F25*0.1 -> 0 | G88: 0 | H88: 0 | I88: 0 | J88: 0 | K88: 0 | L88: 0 | M88: 0 | N88: 0 | O88: 0
A89: Aplikačná podpora / helpdesk | B89: 518 Ostatné služby | C89: 637005 | D89: t1 | E89: =SUM(F89:JO89) -> 0 | F89: 0 | G89: 0 | H89: 0 | I89: 0 | J89: 0 | K89: 0 | L89: 0 | M89: 0 | N89: 0 | O89: 0
D90: t2 | E90: =SUM(F90:O90) -> 0 | F90: 0 | G90: 0 | H90: 0 | I90: 0 | J90: 0 | K90: 0 | L90: 0 | M90: 0 | N90: 0 | O90: 0
D91: t3 | E91: =SUM(F91:O91) -> 0 | F91: 0 | G91: 0 | H91: 0 | I91: 0 | J91: 0 | K91: 0 | L91: 0 | M91: 0 | N91: 0 | O91: 0
D92: t4 | E92: =SUM(F92:O92) -> 0 | F92: 0 | G92: 0 | H92: 0 | I92: 0 | J92: 0 | K92: 0 | L92: 0 | M92: 0 | N92: 0 | O92: 0
D93: t5 | E93: =SUM(F93:O93) -> 0 | F93: 0 | G93: 0 | H93: 0 | I93: 0 | J93: 0 | K93: 0 | L93: 0 | M93: 0 | N93: 0 | O93: 0
D94: t6 | E94: =SUM(F94:O94) -> 0 | F94: 0 | G94: 0 | H94: 0 | I94: 0 | J94: 0 | K94: 0 | L94: 0 | M94: 0 | N94: 0 | O94: 0
D95: t7 | E95: =SUM(F95:O95) -> 0 | F95: 0 | G95: 0 | H95: 0 | I95: 0 | J95: 0 | K95: 0 | L95: 0 | M95: 0 | N95: 0 | O95: 0
D96: t8 | E96: =SUM(F96:O96) -> 0 | F96: 0 | G96: 0 | H96: 0 | I96: 0 | J96: 0 | K96: 0 | L96: 0 | M96: 0 | N96: 0 | O96: 0
D97: t9 | E97: =SUM(F97:O97) -> 0 | F97: 0 | G97: 0 | H97: 0 | I97: 0 | J97: 0 | K97: 0 | L97: 0 | M97: 0 | N97: 0 | O97: 0
D98: t10 | E98: =SUM(F98:O98) -> 0 | F98: 0 | G98: 0 | H98: 0 | I98: 0 | J98: 0 | K98: 0 | L98: 0 | M98: 0 | N98: 0 | O98: 0
A99: Rozvoj - doplnenie funkcionality aplikácie / upgrade | B99: 013 Softvér | C99: 718006 | D99: t1 | E99: =SUM(F99:O99) -> 0 | F99: 0 | G99: 0 | H99: 0 | I99: 0 | J99: 0 | K99: 0 | L99: 0 | M99: 0 | N99: 0 | O99: 0
D100: t2 | E100: =SUM(F100:O100) -> 0 | F100: 0 | G100: 0 | H100: 0 | I100: 0 | J100: 0 | K100: 0 | L100: 0 | M100: 0 | N100: 0 | O100: 0
...

Sheet TCO TO BE - HW
A1: Náklady na obstaranie a prevádzku HW | E1: SPOLU | F1: Aplikačný modul 1 | G1: Aplikačný modul 2 | H1: Aplikačný modul 3 | I1: Aplikačný modul N | J1: "Out of scope" - HW nesúvisiaci priamo s projektom | K1: Integrácie a migrácie (modulov)
A2: Názov | B2: Účet/skupina výdavkov | C2: Kód EKO klasifikácie | D2: Obdobie
A3: Obstaranie | E3: =SUM(E4:E33) -> 60000 | F3: =SUM(F4:F33) -> 0 | G3: =SUM(G4:G33) -> 0 | H3: =SUM(H4:H33) -> 0 | I3: =SUM(I4:I33) -> 0 | J3: =SUM(J4:J33) -> 0 | K3: =SUM(K4:K33) -> 60000
A4: Nákup, inštalácia a sprevádzkovanie HW vrátane systémového SW | B4: 022 Samostatné hnuteľné veci a súbory hnuteľných vecí | C4: 713002 | D4: t1 | E4: =SUM(F4:K4) -> 60000 | F4: 0 | G4: 0 | H4: 0 | I4: 0 | J4: 0 | K4: 60000
D5: t2 | E5: =SUM(F5:K5) -> 0 | F5: 0 | G5: 0 | H5: 0 | I5: 0 | J5: 0 | K5: 0
D6: t3 | E6: =SUM(F6:K6) -> 0 | F6: 0 | G6: 0 | H6: 0 | I6: 0 | J6: 0 | K6: 0
D7: t4 | E7: =SUM(F7:K7) -> 0 | F7: 0 | G7: 0 | H7: 0 | I7: 0 | J7: 0 | K7: 0
D8: t5 | E8: =SUM(F8:K8) -> 0 | F8: 0 | G8: 0 | H8: 0 | I8: 0 | J8: 0 | K8: 0
D9: t6 | E9: =SUM(F9:K9) -> 0 | F9: 0 | G9: 0 | H9: 0 | I9: 0 | J9: 0 | K9: 0
D10: t7 | E10: =SUM(F10:K10) -> 0 | F10: 0 | G10: 0 | H10: 0 | I10: 0 | J10: 0 | K10: 0
D11: t8 | E11: =SUM(F11:K11) -> 0 | F11: 0 | G11: 0 | H11: 0 | I11: 0 | J11: 0 | K11: 0
D12: t9 | E12: =SUM(F12:K12) -> 0 | F12: 0 | G12: 0 | H12: 0 | I12: 0 | J12: 0 | K12: 0
D13: t10 | E13: =SUM(F13:K13) -> 0 | F13: 0 | G13: 0 | H13: 0 | I13: 0 | J13: 0 | K13: 0
A14: Nákup, inštalácia a sprevádzkovanie HW vrátane systémového SW | B14: 112 Zásoby | C14: 633002 | D14: t1 | E14: =SUM(F14:K14) -> 0 | F14: 0 | G14: 0 | H14: 0 | I14: 0 | J14: 0 | K14: 0
D15: t2 | E15: =SUM(F15:K15) -> 0 | F15: 0 | G15: 0 | H15: 0 | I15: 0 | J15: 0 | K15: 0
D16: t3 | E16: =SUM(F16:K16) -> 0 | F16: 0 | G16: 0 | H16: 0 | I16: 0 | J16: 0 | K16: 0
D17: t4 | E17: =SUM(F17:K17) -> 0 | F17: 0 | G17: 0 | H17: 0 | I17: 0 | J17: 0 | K17: 0
D18: t5 | E18: =SUM(F18:K18) -> 0 | F18: 0 | G18: 0 | H18: 0 | I18: 0 | J18: 0 | K18: 0
D19: t6 | E19: =SUM(F19:K19) -> 0 | F19: 0 | G19: 0 | H19: 0 | I19: 0 | J19: 0 | K19: 0
D20: t7 | E20: =SUM(F20:K20) -> 0 | F20: 0 | G20: 0 | H20: 0 | I20: 0 | J20: 0 | K20: 0
D21: t8 | E21: =SUM(F21:K21) -> 0 | F21: 0 | G21: 0 | H21: 0 | I21: 0 | J21: 0 | K21: 0
D22: t9 | E22: =SUM(F22:K22) -> 0 | F22: 0 | G22: 0 | H22: 0 | I22: 0 | J22: 0 | K22: 0
D23: t10 | E23: =SUM(F23:K23) -> 0 | F23: 0 | G23: 0 | H23: 0 | I23: 0 | J23: 0 | K23: 0
A24: Školenia spojené s HW | B24: 518 Ostatné služby | C24: 637001 | D24: t1 | E24: =SUM(F24:K24) -> 0 | F24: 0 | G24: 0 | H24: 0 | I24: 0 | J24: 0 | K24: 0
D25: t2 | E25: =SUM(F25:K25) -> 0 | F25: 0 | G25: 0 | H25: 0 | I25: 0 | J25: 0 | K25: 0
D26: t3 | E26: =SUM(F26:K26) -> 0 | F26: 0 | G26: 0 | H26: 0 | I26: 0 | J26: 0 | K26: 0
D27: t4 | E27: =SUM(F27:K27) -> 0 | F27: 0 | G27: 0 | H27: 0 | I27: 0 | J27: 0 | K27: 0
D28: t5 | E28: =SUM(F28:K28) -> 0 | F28: 0 | G28: 0 | H28: 0 | I28: 0 | J28: 0 | K28: 0
D29: t6 | E29: =SUM(F29:K29) -> 0 | F29: 0 | G29: 0 | H29: 0 | I29: 0 | J29: 0 | K29: 0
D30: t7 | E30: =SUM(F30:K30) -> 0 | F30: 0 | G30: 0 | H30: 0 | I30: 0 | J30: 0 | K30: 0
D31: t8 | E31: =SUM(F31:K31) -> 0 | F31: 0 | G31: 0 | H31: 0 | I31: 0 | J31: 0 | K31: 0
D32: t9 | E32: =SUM(F32:K32) -> 0 | F32: 0 | G32: 0 | H32: 0 | I32: 0 | J32: 0 | K32: 0
D33: t10 | E33: =SUM(F33:K33) -> 0 | F33: 0 | G33: 0 | H33: 0 | I33: 0 | J33: 0 | K33: 0
A34: Prevádzka riešenia | E34: =SUM(E35:E84) -> 0 | F34: =SUM(F35:F84) -> 0 | G34: =SUM(G35:G84) -> 0 | H34: =SUM(H35:H84) -> 0 | I34: =SUM(I35:I84) -> 0 | J34: =SUM(J35:J84) -> 0 | K34: =SUM(K35:K84) -> 0
A35: Poplatky dodávateľovi podpory HW - údržba/maintenance | B35: 511 Opravy a udržiavanie | C35: 635002 | D35: t1 | E35: =SUM(F35:K35) -> 0 | F35: 0 | G35: 0 | H35: 0 | I35: 0 | J35: 0 | K35: 0
D36: t2 | E36: =SUM(F36:K36) -> 0 | F36: 0 | G36: 0 | H36: 0 | I36: 0 | J36: 0 | K36: 0
D37: t3 | E37: =SUM(F37:K37) -> 0 | F37: 0 | G37: 0 | H37: 0 | I37: 0 | J37: 0 | K37: 0
D38: t4 | E38: =SUM(F38:K38) -> 0 | F38: 0 | G38: 0 | H38: 0 | I38: 0 | J38: 0 | K38: 0
D39: t5 | E39: =SUM(F39:K39) -> 0 | F39: 0 | G39: 0 | H39: 0 | I39: 0 | J39: 0 | K39: 0
D40: t6 | E40: =SUM(F40:K40) -> 0 | F40: 0 | G40: 0 | H40: 0 | I40: 0 | J40: 0 | K40: 0
D41: t7 | E41: =SUM(F41:K41) -> 0 | F41: 0 | G41: 0 | H41: 0 | I41: 0 | J41: 0 | K41: 0
D42: t8 | E42: =SUM(F42:K42) -> 0 | F42: 0 | G42: 0 | H42: 0 | I42: 0 | J42: 0 | K42: 0
D43: t9 | E43: =SUM(F43:K43) -> 0 | F43: 0 | G43: 0 | H43: 0 | I43: 0 | J43: 0 | K43: 0
D44: t10 | E44: =SUM(F44:K44) -> 0 | F44: 0 | G44: 0 | H44: 0 | I44: 0 | J44: 0 | K44: 0
A45: Upgrade HW | B45: 022 Samostatné hnuteľné veci a súbory hnuteľných vecí | C45: 718002 | D45: t1 | E45: =SUM(F45:K45) -> 0 | F45: 0 | G45: 0 | H45: 0 | I45: 0 | J45: 0 | K45: 0
D46: t2 | E46: =SUM(F46:K46) -> 0 | F46: 0 | G46: 0 | H46: 0 | I46: 0 | J46: 0 | K46: 0
D47: t3 | E47: =SUM(F47:K47) -> 0 | F47: 0 | G47: 0 | H47: 0 | I47: 0 | J47: 0 | K47: 0
D48: t4 | E48: =SUM(F48:K48) -> 0 | F48: 0 | G48: 0 | H48: 0 | I48: 0 | J48: 0 | K48: 0
D49: t5 | E49: =SUM(F49:K49) -> 0 | F49: 0 | G49: 0 | H49: 0 | I49: 0 | J49: 0 | K49: 0
D50: t6 | E50: =SUM(F50:K50) -> 0 | F50: 0 | G50: 0 | H50: 0 | I50: 0 | J50: 0 | K50: 0
D51: t7 | E51: =SUM(F51:K51) -> 0 | F51: 0 | G51: 0 | H51: 0 | I51: 0 | J51: 0 | K51: 0
D52: t8 | E52: =SUM(F52:K52) -> 0 | F52: 0 | G52: 0 | H52: 0 | I52: 0 | J52: 0 | K52: 0
D53: t9 | E53: =SUM(F53:K53) -> 0 | F53: 0 | G53: 0 | H53: 0 | I53: 0 | J53: 0 | K53: 0
D54: t10 | E54: =SUM(F54:K54) -> 0 | F54: 0 | G54: 0 | H54: 0 | I54: 0 | J54: 0 | K54: 0
A55: Náklady na priestory, energie | D55: t1 | E55: =SUM(F55:K55) -> 0 | F55: 0 | G55: 0 | H55: 0 | I55: 0 | J55: 0 | K55: 0
D56: t2 | E56: =SUM(F56:K56) -> 0 | F56: 0 | G56: 0 | H56: 0 | I56: 0 | J56: 0 | K56: 0
D57: t3 | E57: =SUM(F57:K57) -> 0 | F57: 0 | G57: 0 | H57: 0 | I57: 0 | J57: 0 | K57: 0
D58: t4 | E58: =SUM(F58:K58) -> 0 | F58: 0 | G58: 0 | H58: 0 | I58: 0 | J58: 0 | K58: 0
D59: t5 | E59: =SUM(F59:K59) -> 0 | F59: 0 | G59: 0 | H59: 0 | I59: 0 | J59: 0 | K59: 0
D60: t6 | E60: =SUM(F60:K60) -> 0 | F60: 0 | G60: 0 | H60: 0 | I60: 0 | J60: 0 | K60: 0
D61: t7 | E61: =SUM(F61:K61) -> 0 | F61: 0 | G61: 0 | H61: 0 | I61: 0 | J61: 0 | K61: 0
D62: t8 | E62: =SUM(F62:K62) -> 0 | F62: 0 | G62: 0 | H62: 0 | I62: 0 | J62: 0 | K62: 0
D63: t9 | E63: =SUM(F63:K63) -> 0 | F63: 0 | G63: 0 | H63: 0 | I63: 0 | J63: 0 | K63: 0
D64: t10 | E64: =SUM(F64:K64) -> 0 | F64: 0 | G64: 0 | H64: 0 | I64: 0 | J64: 0 | K64: 0
A65: Personálne náklady spojené s prevádzkou HW | D65: t1 | E65: =SUM(F65:K65) -> 0 | F65: 0 | G65: 0 | H65: 0 | I65: 0 | J65: 0 | K65: 0
D66: t2 | E66: =SUM(F66:K66) -> 0 | F66: 0 | G66: 0 | H66: 0 | I66: 0 | J66: 0 | K66: 0
D67: t3 | E67: =SUM(F67:K67) -> 0 | F67: 0 | G67: 0 | H67: 0 | I67: 0 | J67: 0 | K67: 0
D68: t4 | E68: =SUM(F68:K68) -> 0 | F68: 0 | G68: 0 | H68: 0 | I68: 0 | J68: 0 | K68: 0
D69: t5 | E69: =SUM(F69:K69) -> 0 | F69: 0 | G69: 0 | H69: 0 | I69: 0 | J69: 0 | K69: 0
D70: t6 | E70: =SUM(F70:K70) -> 0 | F70: 0 | G70: 0 | H70: 0 | I70: 0 | J70: 0 | K70: 0
D71: t7 | E71: =SUM(F71:K71) -> 0 | F71: 0 | G71: 0 | H71: 0 | I71: 0 | J71: 0 | K71: 0
D72: t8 | E72: =SUM(F72:K72) -> 0 | F72: 0 | G72: 0 | H72: 0 | I72: 0 | J72: 0 | K72: 0
D73: t9 | E73: =SUM(F73:K73) -> 0 | F73: 0 | G73: 0 | H73: 0 | I73: 0 | J73: 0 | K73: 0
D74: t10 | E74: =SUM(F74:K74) -> 0 | F74: 0 | G74: 0 | H74: 0 | I74: 0 | J74: 0 | K74: 0
A75: Školenia spojené s HW | B75: 518 Ostatné služby | C75: 637001 | D75: t1 | E75: =SUM(F75:K75) -> 0 | F75: 0 | G75: 0 | H75: 0 | I75: 0 | J75: 0 | K75: 0
D76: t2 | E76: =SUM(F76:K76) -> 0 | F76: 0 | G76: 0 | H76: 0 | I76: 0 | J76: 0 | K76: 0
D77: t3 | E77: =SUM(F77:K77) -> 0 | F77: 0 | G77: 0 | H77: 0 | I77: 0 | J77: 0 | K77: 0
D78: t4 | E78: =SUM(F78:K78) -> 0 | F78: 0 | G78: 0 | H78: 0 | I78: 0 | J78: 0 | K78: 0
D79: t5 | E79: =SUM(F79:K79) -> 0 | F79: 0 | G79: 0 | H79: 0 | I79: 0 | J79: 0 | K79: 0
D80: t6 | E80: =SUM(F80:K80) -> 0 | F80: 0 | G80: 0 | H80: 0 | I80: 0 | J80: 0 | K80: 0
D81: t7 | E81: =SUM(F81:K81) -> 0 | F81: 0 | G81: 0 | H81: 0 | I81: 0 | J81: 0 | K81: 0
D82: t8 | E82: =SUM(F82:K82) -> 0 | F82: 0 | G82: 0 | H82: 0 | I82: 0 | J82: 0 | K82: 0
D83: t9 | E83: =SUM(F83:K83) -> 0 | F83: 0 | G83: 0 | H83: 0 | I83: 0 | J83: 0 | K83: 0
D84: t10 | E84: =SUM(F84:K84) -> 0 | F84: 0 | G84: 0 | H84: 0 | I84: 0 | J84: 0 | K84: 0

Sheet Rozpočet-implementácia riešenia
A2: Výstup/funkcionalita projektu | B2: Popis | C2: M1 | D2: M2 | E2: M3 | F2: M4 | G2: M5 | H2: M6 | I2: M7 | J2: M8 | K2: M9 | L2: M10 | M2: M11 | N2: M12 | O2: M13 | P2: M14 | Q2: M15 | R2: M16 | S2: M17 | T2: M18 | U2: Počet dní interné | V2: Počet dní externé | W2: Pocet FTE interne | X2: Pocet FTE externe | Y2: Rate FTE interné | Z2: Rate FTE externé | AA2: Suma interné | AB2: Suma externé
A3: Podrobný rozpočet súčasťou dátovej štruktúry projektu
A4: Pracovné pozície
A5: Dátový kurátor - IT senior | C5: 1 | D5: 1 | E5: 1 | U5: 37.5 | V5: 0 | W5: 1 | Y5: =8*30 -> 240 | AA5: =U5*W5*Y5 -> 9000
A6: Nákup licencií
A7: Získanie výpisu 1xkrat a dosť a ďalších výpisov z centrálnych IS (napojenie na externé IS) | AA7: =U7*W7*Y7 -> 0 | AB7: 25000
A8: Modul konsolidácia údajov mesta | AA8: =U8*W8*Y8 -> 0 | AB8: 20000
A9: Publikovanie Open dáta datasetov | AA9: =U9*W9*Y9 -> 0 | AB9: 5000
A10: Poskytovanie služieb „Moje dáta“ | AA10: =U10*W10*Y10 -> 0 | AB10: 5000
A11: Systém pre prevenciu úniku údajov (DLP) | AA11: =U11*W11*Y11 -> 0 | AB11: 3640
A12: Rozšírená funkcionalita fyzicky oddeleného Syslog servera s pokročilými možnosťami forenznej analýzy v prípade bezpečnostných incidentov | AA12: =U12*W12*Y12 -> 0 | AB12: 60000
A13: Implementácia PKI a teda širokého použitia elektronického podpisu, služieb časovej pečiatky a šifrovania dát sú súčasťou navrhovaného riešenia. | AA13: =U13*W13*Y13 -> 0 | AB13: 5000
AA14: =U14*W14*Y14 -> 0
A15: Implementácia riešenia
A16: Získanie výpisu 1xkrat a dosť a ďalších výpisov z centrálnych IS (napojenie na externé IS) | AB16: 105000
A17: Modul konsolidácia údajov mesta | AA17: =U17*W17*Y17 -> 0 | AB17: 15000
A18: Publikovanie Open dáta datasetov | AA18: =U18*W18*Y18 -> 0 | AB18: 20000
A19: Poskytovanie služieb „Moje dáta“ | AA19: =U19*W19*Y19 -> 0 | AB19: 30000
A20: Konsolidácia registratúrnych údajov Rozpočtových a príspevkových organizácií mesta | AA20: =U20*W20*Y20 -> 0 | AB20: 50000
A21: Manažment údajov mesta | AA21: =U21*W21*Y21 -> 0 | AB21: 80000
A22: Manažment a monitoring bezpečnostných incidentov v informačných systémoch (SIEM) | AA22: =U22*W22*Y22 -> 0 | AB22: 90000
A23: Systém pre prevenciu úniku údajov (DLP) | AB23: 13000
A24: Rozšírená funkcionalita fyzicky oddeleného Syslog servera s pokročilými možnosťami forenznej analýzy v prípade bezpečnostných incidentov | AA24: =U24*W24*Y24 -> 0 | AB24: 60000
A25: Implementácia PKI a teda širokého použitia elektronického podpisu, služieb časovej pečiatky a šifrovania dát sú súčasťou navrhovaného riešenia. | AA25: =U25*W25*Y25 -> 0 | AB25: 90000
A26: Centrálny monitorovaci nástroj na platforme Zabbix vrátane technológia kontinuálneho monitoringu bezpečnostných zraniteľností | AA26: =U26*W26*Y26 -> 0 | AB26: 35000
A27: Zabezpečenie súladu so zákonom 69/2018 | AA27: =U27*W27*Y27 -> 0 | AB27: 180000
A28: INDIKATÍVNY ROZPOČET SPOLU vrátane DPH | AA28: =SUM(AA4:AA27) -> 9000 | AB28: =SUM(AB4:AB27) -> 891640

Sheet Rozpočet - HW 
A2: Položka | B2: Merná jednotka | C2: Počet | D2: Jednotková cena (eur) | E2: Celková suma (eur) | F2: Zdroj ceny
A3: HW | B3: ks | C3: 1 | D3: 60000 | E3: =D3*C3 -> 60000 | F3: prieskum PHZ,
E4: =D4*C4 -> 0

Sheet Slepý rozpočet
A1: Vyplní spracovateľ projektu | AD1: Vyplní oslovený dodávateľ
Z2: Riešenie navrhované obstarávateľom | AL2: Alternatívne riešeine (nepovinné)
Z3: Nákup krabicového SW | AD3: Dodatočná úprava krabicového SW / Vývoj riešenia
A4: Výstup/funkcionalita projektu (všetky náklady vrátane analýzy, dizajnu, testovania a nasadenia) | B4: Popis (Vrátane zdôvodnenia zvoleného technologického variantu - IaaS, PaaS, vývoj vlastnej aplikácie, COTS riešenie) | C4: M1 | D4: M2 | E4: M3 | F4: M4 | G4: M5 | H4: M6 | I4: M7 | J4: M8 | K4: M9 | L4: M10 | M4: M11 | N4: M12 | O4: M13 | P4: M14 | Q4: M15 | R4: M16 | S4: M17 | T4: M18 | U4: M19 | V4: M20 | W4: M21 | X4: M22 | Y4: M24 | Z4: Názov SW | AA4: počet kusov | AB4: Cena za kus | AC4: Cena spolu | AD4: Minimálny počet MD | AE4: Maximálny počet MD | AF4: Priemerný MD rate | AG4: Minimálna suma | AH4: Maximálna suma | AI4: Rozdiel | AJ4: Ročná prevádzka celého systému (SLA) vrátane zmenových konaní | AK4: Vysvetlenie rozptylu medzi minimálnou a maximálnou sumou (nepovinné) | AL4: Popis zmien v alternatívnom riešení (nepovinné) | AM4: Minimálny počet MD | AN4: Maximálny počet MD | AO4: Priemerný MD rate | AP4: Minimálna suma | AQ4: Rozdiel (voči min. riešenia navrhovaneho obstarávateĹom)
A6: Modul 1 | AG6: =AD6*AF6+AC6 -> 0 | AH6: =AE6*AF6+AC6 -> 0 | AI6: =AH6-AG6 -> 0 | AP6: =AM6*AO6 -> 0
A7: Modul 2 | AG7: =AD7*AF7+AC7 -> 0 | AH7: =AE7*AF7+AC7 -> 0 | AI7: =AH7-AG7 -> 0 | AP7: =AM7*AO7 -> 0
A8: Modul 3 | AG8: =AD8*AF8+AC8 -> 0 | AH8: =AE8*AF8+AC8 -> 0 | AI8: =AH8-AG8 -> 0 | AP8: =AM8*AO8 -> 0
A9: Modul 4 | AG9: =AD9*AF9+AC9 -> 0 | AH9: =AE9*AF9+AC9 -> 0 | AI9: =AH9-AG9 -> 0 | AP9: =AM9*AO9 -> 0
A10: Modul N | AG10: =AD10*AF10+AC10 -> 0 | AH10: =AE10*AF10+AC10 -> 0 | AI10: =AH10-AG10 -> 0 | AP10: =AM10*AO10 -> 0
A11: Projektové riadenie | AG11: =AD11*AF11+AC11 -> 0 | AH11: =AE11*AF11+AC11 -> 0 | AI11: =AH11-AG11 -> 0 | AP11: =AM11*AO11 -> 0
A12: INDIKATÍVNY ROZPOČET SPOLU | AC12: =SUM(AC6:AC11) -> 0 | AD12: =SUM(AD6:AD11) -> 0 | AE12: =SUM(AE6:AE11) -> 0 | AF12: =SUM(AF6:AF11) -> 0 | AG12: =SUM(AG6:AG11) -> 0 | AH12: =SUM(AH6:AH11) -> 0 | AI12: =SUM(AI6:AI11) -> 0 | AJ12: 0 | AM12: =SUM(AM6:AM11) -> 0 | AN12: =SUM(AN6:AN11) -> 0 | AO12: =SUM(AO6:AO11) -> 0 | AP12: =SUM(AP6:AP11) -> 0

Sheet Faktory
A1: Názov | B1: Popis | C1: Jednotka | D1: Hodnota
A2: Životnosť projektu (t) | B2: Referenčné obdobie je počet rokov, na ktorý sa vo finančnej analýze (analýze nákladov a výnosov) uvádzajú predpovede. Predpovede týkajúce sa budúceho trendu projektu by sa mali formulovať na obdobie, ktoré je primerané jeho ekonomicky užitočnému trvaniu a ktoré je dosť dlhé na to, aby zahŕňalo jeho pravdepodobné dlhodobejšie dosahy. Ide o časové obdobie, kedy je možné overiť úspešnosť investície. Trvanie sa mení podľa povahy investície. Referenčný časový horizont v rokoch podľa sektorov je uvedený podľa prílohy 1 Delegovaného nariadenia Komisie (EÚ) 480/2014 z 3. marca 2014, ktorým sa dopĺňa všeobecné nariadenie. | C2: rok | D2: 10
A3: Referenčná diskontná sadzba (i) | B3: Diskontná sadzba, ktorá sa má používať vo finančnej analýze má informovať investora o alternatívnych kapitálových nákladoch. Môže sa za ňu považovať ušlý výnos najlepšieho alternatívneho projektu. V prípade verejných investičných projektov spolufinancovaných z fondov sa stanovuje 4 % finančná diskontná sadzbu pre výpočet čistej súčasnej hodnoty investície v stálych cenách roku predloženia žiadosti o NFP. | C3: % | D3: 0.04
A5: Sociálna diskontná sadzba (r) | B5: Cieľom CBA je preukázať pri štrukturálne významných investíciách, že ekonomická čistá súčasná hodnota za dané obdobie a pri stanovenej sociálnej diskontnej sadzbe je kladná. | C5: % | D5: 0.05
B6: Diskontovanie odhadovaných nákladov a prínosov: keď sa odhadne tok ekonomických nákladov a prínosov, mala by sa uplatniť štandardná diskontovaná metodika peňažného toku pomocou sociálnej diskontnej sadzby
A7: Priemerná mzda vo verejnej správe (aktuálna, W_ps) | B7: Priemerná mesačná hrubá mzda vo verejnej správe za 1. - 4. Q./2017 (obdobie aktualizovať k času predloženia dokumentu), podľa ŠÚ SR | C7: EUR | D7: 1215
A8: Osobné náklady (Cper) | B8: Cper = (W_ps * Odvody) / Fond pracovnej doby. Odvody (SP, ZP, DP) sú 35,2%“. Osobné náklady sú faktorom prevádzkových variabilných nákladov. | C8: EUR/hod | D8: =$D$7*1.352/(D12/12) -> 10.031634
A10: Priemerná mzda v NH (Cperc) | B10: Priemerná mesačná hrubá mzda v národnom hospodárstve SR za 1. - 4. Q./2017 (obdobie aktualizovať k času predloženia dokumentu), podľa ŠÚ SR | C10: EUR/hod | D10: 5.55
A12: Fond pracovnej doby - VS (FPDvs) | B12: Rok 2020 má dokopy 251 pracovných dní, t.j. 1882,5 pracovných hodín. S platenými sviatkami má rok 262 pracovných dní, t.j. 1965 pracovných hodín. 7,5 hodinový pracovný čas (obdobie aktualizovať k času predloženia dokumentu), podľa https://calendar.zoznam.sk/worktime-sksk.php?hy=2019 | C12: hod/rok | D12: 1965
A13: Fond pracovnej doby - NH (FPDnh) | B13: Rok 2020 má dokopy 251 pracovných dní, t.j. 2008 pracovných hodín. S platenými sviatkami má rok 262 pracovných dní, t.j. 2096 pracovných hodín.. 8 hodinový pracovný čas (obdobie aktualizovať k času predloženia dokumentu), podľa https://calendar.zoznam.sk/worktime-sksk.php?hy=2019 | C13: hod/rok | D13: 2096
A14: t1 | B14: Prvý rok, ktorým výpočet CBA a TCO začína, rok začatia projektu | C14: rok | D14: 2020

Sheet Procesné mapy
A1: Neriešené

Sheet Procesy - AS IS
A2: Procesy na strane úradníka (časové hodnoty) | B2: Proces č. 1 | C2: Procesný krok č. 1 | D2: Procesný krok č. 2 | E2: Procesný krok č. 3 | F2: ... | G2: Proces č. 2 | H2: Procesný krok č. 1 | I2: ...
A3: Výsledná hodnota
A4: Zdroj | B4: prosím uveďte zdroj, v prípade vzorového prieskumu prosím vyplňte hodnoty za jednotlivé merania
A5: Meranie č. 1
A6: Meranie č. 2
A7: Meranie č. 3
A8: Meranie č. 4
A9: Meranie č. 5
A10: Meranie č. 6
A11: Meranie č. 7
A12: Meranie č. 8
A13: Meranie č. 9
A14: Meranie č. 10
A15: Meranie č. 11
A16: Meranie č. 12
... A34: Meranie č. 30
A38: Procesy na strane občana (časové hodnoty) | B38: Proces č. 1 | C38: Procesný krok č. 1 | D38: Procesný krok č. 2 | E38: Procesný krok č. 3 | F38: ... | G38: Proces č. 2 | H38: Procesný krok č. 1 | I38: ...
A39: Výsledná hodnota
A40: Zdroj | B40: prosím uveďte zdroj, v prípade vzorového prieskumu prosím vyplňte hodnoty za jednotlivé merania
A41: Meranie č. 1
A42: Meranie č. 2
A43: Meranie č. 3
A44: Meranie č. 4
A45: Meranie č. 5
A46: Meranie č. 6
A47: Meranie č. 7
A48: Meranie č. 8
A49: Meranie č. 9
A50: Meranie č. 10
A51: Meranie č. 11
A52: Meranie č. 12
... A70: Meranie č. 30

Sheet Procesy - To Be
A2: Procesy na strane úradníka (časové hodnoty) | B2: Proces č. 1 | C2: Procesný krok č. 1 | D2: Procesný krok č. 2 | E2: Procesný krok č. 3 | F2: ... | G2: Proces č. 2 | H2: Procesný krok č. 1 | I2: ...
A3: Výsledná hodnota
A4: Zdroj | B4: prosím uveďte zdroj, v prípade vzorového prieskumu prosím vyplňte hodnoty za jednotlivé merania
A5: Meranie č. 1
A6: Meranie č. 2
A7: Meranie č. 3
A8: Meranie č. 4
A9: Meranie č. 5
A10: Meranie č. 6
A11: Meranie č. 7
A12: Meranie č. 8
A13: Meranie č. 9
A14: Meranie č. 10
A15: Meranie č. 11
A16: Meranie č. 12
... A34: Meranie č. 30
A38: Procesy na strane občana (časové hodnoty) | B38: Proces č. 1 | C38: Procesný krok č. 1 | D38: Procesný krok č. 2 | E38: Procesný krok č. 3 | F38: ... | G38: Proces č. 2 | H38: Procesný krok č. 1 | I38: ...
A39: Výsledná hodnota
A40: Zdroj | B40: prosím uveďte zdroj, v prípade vzorového prieskumu prosím vyplňte hodnoty za jednotlivé merania
A41: Meranie č. 1
A42: Meranie č. 2
A43: Meranie č. 3
A44: Meranie č. 4
A45: Meranie č. 5
A46: Meranie č. 6
A47: Meranie č. 7
A48: Meranie č. 8
A49: Meranie č. 9
A50: Meranie č. 10
A51: Meranie č. 11
A52: Meranie č. 12
... A70: Meranie č. 30

Sheet Rozdelenie prínosov
A2: ='Parametre - Agendové IS'!G1 -> Modul 1 | D2: Spolu | F2: organizácia A | G2: organizácia B | H2: organizácia C | I2: organizácia ...
D3: Kontrola TO BE | E3: TO BE | F3: TO BE | G3: TO BE | H3: TO BE | I3: TO BE
A4: Počet zamestnancov vybavujúcich agendu | B4: FTE | C4: t1 | D4: =IF(E4='Parametre - Agendové IS'!H87,"OK","Chyba počtu FTE") -> OK | E4: =F4+G4+H4+I4 -> 0
C5: t2 | D5: =IF(E5='Parametre - Agendové IS'!H88,"OK","Chyba počtu FTE") -> OK | E5: =F5+G5+H5+I5 -> 0
C6: t3 | D6: =IF(E6='Parametre - Agendové IS'!H89,"OK","Chyba počtu FTE") -> OK | E6: =F6+G6+H6+I6 -> 0
C7: t4 | D7: =IF(E7='Parametre - Agendové IS'!H90,"OK","Chyba počtu FTE") -> OK | E7: =F7+G7+H7+I7 -> 0
C8: t5 | D8: =IF(E8='Parametre - Agendové IS'!H91,"OK","Chyba počtu FTE") -> OK | E8: =F8+G8+H8+I8 -> 0
C9: t6 | D9: =IF(E9='Parametre - Agendové IS'!H92,"OK","Chyba počtu FTE") -> OK | E9: =F9+G9+H9+I9 -> 0
C10: t7 | D10: =IF(E10='Parametre - Agendové IS'!H93,"OK","Chyba počtu FTE") -> OK | E10: =F10+G10+H10+I10 -> 0
C11: t8 | D11: =IF(E11='Parametre - Agendové IS'!H94,"OK","Chyba počtu FTE") -> OK | E11: =F11+G11+H11+I11 -> 0
C12: t9 | D12: =IF(E12='Parametre - Agendové IS'!H95,"OK","Chyba počtu FTE") -> OK | E12: =F12+G12+H12+I12 -> 0
C13: t10 | D13: =IF(E13='Parametre - Agendové IS'!H96,"OK","Chyba počtu FTE") -> OK | E13: =F13+G13+H13+I13 -> 0
A14: Počet podaní | B14: počet / rok | C14: t1 | D14: =IF(E14='Parametre - Agendové IS'!H6,"OK","Chyba počtu podaní") -> OK | E14: =F14+G14+H14+I14 -> 0
C15: t2 | D15: =IF(E15='Parametre - Agendové IS'!H7,"OK","Chyba počtu podaní") -> OK | E15: =F15+G15+H15+I15 -> 0
C16: t3 | D16: =IF(E16='Parametre - Agendové IS'!H8,"OK","Chyba počtu podaní") -> OK | E16: =F16+G16+H16+I16 -> 0
C17: t4 | D17: =IF(E17='Parametre - Agendové IS'!H9,"OK","Chyba počtu podaní") -> OK | E17: =F17+G17+H17+I17 -> 0
C18: t5 | D18: =IF(E18='Parametre - Agendové IS'!H10,"OK","Chyba počtu podaní") -> OK | E18: =F18+G18+H18+I18 -> 0
C19: t6 | D19: =IF(E19='Parametre - Agendové IS'!H11,"OK","Chyba počtu podaní") -> OK | E19: =F19+G19+H19+I19 -> 0
C20: t7 | D20: =IF(E20='Parametre - Agendové IS'!H12,"OK","Chyba počtu podaní") -> OK | E20: =F20+G20+H20+I20 -> 0
C21: t8 | D21: =IF(E21='Parametre - Agendové IS'!H13,"OK","Chyba počtu podaní") -> OK | E21: =F21+G21+H21+I21 -> 0
C22: t9 | D22: =IF(E22='Parametre - Agendové IS'!H14,"OK","Chyba počtu podaní") -> OK | E22: =F22+G22+H22+I22 -> 0
C23: t10 | D23: =IF(E23='Parametre - Agendové IS'!H15,"OK","Chyba počtu podaní") -> OK | E23: =F23+G23+H23+I23 -> 0
A24: Kvalitatívne prínosy | B24: EUR | C24: t1 | D24: =IF(E24='Parametre - Agendové IS'!H127,"OK","Chyba") -> OK | E24: =F24+G24+H24+I24 -> 0
C25: t2 | D25: =IF(E25='Parametre - Agendové IS'!H128,"OK","Chyba") -> OK | E25: =F25+G25+H25+I25 -> 0
C26: t3 | D26: =IF(E26='Parametre - Agendové IS'!H129,"OK","Chyba") -> OK | E26: =F26+G26+H26+I26 -> 0
C27: t4 | D27: =IF(E27='Parametre - Agendové IS'!H130,"OK","Chyba") -> OK | E27: =F27+G27+H27+I27 -> 0
C28: t5 | D28: =IF(E28='Parametre - Agendové IS'!H131,"OK","Chyba") -> OK | E28: =F28+G28+H28+I28 -> 0
C29: t6 | D29: =IF(E29='Parametre - Agendové IS'!H132,"OK","Chyba") -> OK | E29: =F29+G29+H29+I29 -> 0
C30: t7 | D30: =IF(E30='Parametre - Agendové IS'!H133,"OK","Chyba") -> OK | E30: =F30+G30+H30+I30 -> 0
C31: t8 | D31: =IF(E31='Parametre - Agendové IS'!H134,"OK","Chyba") -> OK | E31: =F31+G31+H31+I31 -> 0
C32: t9 | D32: =IF(E32='Parametre - Agendové IS'!H135,"OK","Chyba") -> OK | E32: =F32+G32+H32+I32 -> 0
C33: t10 | D33: =IF(E33='Parametre - Agendové IS'!H136,"OK","Chyba") -> OK | E33: =F33+G33+H33+I33 -> 0
A37: ='Parametre - Agendové IS'!J1 -> Modul 2 | D37: Spolu | F37: organizácia A | G37: organizácia B | H37: organizácia C | I37: organizácia ...
D38: Kontrola TO BE | E38: TO BE | F38: TO BE | G38: TO BE | H38: TO BE | I38: TO BE
A39: Počet zamestnancov vybavujúcich agendu | B39: FTE | C39: t1 | D39: =IF(E39='Parametre - Agendové IS'!K87,"OK","Chyba počtu FTE") -> OK | E39: =F39+G39+H39+I39 -> 0
C40: t2 | D40: =IF(E40='Parametre - Agendové IS'!K88,"OK","Chyba počtu FTE") -> OK | E40: =F40+G40+H40+I40 -> 0
C41: t3 | D41: =IF(E41='Parametre - Agendové IS'!K89,"OK","Chyba počtu FTE") -> OK | E41: =F41+G41+H41+I41 -> 0
C42: t4 | D42: =IF(E42='Parametre - Agendové IS'!K90,"OK","Chyba počtu FTE") -> OK | E42: =F42+G42+H42+I42 -> 0
C43: t5 | D43: =IF(E43='Parametre - Agendové IS'!K91,"OK","Chyba počtu FTE") -> OK | E43: =F43+G43+H43+I43 -> 0
C44: t6 | D44: =IF(E44='Parametre - Agendové IS'!K92,"OK","Chyba počtu FTE") -> OK | E44: =F44+G44+H44+I44 -> 0
C45: t7 | D45: =IF(E45='Parametre - Agendové IS'!K93,"OK","Chyba počtu FTE") -> OK | E45: =F45+G45+H45+I45 -> 0
C46: t8 | D46: =IF(E46='Parametre - Agendové IS'!K94,"OK","Chyba počtu FTE") -> OK | E46: =F46+G46+H46+I46 -> 0
C47: t9 | D47: =IF(E47='Parametre - Agendové IS'!K95,"OK","Chyba počtu FTE") -> OK | E47: =F47+G47+H47+I47 -> 0
C48: t10 | D48: =IF(E48='Parametre - Agendové IS'!K96,"OK","Chyba počtu FTE") -> OK | E48: =F48+G48+H48+I48 -> 0
A49: Počet podaní | B49: počet / rok | C49: t1 | D49: =IF(E49='Parametre - Agendové IS'!K6,"OK","Chyba počtu podaní") -> OK | E49: =F49+G49+H49+I49 -> 0
C50: t2 | D50: =IF(E50='Parametre - Agendové IS'!K7,"OK","Chyba počtu podaní") -> OK | E50: =F50+G50+H50+I50 -> 0
C51: t3 | D51: =IF(E51='Parametre - Agendové IS'!K8,"OK","Chyba počtu podaní") -> OK | E51: =F51+G51+H51+I51 -> 0
C52: t4 | D52: =IF(E52='Parametre - Agendové IS'!K9,"OK","Chyba počtu podaní") -> OK | E52: =F52+G52+H52+I52 -> 0
C53: t5 | D53: =IF(E53='Parametre - Agendové IS'!K10,"OK","Chyba počtu podaní") -> OK | E53: =F53+G53+H53+I53 -> 0
C54: t6 | D54: =IF(E54='Parametre - Agendové IS'!K11,"OK","Chyba počtu podaní") -> OK | E54: =F54+G54+H54+I54 -> 0
C55: t7 | D55: =IF(E55='Parametre - Agendové IS'!K12,"OK","Chyba počtu podaní") -> OK | E55: =F55+G55+H55+I55 -> 0
C56: t8 | D56: =IF(E56='Parametre - Agendové IS'!K13,"OK","Chyba počtu podaní") -> OK | E56: =F56+G56+H56+I56 -> 0
C57: t9 | D57: =IF(E57='Parametre - Agendové IS'!K14,"OK","Chyba počtu podaní") -> OK | E57: =F57+G57+H57+I57 -> 0
C58: t10 | D58: =IF(E58='Parametre - Agendové IS'!K15,"OK","Chyba počtu podaní") -> OK | E58: =F58+G58+H58+I58 -> 0
A59: Kvalitatívne prínosy | B59: EUR | C59: t1 | D59: =IF(E59='Parametre - Agendové IS'!K127,"OK","Chyba") -> OK | E59: =F59+G59+H59+I59 -> 0
C60: t2 | D60: =IF(E60='Parametre - Agendové IS'!K128,"OK","Chyba") -> OK | E60: =F60+G60+H60+I60 -> 0
C61: t3 | D61: =IF(E61='Parametre - Agendové IS'!K129,"OK","Chyba") -> OK | E61: =F61+G61+H61+I61 -> 0
C62: t4 | D62: =IF(E62='Parametre - Agendové IS'!K130,"OK","Chyba") -> OK | E62: =F62+G62+H62+I62 -> 0
C63: t5 | D63: =IF(E63='Parametre - Agendové IS'!K131,"OK","Chyba") -> OK | E63: =F63+G63+H63+I63 -> 0
C64: t6 | D64: =IF(E64='Parametre - Agendové IS'!K132,"OK","Chyba") -> OK | E64: =F64+G64+H64+I64 -> 0
C65: t7 | D65: =IF(E65='Parametre - Agendové IS'!K133,"OK","Chyba") -> OK | E65: =F65+G65+H65+I65 -> 0
C66: t8 | D66: =IF(E66='Parametre - Agendové IS'!K134,"OK","Chyba") -> OK | E66: =F66+G66+H66+I66 -> 0
C67: t9 | D67: =IF(E67='Parametre - Agendové IS'!K135,"OK","Chyba") -> OK | E67: =F67+G67+H67+I67 -> 0
C68: t10 | D68: =IF(E68='Parametre - Agendové IS'!K136,"OK","Chyba") -> OK | E68: =F68+G68+H68+I68 -> 0
A72: ='Parametre - Agendové IS'!M1 -> Modul 3 | D72: Spolu | F72: organizácia A | G72: organizácia B | H72: organizácia C | I72: organizácia ...
D73: Kontrola TO BE | E73: TO BE | F73: TO BE | G73: TO BE | H73: TO BE | I73: TO BE
A74: Počet zamestnancov vybavujúcich agendu | B74: FTE | C74: t1 | D74: =IF(E74='Parametre - Agendové IS'!N87,"OK","Chyba počtu FTE") -> OK | E74: =F74+G74+H74+I74 -> 0
C75: t2 | D75: =IF(E75='Parametre - Agendové IS'!N88,"OK","Chyba počtu FTE") -> OK | E75: =F75+G75+H75+I75 -> 0
C76: t3 | D76: =IF(E76='Parametre - Agendové IS'!N89,"OK","Chyba počtu FTE") -> OK | E76: =F76+G76+H76+I76 -> 0
C77: t4 | D77: =IF(E77='Parametre - Agendové IS'!N90,"OK","Chyba počtu FTE") -> OK | E77: =F77+G77+H77+I77 -> 0
C78: t5 | D78: =IF(E78='Parametre - Agendové IS'!N91,"OK","Chyba počtu FTE") -> OK | E78: =F78+G78+H78+I78 -> 0
C79: t6 | D79: =IF(E79='Parametre - Agendové IS'!N92,"OK","Chyba počtu FTE") -> OK | E79: =F79+G79+H79+I79 -> 0
C80: t7 | D80: =IF(E80='Parametre - Agendové IS'!N93,"OK","Chyba počtu FTE") -> OK | E80: =F80+G80+H80+I80 -> 0
C81: t8 | D81: =IF(E81='Parametre - Agendové IS'!N94,"OK","Chyba počtu FTE") -> OK | E81: =F81+G81+H81+I81 -> 0
C82: t9 | D82: =IF(E82='Parametre - Agendové IS'!N95,"OK","Chyba počtu FTE") -> OK | E82: =F82+G82+H82+I82 -> 0
C83: t10 | D83: =IF(E83='Parametre - Agendové IS'!N96,"OK","Chyba počtu FTE") -> OK | E83: =F83+G83+H83+I83 -> 0
A84: Počet podaní | B84: počet / rok | C84: t1 | D84: =IF(E84='Parametre - Agendové IS'!N6,"OK","Chyba počtu podaní") -> OK | E84: =F84+G84+H84+I84 -> 0
C85: t2 | D85: =IF(E85='Parametre - Agendové IS'!N7,"OK","Chyba počtu podaní") -> OK | E85: =F85+G85+H85+I85 -> 0
C86: t3 | D86: =IF(E86='Parametre - Agendové IS'!N8,"OK","Chyba počtu podaní") -> OK | E86: =F86+G86+H86+I86 -> 0
C87: t4 | D87: =IF(E87='Parametre - Agendové IS'!N9,"OK","Chyba počtu podaní") -> OK | E87: =F87+G87+H87+I87 -> 0
C88: t5 | D88: =IF(E88='Parametre - Agendové IS'!N10,"OK","Chyba počtu podaní") -> OK | E88: =F88+G88+H88+I88 -> 0
C89: t6 | D89: =IF(E89='Parametre - Agendové IS'!N11,"OK","Chyba počtu podaní") -> OK | E89: =F89+G89+H89+I89 -> 0
C90: t7 | D90: =IF(E90='Parametre - Agendové IS'!N12,"OK","Chyba počtu podaní") -> OK | E90: =F90+G90+H90+I90 -> 0
C91: t8 | D91: =IF(E91='Parametre - Agendové IS'!N13,"OK","Chyba počtu podaní") -> OK | E91: =F91+G91+H91+I91 -> 0
C92: t9 | D92: =IF(E92='Parametre - Agendové IS'!N14,"OK","Chyba počtu podaní") -> OK | E92: =F92+G92+H92+I92 -> 0
C93: t10 | D93: =IF(E93='Parametre - Agendové IS'!N15,"OK","Chyba počtu podaní") -> OK | E93: =F93+G93+H93+I93 -> 0
A94: Kvalitatívne prínosy | B94: EUR | C94: t1 | D94: =IF(E94='Parametre - Agendové IS'!N127,"OK","Chyba") -> OK | E94: =F94+G94+H94+I94 -> 0
C95: t2 | D95: =IF(E95='Parametre - Agendové IS'!N128,"OK","Chyba") -> OK | E95: =F95+G95+H95+I95 -> 0
C96: t3 | D96: =IF(E96='Parametre - Agendové IS'!N129,"OK","Chyba") -> OK | E96: =F96+G96+H96+I96 -> 0
C97: t4 | D97: =IF(E97='Parametre - Agendové IS'!N130,"OK","Chyba") -> OK | E97: =F97+G97+H97+I97 -> 0
C98: t5 | D98: =IF(E98='Parametre - Agendové IS'!N131,"OK","Chyba") -> OK | E98: =F98+G98+H98+I98 -> 0
C99: t6 | D99: =IF(E99='Parametre - Agendové IS'!N132,"OK","Chyba") -> OK | E99: =F99+G99+H99+I99 -> 0
C100: t7 | D100: =IF(E100='Parametre - Agendové IS'!N133,"OK","Chyba") -> OK | E100: =F100+G100+H100+I100 -> 0
C101: t8 | D101: =IF(E101='Parametre - Agendové IS'!N134,"OK","Chyba") -> OK | E101: =F101+G101+H101+I101 -> 0
C102: t9 | D102: =IF(E102='Parametre - Agendové IS'!N135,"OK","Chyba") -> OK | E102: =F102+G102+H102+I102 -> 0
C103: t10 | D103: =IF(E103='Parametre - Agendové IS'!N136,"OK","Chyba") -> OK | E103: =F103+G103+H103+I103 -> 0
A107: ='Parametre - Agendové IS'!#REF! -> #REF! | D107: Spolu | F107: organizácia A | G107: organizácia B | H107: organizácia C | I107: organizácia ...
D108: Kontrola TO BE | E108: TO BE | F108: TO BE | G108: TO BE | H108: TO BE | I108: TO BE
A109: Počet zamestnancov vybavujúcich agendu | B109: FTE | C109: t1 | D109: =IF(E109='Parametre - Agendové IS'!#REF!,"OK","Chyba počtu FTE") -> #REF! | E109: =F109+G109+H109+I109 -> 0
C110: t2 | D110: =IF(E110='Parametre - Agendové IS'!#REF!,"OK","Chyba počtu FTE") -> #REF! | E110: =F110+G110+H110+I110 -> 0
...

Sheet Sadzby
B1: DWC | C1: Ditec | D1: CoraGeo | E1: Synergon | F1: HP | G1: Priemer MD | H1: Priemer MD bez nadrahšej zmluvy | I1: Cena MD zaokrúhlene | J1: Limit OPII
A2: IT architekt | B2: 740 | C2: 800 | D2: 700 | E2: 750 | F2: 1560 | G2: =AVERAGE(B2:F2) -> 910 | H2: =AVERAGE(B2:E2) -> 747.5 | I2: 750 | J2: 910
A3: IT analytik | B3: 740 | C3: 820 | D3: 700 | E3: 600 | F3: 1560 | G3: =AVERAGE(B3:F3) -> 884 | H3: =AVERAGE(B3:E3) -> 715 | I3: 720 | J3: 740
A4: Špecialista pre infraštruktúry/HW špecialista, dátový špecialista | B4: 725 | C4: 780 | D4: 700 | E4: 700 | F4: 1200 | G4: =AVERAGE(B4:F4) -> 821 | H4: =AVERAGE(B4:E4) -> 726.25 | I4: 730 | J4: 790
A7: Zdroje :
A8: zmluva o vytbvorení informačného systému Register úpadcov (IS RÚ) (HP)
A9: http://www.crz.gov.sk/index.php?ID=1883192&l=sk
A10: Zmluva o poskytovaní servisných služieb na zabezpečenie prevádzky, údržby a aktualizácie Rezortného informačného systému (Ditec )
A11: http://www.crz.gov.sk/index.php?ID=1885367&l=sk
A12: Zmluva o poskytovaní servisných služieb na zabezpečenie udržateľnosti Informačného systému Elektronizácie vzdelávacieho systému regionálneho školstva č. 0399/2017 (DWC)
A13: http://www.crz.gov.sk/index.php?ID=3023431&l=sk
A14: PHZ Synergon a.s. a CoraGeo doručené dňa 5- 6.9.2019
